{"text_format":"1","workbook":"xlsx","n_sheets":8,"sheets":["2015 Stats","2015 entry List","Time On Off","Sign On","Sign Off","2014 Entry","Cheques","2015 entry List (2)"],"not_rendered":{"charts":4,"images":0,"macros":0,"external_links":0,"defined_names":4,"comments":5,"pivot_tables":0},"unopened":[],"bounds":{"document_bytes":16777216,"sheet_cells":100000,"rows_first":2000,"rows_last":500,"rows_between":2000,"halvings":0,"cell_chars":16384,"cell_head_chars":4096},"cells_cut":0,"cells_raw":0,"read":"whole","date_system":"1900"}

{"sheet":"2015 Stats","index":0,"n_rows":57,"n_cols":25,"rows_kept":57,"cut":false,"hidden":true,"merged":[[22,3,22,4],[4,3,4,5],[4,8,4,9],[8,19,9,21],[8,22,9,24],[4,19,4,24],[4,12,4,17],[8,12,9,14],[8,15,9,17]]}
["2015 Stats"]
[]
[]
[]
[null,null,null,"Entries",null,null,"%",null,null,null,null,null,null,null,null,null,null,null,null,"Section Stats (Both Courses)"]
["Laps",1,null,"AJ Course","Exp",15,{"$f":"F6/$F$9","v":0.68181818181818177},null,null,null,null,null,null,null,null,null,null,null,null,"0's","1's","2's","3's","5's","10's"]
["Sect",40,null,null,"Int",4,{"$f":"F7/$F$9","v":0.18181818181818182},null,null,null,null,null,null,null,null,null,null,null,null,{"$f":"SUM('2015 entry List'!BF15:BF114)","v":1416},{"$f":"SUM('2015 entry List'!BG15:BG114)","v":553},{"$f":"SUM('2015 entry List'!BH15:BH114)","v":277},{"$f":"SUM('2015 entry List'!BI15:BI114)","v":535},{"$f":"SUM('2015 entry List'!BJ15:BJ114)","v":226},{"$f":"SUM('2015 entry List'!BK15:BK114)","v":10}]
["Entry",{"$f":"F20","v":91},null,null,"Nov",4,0.18181818181818182,null,null,null,null,null,null,null,null,null,null,null,null,{"$f":"T7/$T$9","v":0.38901098901098902},0.15192307692307691,7.6098901098901092E-2,0.14697802197802198,6.2087912087912089E-2,2.7472527472527475E-3]
[null,null,null,"Total",null,{"$f":"COUNTIF('2015 entry List'!K15:K114,\"1\")","v":22},null,null,null,null,null,null,null,null,null,null,null,null,null,{"$f":"B6*B7*B8","v":3640},null,null,{"$f":"SUM(T7:Y7)","v":3017}]
[]
[]
[]
[]
[null,null,null,"50/50 Course"]
[null,null,null,null,"Exp",4,{"$f":"F15/$F$18","v":5.7971014492753624E-2}]
[null,null,null,null,"Int",12,{"$f":"F16/$F$18","v":0.17391304347826086}]
[null,null,null,null,"Nov",52,0.75362318840579712]
[null,null,null,"Total",null,{"$f":"COUNTIF('2015 entry List'!K15:K114,\"2\")","v":69}]
[]
[null,null,null,"TOTAL",null,{"$f":"SUM(F18,F9)","v":91}]
[]
[]
[null,null,null,"Machines",null,"%"]
[null,null,null,"Beta",{"$f":"COUNTIF('2015 entry List'!$I$15:$I$114,\"bet\")","v":21},{"$f":"E24/$B$8","v":0.23076923076923078}]
[null,null,null,"Gas Gas",{"$f":"COUNTIF('2015 entry List'!$I$15:$I$114,\"gas\")","v":37},{"$f":"E25/$B$8","v":0.40659340659340659}]
[null,null,null,"Sherco",{"$f":"COUNTIF('2015 entry List'!$I$15:$I$114,\"She\")","v":16},0.17582417582417584]
[null,null,null,"Scorpa",{"$f":"COUNTIF('2015 entry List'!$I$15:$I$114,\"Sco\")","v":1},1.098901098901099E-2]
[null,null,null,"Montesa 4RT",{"$f":"COUNTIF('2015 entry List'!$I$15:$I$114,\"4RT\")","v":5},5.4945054945054944E-2]
[null,null,null,"Montesa",{"$f":"COUNTIF('2015 entry List'!$I$15:$I$99,\"mon\")","v":5},5.4945054945054944E-2]
[null,null,null,"Yamaha",{"$f":"COUNTIF('2015 entry List'!$I$15:$I$99,\"Yam\")","v":0},0]
[null,null,null,"Bultaco",{"$f":"COUNTIF('2015 entry List'!$I$15:$I$99,\"bul\")","v":0},0]
[null,null,null,"Ossa",{"$f":"COUNTIF('2015 entry List'!$I$15:$I$99,\"oss\")","v":1},1.098901098901099E-2]
[null,null,null,"Honda",{"$f":"COUNTIF('2015 entry List'!$I$15:$I$99,\"hon\")","v":4},4.3956043956043959E-2]
[]
[]
[]
[]
[null,null,null,null,{"$f":"A38","v":0}]
[]
[]
[null,null,null,null,null,null,null,null,null,"% of marks lost Both Courses"]
[null,null,null,1,2,3,4,5,6,7,8,9,10,11,12,13,14,15,16,17,18,19,20]
[null,null,0,{"$f":"'2015 entry List'!O115/'2015 Stats'!$B$8","v":0.47252747252747251},{"$f":"'2015 entry List'!P115/'2015 Stats'!$B$8","v":0.7142857142857143},{"$f":"'2015 entry List'!Q115/'2015 Stats'!$B$8","v":0.42857142857142855},{"$f":"'2015 entry List'!R115/'2015 Stats'!$B$8","v":0.24175824175824176},{"$f":"'2015 entry List'!S115/'2015 Stats'!$B$8","v":0.14285714285714285},{"$f":"'2015 entry List'!T115/'2015 Stats'!$B$8","v":0.16483516483516483},{"$f":"'2015 entry List'!U115/'2015 Stats'!$B$8","v":0.10989010989010989},{"$f":"'2015 entry List'!V115/'2015 Stats'!$B$8","v":0.46153846153846156},{"$f":"'2015 entry List'!W115/'2015 Stats'!$B$8","v":0.38461538461538464},{"$f":"'2015 entry List'!X115/'2015 Stats'!$B$8","v":0.2857142857142857},{"$f":"'2015 entry List'!Y115/'2015 Stats'!$B$8","v":0.32967032967032966},{"$f":"'2015 entry List'!Z115/'2015 Stats'!$B$8","v":0.2857142857142857},{"$f":"'2015 entry List'!AA115/'2015 Stats'!$B$8","v":0.45054945054945056},{"$f":"'2015 entry List'!AB115/'2015 Stats'!$B$8","v":0.21978021978021978},{"$f":"'2015 entry List'!AC115/'2015 Stats'!$B$8","v":0.27472527472527475},{"$f":"'2015 entry List'!AD115/'2015 Stats'!$B$8","v":0.35164835164835168},{"$f":"'2015 entry List'!AE115/'2015 Stats'!$B$8","v":0.4175824175824176},{"$f":"'2015 entry List'!AF115/'2015 Stats'!$B$8","v":0.40659340659340659},{"$f":"'2015 entry List'!AG115/'2015 Stats'!$B$8","v":0.39560439560439559},{"$f":"'2015 entry List'!AH115/'2015 Stats'!$B$8","v":1.098901098901099E-2}]
[null,null,1,{"$f":"'2015 entry List'!O116/'2015 Stats'!$B$8","v":0.30769230769230771},{"$f":"'2015 entry List'!P116/'2015 Stats'!$B$8","v":9.8901098901098897E-2},{"$f":"'2015 entry List'!Q116/'2015 Stats'!$B$8","v":0.26373626373626374},{"$f":"'2015 entry List'!R116/'2015 Stats'!$B$8","v":0.13186813186813187},{"$f":"'2015 entry List'!S116/'2015 Stats'!$B$8","v":0.18681318681318682},{"$f":"'2015 entry List'!T116/'2015 Stats'!$B$8","v":0.18681318681318682},{"$f":"'2015 entry List'!U116/'2015 Stats'!$B$8","v":0.12087912087912088},{"$f":"'2015 entry List'!V116/'2015 Stats'!$B$8","v":0.18681318681318682},{"$f":"'2015 entry List'!W116/'2015 Stats'!$B$8","v":0.27472527472527475},{"$f":"'2015 entry List'!X116/'2015 Stats'!$B$8","v":0.17582417582417584},{"$f":"'2015 entry List'!Y116/'2015 Stats'!$B$8","v":0.24175824175824176},{"$f":"'2015 entry List'!Z116/'2015 Stats'!$B$8","v":0.18681318681318682},{"$f":"'2015 entry List'!AA116/'2015 Stats'!$B$8","v":0.10989010989010989},{"$f":"'2015 entry List'!AB116/'2015 Stats'!$B$8","v":0.27472527472527475},{"$f":"'2015 entry List'!AC116/'2015 Stats'!$B$8","v":9.8901098901098897E-2},{"$f":"'2015 entry List'!AD116/'2015 Stats'!$B$8","v":0.23076923076923078},{"$f":"'2015 entry List'!AE116/'2015 Stats'!$B$8","v":0.15384615384615385},{"$f":"'2015 entry List'!AF116/'2015 Stats'!$B$8","v":0.18681318681318682},{"$f":"'2015 entry List'!AG116/'2015 Stats'!$B$8","v":0.13186813186813187},{"$f":"'2015 entry List'!AH116/'2015 Stats'!$B$8","v":0.12087912087912088}]
[null,null,2,{"$f":"'2015 entry List'!O117/'2015 Stats'!$B$8","v":5.4945054945054944E-2},{"$f":"'2015 entry List'!P117/'2015 Stats'!$B$8","v":2.197802197802198E-2},{"$f":"'2015 entry List'!Q117/'2015 Stats'!$B$8","v":6.5934065934065936E-2},{"$f":"'2015 entry List'!R117/'2015 Stats'!$B$8","v":0.13186813186813187},{"$f":"'2015 entry List'!S117/'2015 Stats'!$B$8","v":0.17582417582417584},{"$f":"'2015 entry List'!T117/'2015 Stats'!$B$8","v":0.14285714285714285},{"$f":"'2015 entry List'!U117/'2015 Stats'!$B$8","v":6.5934065934065936E-2},{"$f":"'2015 entry List'!V117/'2015 Stats'!$B$8","v":5.4945054945054944E-2},{"$f":"'2015 entry List'!W117/'2015 Stats'!$B$8","v":6.5934065934065936E-2},{"$f":"'2015 entry List'!X117/'2015 Stats'!$B$8","v":0.16483516483516483},{"$f":"'2015 entry List'!Y117/'2015 Stats'!$B$8","v":7.6923076923076927E-2},{"$f":"'2015 entry List'!Z117/'2015 Stats'!$B$8","v":7.6923076923076927E-2},{"$f":"'2015 entry List'!AA117/'2015 Stats'!$B$8","v":7.6923076923076927E-2},{"$f":"'2015 entry List'!AB117/'2015 Stats'!$B$8","v":0.13186813186813187},{"$f":"'2015 entry List'!AC117/'2015 Stats'!$B$8","v":6.5934065934065936E-2},{"$f":"'2015 entry List'!AD117/'2015 Stats'!$B$8","v":0.12087912087912088},{"$f":"'2015 entry List'!AE117/'2015 Stats'!$B$8","v":7.6923076923076927E-2},{"$f":"'2015 entry List'!AF117/'2015 Stats'!$B$8","v":6.5934065934065936E-2},{"$f":"'2015 entry List'!AG117/'2015 Stats'!$B$8","v":0.10989010989010989},{"$f":"'2015 entry List'!AH117/'2015 Stats'!$B$8","v":0.10989010989010989}]
[null,null,3,{"$f":"'2015 entry List'!O118/'2015 Stats'!$B$8","v":7.6923076923076927E-2},{"$f":"'2015 entry List'!P118/'2015 Stats'!$B$8","v":2.197802197802198E-2},{"$f":"'2015 entry List'!Q118/'2015 Stats'!$B$8","v":0.14285714285714285},{"$f":"'2015 entry List'!R118/'2015 Stats'!$B$8","v":0.31868131868131866},{"$f":"'2015 entry List'!S118/'2015 Stats'!$B$8","v":0.35164835164835168},{"$f":"'2015 entry List'!T118/'2015 Stats'!$B$8","v":0.30769230769230771},{"$f":"'2015 entry List'!U118/'2015 Stats'!$B$8","v":0.43956043956043955},{"$f":"'2015 entry List'!V118/'2015 Stats'!$B$8","v":0.15384615384615385},{"$f":"'2015 entry List'!W118/'2015 Stats'!$B$8","v":0.13186813186813187},{"$f":"'2015 entry List'!X118/'2015 Stats'!$B$8","v":0.17582417582417584},{"$f":"'2015 entry List'!Y118/'2015 Stats'!$B$8","v":0.19780219780219779},{"$f":"'2015 entry List'!Z118/'2015 Stats'!$B$8","v":0.31868131868131866},{"$f":"'2015 entry List'!AA118/'2015 Stats'!$B$8","v":0.13186813186813187},{"$f":"'2015 entry List'!AB118/'2015 Stats'!$B$8","v":0.19780219780219779},{"$f":"'2015 entry List'!AC118/'2015 Stats'!$B$8","v":0.2857142857142857},{"$f":"'2015 entry List'!AD118/'2015 Stats'!$B$8","v":7.6923076923076927E-2},{"$f":"'2015 entry List'!AE118/'2015 Stats'!$B$8","v":7.6923076923076927E-2},{"$f":"'2015 entry List'!AF118/'2015 Stats'!$B$8","v":7.6923076923076927E-2},{"$f":"'2015 entry List'!AG118/'2015 Stats'!$B$8","v":0.12087912087912088},{"$f":"'2015 entry List'!AH118/'2015 Stats'!$B$8","v":0.39560439560439559}]
[null,null,5,{"$f":"'2015 entry List'!O119/'2015 Stats'!$B$8","v":0},{"$f":"'2015 entry List'!P119/'2015 Stats'!$B$8","v":5.4945054945054944E-2},{"$f":"'2015 entry List'!Q119/'2015 Stats'!$B$8","v":1.098901098901099E-2},{"$f":"'2015 entry List'!R119/'2015 Stats'!$B$8","v":7.6923076923076927E-2},{"$f":"'2015 entry List'!S119/'2015 Stats'!$B$8","v":5.4945054945054944E-2},{"$f":"'2015 entry List'!T119/'2015 Stats'!$B$8","v":9.8901098901098897E-2},{"$f":"'2015 entry List'!U119/'2015 Stats'!$B$8","v":0.16483516483516483},{"$f":"'2015 entry List'!V119/'2015 Stats'!$B$8","v":4.3956043956043959E-2},{"$f":"'2015 entry List'!W119/'2015 Stats'!$B$8","v":4.3956043956043959E-2},{"$f":"'2015 entry List'!X119/'2015 Stats'!$B$8","v":6.5934065934065936E-2},{"$f":"'2015 entry List'!Y119/'2015 Stats'!$B$8","v":2.197802197802198E-2},{"$f":"'2015 entry List'!Z119/'2015 Stats'!$B$8","v":0},{"$f":"'2015 entry List'!AA119/'2015 Stats'!$B$8","v":6.5934065934065936E-2},{"$f":"'2015 entry List'!AB119/'2015 Stats'!$B$8","v":1.098901098901099E-2},{"$f":"'2015 entry List'!AC119/'2015 Stats'!$B$8","v":7.6923076923076927E-2},{"$f":"'2015 entry List'!AD119/'2015 Stats'!$B$8","v":2.197802197802198E-2},{"$f":"'2015 entry List'!AE119/'2015 Stats'!$B$8","v":7.6923076923076927E-2},{"$f":"'2015 entry List'!AF119/'2015 Stats'!$B$8","v":6.5934065934065936E-2},{"$f":"'2015 entry List'!AG119/'2015 Stats'!$B$8","v":4.3956043956043959E-2},{"$f":"'2015 entry List'!AH119/'2015 Stats'!$B$8","v":0.15384615384615385}]
[null,null,10,{"$f":"'2015 entry List'!O120/'2015 Stats'!$B$8","v":0},{"$f":"'2015 entry List'!P120/'2015 Stats'!$B$8","v":0},{"$f":"'2015 entry List'!Q120/'2015 Stats'!$B$8","v":0},{"$f":"'2015 entry List'!R120/'2015 Stats'!$B$8","v":0},{"$f":"'2015 entry List'!S120/'2015 Stats'!$B$8","v":0},{"$f":"'2015 entry List'!T120/'2015 Stats'!$B$8","v":0},{"$f":"'2015 entry List'!U120/'2015 Stats'!$B$8","v":0},{"$f":"'2015 entry List'!V120/'2015 Stats'!$B$8","v":0},{"$f":"'2015 entry List'!W120/'2015 Stats'!$B$8","v":0},{"$f":"'2015 entry List'!X120/'2015 Stats'!$B$8","v":1.098901098901099E-2},{"$f":"'2015 entry List'!Y120/'2015 Stats'!$B$8","v":0},{"$f":"'2015 entry List'!Z120/'2015 Stats'!$B$8","v":0},{"$f":"'2015 entry List'!AA120/'2015 Stats'!$B$8","v":0},{"$f":"'2015 entry List'!AB120/'2015 Stats'!$B$8","v":0},{"$f":"'2015 entry List'!AC120/'2015 Stats'!$B$8","v":0},{"$f":"'2015 entry List'!AD120/'2015 Stats'!$B$8","v":0},{"$f":"'2015 entry List'!AE120/'2015 Stats'!$B$8","v":0},{"$f":"'2015 entry List'!AF120/'2015 Stats'!$B$8","v":0},{"$f":"'2015 entry List'!AG120/'2015 Stats'!$B$8","v":0},{"$f":"'2015 entry List'!AH120/'2015 Stats'!$B$8","v":0}]
[]
[]
[null,null,null,21,22,23,24,25,26,27,28,29,30,31,32,33,34,35,36,37,38,39,40]
[null,null,0,{"$f":"'2015 entry List'!AI115/'2015 Stats'!$B$8","v":0.53846153846153844},{"$f":"'2015 entry List'!AJ115/'2015 Stats'!$B$8","v":0.19780219780219779},{"$f":"'2015 entry List'!AK115/'2015 Stats'!$B$8","v":0.26373626373626374},{"$f":"'2015 entry List'!AL115/'2015 Stats'!$B$8","v":0.61538461538461542},{"$f":"'2015 entry List'!AM115/'2015 Stats'!$B$8","v":0.67032967032967028},{"$f":"'2015 entry List'!AN115/'2015 Stats'!$B$8","v":0.60439560439560436},{"$f":"'2015 entry List'!AO115/'2015 Stats'!$B$8","v":0.5494505494505495},{"$f":"'2015 entry List'!AP115/'2015 Stats'!$B$8","v":0.45054945054945056},{"$f":"'2015 entry List'!AQ115/'2015 Stats'!$B$8","v":0.46153846153846156},{"$f":"'2015 entry List'!AR115/'2015 Stats'!$B$8","v":0.63736263736263732},{"$f":"'2015 entry List'!AS115/'2015 Stats'!$B$8","v":0.79120879120879117},{"$f":"'2015 entry List'!AT115/'2015 Stats'!$B$8","v":0.15384615384615385},{"$f":"'2015 entry List'!AU115/'2015 Stats'!$B$8","v":0.46153846153846156},{"$f":"'2015 entry List'!AV115/'2015 Stats'!$B$8","v":0.5494505494505495},{"$f":"'2015 entry List'!AW115/'2015 Stats'!$B$8","v":0.74725274725274726},{"$f":"'2015 entry List'!AX115/'2015 Stats'!$B$8","v":0.2857142857142857},{"$f":"'2015 entry List'!AY115/'2015 Stats'!$B$8","v":0.39560439560439559},{"$f":"'2015 entry List'!AZ115/'2015 Stats'!$B$8","v":0.12087912087912088},{"$f":"'2015 entry List'!BA115/'2015 Stats'!$B$8","v":0.38461538461538464},{"$f":"'2015 entry List'!BB115/'2015 Stats'!$B$8","v":0.13186813186813187}]
[null,null,1,{"$f":"'2015 entry List'!AI116/'2015 Stats'!$B$8","v":0.13186813186813187},{"$f":"'2015 entry List'!AJ116/'2015 Stats'!$B$8","v":0.19780219780219779},{"$f":"'2015 entry List'!AK116/'2015 Stats'!$B$8","v":0.2087912087912088},{"$f":"'2015 entry List'!AL116/'2015 Stats'!$B$8","v":7.6923076923076927E-2},{"$f":"'2015 entry List'!AM116/'2015 Stats'!$B$8","v":9.8901098901098897E-2},{"$f":"'2015 entry List'!AN116/'2015 Stats'!$B$8","v":6.5934065934065936E-2},{"$f":"'2015 entry List'!AO116/'2015 Stats'!$B$8","v":8.7912087912087919E-2},{"$f":"'2015 entry List'!AP116/'2015 Stats'!$B$8","v":8.7912087912087919E-2},{"$f":"'2015 entry List'!AQ116/'2015 Stats'!$B$8","v":0.10989010989010989},{"$f":"'2015 entry List'!AR116/'2015 Stats'!$B$8","v":6.5934065934065936E-2},{"$f":"'2015 entry List'!AS116/'2015 Stats'!$B$8","v":0},{"$f":"'2015 entry List'!AT116/'2015 Stats'!$B$8","v":0.23076923076923078},{"$f":"'2015 entry List'!AU116/'2015 Stats'!$B$8","v":0.16483516483516483},{"$f":"'2015 entry List'!AV116/'2015 Stats'!$B$8","v":7.6923076923076927E-2},{"$f":"'2015 entry List'!AW116/'2015 Stats'!$B$8","v":1.098901098901099E-2},{"$f":"'2015 entry List'!AX116/'2015 Stats'!$B$8","v":0.27472527472527475},{"$f":"'2015 entry List'!AY116/'2015 Stats'!$B$8","v":0.14285714285714285},{"$f":"'2015 entry List'!AZ116/'2015 Stats'!$B$8","v":0.12087912087912088},{"$f":"'2015 entry List'!BA116/'2015 Stats'!$B$8","v":0.2087912087912088},{"$f":"'2015 entry List'!BB116/'2015 Stats'!$B$8","v":4.3956043956043959E-2}]
[null,null,2,{"$f":"'2015 entry List'!AI117/'2015 Stats'!$B$8","v":1.098901098901099E-2},{"$f":"'2015 entry List'!AJ117/'2015 Stats'!$B$8","v":0.13186813186813187},{"$f":"'2015 entry List'!AK117/'2015 Stats'!$B$8","v":0.13186813186813187},{"$f":"'2015 entry List'!AL117/'2015 Stats'!$B$8","v":2.197802197802198E-2},{"$f":"'2015 entry List'!AM117/'2015 Stats'!$B$8","v":1.098901098901099E-2},{"$f":"'2015 entry List'!AN117/'2015 Stats'!$B$8","v":5.4945054945054944E-2},{"$f":"'2015 entry List'!AO117/'2015 Stats'!$B$8","v":4.3956043956043959E-2},{"$f":"'2015 entry List'!AP117/'2015 Stats'!$B$8","v":6.5934065934065936E-2},{"$f":"'2015 entry List'!AQ117/'2015 Stats'!$B$8","v":6.5934065934065936E-2},{"$f":"'2015 entry List'!AR117/'2015 Stats'!$B$8","v":1.098901098901099E-2},{"$f":"'2015 entry List'!AS117/'2015 Stats'!$B$8","v":0},{"$f":"'2015 entry List'!AT117/'2015 Stats'!$B$8","v":7.6923076923076927E-2},{"$f":"'2015 entry List'!AU117/'2015 Stats'!$B$8","v":7.6923076923076927E-2},{"$f":"'2015 entry List'!AV117/'2015 Stats'!$B$8","v":6.5934065934065936E-2},{"$f":"'2015 entry List'!AW117/'2015 Stats'!$B$8","v":1.098901098901099E-2},{"$f":"'2015 entry List'!AX117/'2015 Stats'!$B$8","v":8.7912087912087919E-2},{"$f":"'2015 entry List'!AY117/'2015 Stats'!$B$8","v":9.8901098901098897E-2},{"$f":"'2015 entry List'!AZ117/'2015 Stats'!$B$8","v":0.10989010989010989},{"$f":"'2015 entry List'!BA117/'2015 Stats'!$B$8","v":7.6923076923076927E-2},{"$f":"'2015 entry List'!BB117/'2015 Stats'!$B$8","v":2.197802197802198E-2}]
[null,null,3,{"$f":"'2015 entry List'!AI118/'2015 Stats'!$B$8","v":6.5934065934065936E-2},{"$f":"'2015 entry List'!AJ118/'2015 Stats'!$B$8","v":0.15384615384615385},{"$f":"'2015 entry List'!AK118/'2015 Stats'!$B$8","v":0.13186813186813187},{"$f":"'2015 entry List'!AL118/'2015 Stats'!$B$8","v":4.3956043956043959E-2},{"$f":"'2015 entry List'!AM118/'2015 Stats'!$B$8","v":0},{"$f":"'2015 entry List'!AN118/'2015 Stats'!$B$8","v":0},{"$f":"'2015 entry List'!AO118/'2015 Stats'!$B$8","v":3.2967032967032968E-2},{"$f":"'2015 entry List'!AP118/'2015 Stats'!$B$8","v":9.8901098901098897E-2},{"$f":"'2015 entry List'!AQ118/'2015 Stats'!$B$8","v":9.8901098901098897E-2},{"$f":"'2015 entry List'!AR118/'2015 Stats'!$B$8","v":5.4945054945054944E-2},{"$f":"'2015 entry List'!AS118/'2015 Stats'!$B$8","v":0},{"$f":"'2015 entry List'!AT118/'2015 Stats'!$B$8","v":0.26373626373626374},{"$f":"'2015 entry List'!AU118/'2015 Stats'!$B$8","v":7.6923076923076927E-2},{"$f":"'2015 entry List'!AV118/'2015 Stats'!$B$8","v":7.6923076923076927E-2},{"$f":"'2015 entry List'!AW118/'2015 Stats'!$B$8","v":0},{"$f":"'2015 entry List'!AX118/'2015 Stats'!$B$8","v":7.6923076923076927E-2},{"$f":"'2015 entry List'!AY118/'2015 Stats'!$B$8","v":6.5934065934065936E-2},{"$f":"'2015 entry List'!AZ118/'2015 Stats'!$B$8","v":0.2967032967032967},{"$f":"'2015 entry List'!BA118/'2015 Stats'!$B$8","v":9.8901098901098897E-2},{"$f":"'2015 entry List'!BB118/'2015 Stats'!$B$8","v":0.21978021978021978}]
[null,null,5,{"$f":"'2015 entry List'!AI119/'2015 Stats'!$B$8","v":3.2967032967032968E-2},{"$f":"'2015 entry List'!AJ119/'2015 Stats'!$B$8","v":9.8901098901098897E-2},{"$f":"'2015 entry List'!AK119/'2015 Stats'!$B$8","v":5.4945054945054944E-2},{"$f":"'2015 entry List'!AL119/'2015 Stats'!$B$8","v":3.2967032967032968E-2},{"$f":"'2015 entry List'!AM119/'2015 Stats'!$B$8","v":1.098901098901099E-2},{"$f":"'2015 entry List'!AN119/'2015 Stats'!$B$8","v":6.5934065934065936E-2},{"$f":"'2015 entry List'!AO119/'2015 Stats'!$B$8","v":7.6923076923076927E-2},{"$f":"'2015 entry List'!AP119/'2015 Stats'!$B$8","v":8.7912087912087919E-2},{"$f":"'2015 entry List'!AQ119/'2015 Stats'!$B$8","v":5.4945054945054944E-2},{"$f":"'2015 entry List'!AR119/'2015 Stats'!$B$8","v":2.197802197802198E-2},{"$f":"'2015 entry List'!AS119/'2015 Stats'!$B$8","v":0},{"$f":"'2015 entry List'!AT119/'2015 Stats'!$B$8","v":5.4945054945054944E-2},{"$f":"'2015 entry List'!AU119/'2015 Stats'!$B$8","v":1.098901098901099E-2},{"$f":"'2015 entry List'!AV119/'2015 Stats'!$B$8","v":2.197802197802198E-2},{"$f":"'2015 entry List'!AW119/'2015 Stats'!$B$8","v":2.197802197802198E-2},{"$f":"'2015 entry List'!AX119/'2015 Stats'!$B$8","v":5.4945054945054944E-2},{"$f":"'2015 entry List'!AY119/'2015 Stats'!$B$8","v":7.6923076923076927E-2},{"$f":"'2015 entry List'!AZ119/'2015 Stats'!$B$8","v":0.13186813186813187},{"$f":"'2015 entry List'!BA119/'2015 Stats'!$B$8","v":1.098901098901099E-2},{"$f":"'2015 entry List'!BB119/'2015 Stats'!$B$8","v":0.36263736263736263}]
[null,null,10,{"$f":"'2015 entry List'!AI120/'2015 Stats'!$B$8","v":0},{"$f":"'2015 entry List'!AJ120/'2015 Stats'!$B$8","v":0},{"$f":"'2015 entry List'!AK120/'2015 Stats'!$B$8","v":0},{"$f":"'2015 entry List'!AL120/'2015 Stats'!$B$8","v":0},{"$f":"'2015 entry List'!AM120/'2015 Stats'!$B$8","v":0},{"$f":"'2015 entry List'!AN120/'2015 Stats'!$B$8","v":0},{"$f":"'2015 entry List'!AO120/'2015 Stats'!$B$8","v":0},{"$f":"'2015 entry List'!AP120/'2015 Stats'!$B$8","v":0},{"$f":"'2015 entry List'!AQ120/'2015 Stats'!$B$8","v":0},{"$f":"'2015 entry List'!AR120/'2015 Stats'!$B$8","v":0},{"$f":"'2015 entry List'!AS120/'2015 Stats'!$B$8","v":0},{"$f":"'2015 entry List'!AT120/'2015 Stats'!$B$8","v":0},{"$f":"'2015 entry List'!AU120/'2015 Stats'!$B$8","v":0},{"$f":"'2015 entry List'!AV120/'2015 Stats'!$B$8","v":0},{"$f":"'2015 entry List'!AW120/'2015 Stats'!$B$8","v":0},{"$f":"'2015 entry List'!AX120/'2015 Stats'!$B$8","v":0},{"$f":"'2015 entry List'!AY120/'2015 Stats'!$B$8","v":0},{"$f":"'2015 entry List'!AZ120/'2015 Stats'!$B$8","v":0},{"$f":"'2015 entry List'!BA120/'2015 Stats'!$B$8","v":0},{"$f":"'2015 entry List'!BB120/'2015 Stats'!$B$8","v":0}]

{"sheet":"2015 entry List","index":1,"n_rows":120,"n_cols":68,"rows_kept":120,"cut":false,"hidden":true,"merged":[[12,51,12,52],[0,14,0,53],[0,54,0,55],[0,56,0,62],[12,14,12,16],[12,42,12,43],[12,17,12,20],[12,21,12,22],[12,23,12,27],[12,28,12,29],[12,30,12,31],[12,48,12,50],[12,34,12,35],[12,36,12,38],[12,39,12,41],[12,44,12,47]]}
[null,null,null,null,null,null,null,null,null,null,null,null,null,null,"Enter scores from cards/punch cards 0,1,2,3,5. If missed a section enter '10'",null,null,null,null,null,null,null,null,null,null,null,null,null,null,null,null,null,null,null,null,null,null,null,null,null,null,null,null,null,null,null,null,null,null,null,null,null,null,null,"Enter late start and/or late finish. (Max 20mins)",null,"Do not enter numbers here these totals will auto update"]
[]
[]
[]
[]
[]
[]
[null,null,"Laps",1]
[null,null,"Sections",40]
[null,null,"Entries",{"$f":"COUNTA(H15:H114)","v":92}]
[]
[]
[null,null,null,null,null,null,null,null,null,null,null,null,null,null,"Flame Thrower",null,null,"Fountains Fell",null,null,null,"Litton Track",null,"Ellershaw Farm",null,null,null,null,"Arncliffe Scree",null,null,null,"Sleets","hawkswick","Redmire",null,"Hagg Gill",null,null,"Yockenthwaite",null,null,"Raisgill",null,"Bouther Gill",null,null,null,"Wilks",null,null,"Penters A",null,"Halton Gill","late start","late finish","total","0s","1s","2s","3s","5s","10s",null,"Check 1","Check2","%  completed","% of MS"]
[100305,"RJ Sadler",30,null,32,101796,42,"Richard Sadler","Bet","E",1,"West Witton","10:21:30",{"$f":"M14+TIME(7,0,0)","v":"17:21:30"},0,0,1,0,0,0,0,0,0,2,0,0,0,0,0,0,0,0,0,0,0,0,0,0,0,0,0,0,0,0,0,0,0,0,0,0,0,0,0,0,null,null,{"$f":"SUM(O14:BD14)","v":3},{"$f":"COUNTIF(O14:BB14,0)","v":38},{"$f":"COUNTIF(O14:BB14,1)","v":1},{"$f":"COUNTIF(O14:BB14,2)","v":1},{"$f":"COUNTIF(O14:BB14,3)","v":0},{"$f":"COUNTIF(O14:BB14,5)","v":0},{"$f":"COUNTIF(O14:BB14,10)","v":0}]
[322,"Ian Austermuhle",30,null,13,5401,56,"Ian Austermuhle","Bet","E",1,"Malton","10:28:30",{"$f":"M15+TIME(7,0,0)","v":"17:28:30"},0,0,0,0,1,1,0,0,0,0,0,0,1,1,0,0,0,0,2,0,3,0,0,0,0,0,0,0,0,0,0,0,0,0,0,0,0,0,2,0,null,null,{"$f":"SUM(O15:BD15)","v":11},{"$f":"COUNTIF(O15:BB15,0)","v":33},{"$f":"COUNTIF(O15:BB15,1)","v":4},{"$f":"COUNTIF(O15:BB15,2)","v":2},{"$f":"COUNTIF(O15:BB15,3)","v":1},{"$f":"COUNTIF(O15:BB15,5)","v":0},{"$f":"COUNTIF(O15:BB15,10)","v":0},null,{"$f":"$D$9*$D$8","v":40},{"$f":"SUM(BF15:BK15)","v":40},{"$f":"BN15/BM15","v":1},{"$f":"BK15/BN15","v":0}]
[260,"P waite",30,null,2,109873,57,"Rob Waite","bet","E",1,"Darlington","10:29:00",{"$f":"M16+TIME(7,0,0)","v":"17:29:00"},0,0,0,0,2,1,0,2,0,2,1,0,2,1,0,0,0,0,2,1,1,0,0,0,0,0,0,0,0,0,0,3,0,0,0,0,0,0,1,0,null,null,{"$f":"SUM(O16:BD16)","v":19},{"$f":"COUNTIF(O16:BB16,0)","v":28},{"$f":"COUNTIF(O16:BB16,1)","v":6},{"$f":"COUNTIF(O16:BB16,2)","v":5},{"$f":"COUNTIF(O16:BB16,3)","v":1},{"$f":"COUNTIF(O16:BB16,5)","v":0},{"$f":"COUNTIF(O16:BB16,10)","v":0},null,{"$f":"$D$9*$D$8","v":40},{"$f":"SUM(BF16:BK16)","v":40},{"$f":"BN16/BM16","v":1},{"$f":"BK16/BN16","v":0}]
[100412,"D Thorpe",60,null,33,10678,45,"Dan Thorpe","Gas","E",1,"Sheffield","10:23:00",{"$f":"M17+TIME(7,0,0)","v":"17:23:00"},0,0,1,0,5,0,1,5,0,1,0,0,0,1,0,0,0,5,0,1,0,0,0,0,0,0,0,0,0,0,0,1,0,0,0,1,1,0,0,0,null,null,{"$f":"SUM(O17:BD17)","v":23},{"$f":"COUNTIF(O17:BB17,0)","v":29},{"$f":"COUNTIF(O17:BB17,1)","v":8},{"$f":"COUNTIF(O17:BB17,2)","v":0},{"$f":"COUNTIF(O17:BB17,3)","v":0},{"$f":"COUNTIF(O17:BB17,5)","v":3},{"$f":"COUNTIF(O17:BB17,10)","v":0},null,{"$f":"$D$9*$D$8","v":40},{"$f":"SUM(BF17:BK17)","v":40},{"$f":"BN17/BM17","v":1},{"$f":"BK17/BN17","v":0}]
[22106,"G Kendreew",30,null,31,65411,54,"Guy Kendrew","Bet","E",1,"Faceby","10:27:30",{"$f":"M18+TIME(7,0,0)","v":"17:27:30"},0,0,1,0,0,1,2,0,0,2,0,0,0,2,0,0,0,0,0,1,1,5,0,0,0,0,0,0,1,0,0,0,0,0,0,0,2,3,0,0,3,null,{"$f":"SUM(O18:BD18)","v":24},{"$f":"COUNTIF(O18:BB18,0)","v":29},{"$f":"COUNTIF(O18:BB18,1)","v":5},{"$f":"COUNTIF(O18:BB18,2)","v":4},{"$f":"COUNTIF(O18:BB18,3)","v":1},{"$f":"COUNTIF(O18:BB18,5)","v":1},{"$f":"COUNTIF(O18:BB18,10)","v":0},null,{"$f":"$D$9*$D$8","v":40},{"$f":"SUM(BF18:BK18)","v":40},{"$f":"BN18/BM18","v":1},{"$f":"BK18/BN18","v":0}]
[100060,"DJ Gamble",30,null,55,63776,62,"Danny Gamble","She","E",1,"Harrogate","10:31:30",{"$f":"M19+TIME(7,0,0)","v":"17:31:30"},0,0,0,0,0,1,3,3,1,1,1,0,0,1,0,0,5,2,2,1,0,0,0,0,0,0,0,0,0,0,0,0,0,0,0,0,1,3,0,0,null,null,{"$f":"SUM(O19:BD19)","v":25},{"$f":"COUNTIF(O19:BB19,0)","v":27},{"$f":"COUNTIF(O19:BB19,1)","v":7},{"$f":"COUNTIF(O19:BB19,2)","v":2},{"$f":"COUNTIF(O19:BB19,3)","v":3},{"$f":"COUNTIF(O19:BB19,5)","v":1},{"$f":"COUNTIF(O19:BB19,10)","v":0},null,{"$f":"$D$9*$D$8","v":40},{"$f":"SUM(BF19:BK19)","v":40},{"$f":"BN19/BM19","v":1},{"$f":"BK19/BN19","v":0}]
[49,"Area ISI Ltd",30,null,61,99931,58,"Sam Beecroft-Penny","She","E",1,"Yeadon","10:29:30",{"$f":"M20+TIME(7,0,0)","v":"17:29:30"},0,0,0,0,3,5,0,1,1,0,0,0,0,3,0,0,0,0,2,3,0,1,0,0,0,0,0,0,3,0,0,1,0,0,0,5,1,1,1,1,null,null,{"$f":"SUM(O20:BD20)","v":32},{"$f":"COUNTIF(O20:BB20,0)","v":25},{"$f":"COUNTIF(O20:BB20,1)","v":8},{"$f":"COUNTIF(O20:BB20,2)","v":1},{"$f":"COUNTIF(O20:BB20,3)","v":4},{"$f":"COUNTIF(O20:BB20,5)","v":2},{"$f":"COUNTIF(O20:BB20,10)","v":0},null,{"$f":"$D$9*$D$8","v":40},{"$f":"SUM(BF20:BK20)","v":40},{"$f":"BN20/BM20","v":1},{"$f":"BK20/BN20","v":0}]
[100407,"N Wrigglesworth",30,null,85,28520,51,"Nathan Wrigglesworth","She","E",1,"Cowling","10:26:00",{"$f":"M21+TIME(7,0,0)","v":"17:26:00"},0,2,0,1,0,0,0,3,0,2,0,1,3,1,1,0,0,1,2,3,1,0,0,0,0,0,0,1,1,0,0,1,0,0,0,2,2,3,1,0,null,null,{"$f":"SUM(O21:BD21)","v":32},{"$f":"COUNTIF(O21:BB21,0)","v":21},{"$f":"COUNTIF(O21:BB21,1)","v":10},{"$f":"COUNTIF(O21:BB21,2)","v":5},{"$f":"COUNTIF(O21:BB21,3)","v":4},{"$f":"COUNTIF(O21:BB21,5)","v":0},{"$f":"COUNTIF(O21:BB21,10)","v":0},null,{"$f":"$D$9*$D$8","v":40},{"$f":"SUM(BF21:BK21)","v":40},{"$f":"BN21/BM21","v":1},{"$f":"BK21/BN21","v":0}]
[null,"PAY PAL",30,null,86,11400,47,"Chris Pearson","She","E",1,"Dronfield","10:24:00",{"$f":"M22+TIME(7,0,0)","v":"17:24:00"},0,0,1,0,1,1,1,0,2,1,1,0,2,1,0,0,0,2,0,1,1,0,2,0,1,0,0,0,3,0,0,1,0,0,0,0,3,5,1,1,null,null,{"$f":"SUM(O22:BD22)","v":32},{"$f":"COUNTIF(O22:BB22,0)","v":20},{"$f":"COUNTIF(O22:BB22,1)","v":13},{"$f":"COUNTIF(O22:BB22,2)","v":4},{"$f":"COUNTIF(O22:BB22,3)","v":2},{"$f":"COUNTIF(O22:BB22,5)","v":1},{"$f":"COUNTIF(O22:BB22,10)","v":0},null,{"$f":"$D$9*$D$8","v":40},{"$f":"SUM(BF22:BK22)","v":40},{"$f":"BN22/BM22","v":1},{"$f":"BK22/BN22","v":0}]
[100069,"A Drachenberg",30,null,67,28757,60,"Aran Drachenberg","Bet","E",1,"Skipton","10:30:30",{"$f":"M23+TIME(7,0,0)","v":"17:30:30"},0,0,0,1,2,0,3,5,1,2,2,0,3,3,0,0,0,2,1,2,3,5,0,0,1,0,0,1,1,0,0,0,0,0,0,2,2,3,1,0,null,null,{"$f":"SUM(O23:BD23)","v":46},{"$f":"COUNTIF(O23:BB23,0)","v":19},{"$f":"COUNTIF(O23:BB23,1)","v":7},{"$f":"COUNTIF(O23:BB23,2)","v":7},{"$f":"COUNTIF(O23:BB23,3)","v":5},{"$f":"COUNTIF(O23:BB23,5)","v":2},{"$f":"COUNTIF(O23:BB23,10)","v":0},null,{"$f":"$D$9*$D$8","v":40},{"$f":"SUM(BF23:BK23)","v":40},{"$f":"BN23/BM23","v":1},{"$f":"BK23/BN23","v":0}]
[10,"Sam Yeadon",30,null,1,99635,63,"Sam Yeadon","Bet","E",1,"Boston Spa","10:32:00",{"$f":"M24+TIME(7,0,0)","v":"17:32:00"},0,0,1,5,3,1,3,0,1,1,1,0,3,1,1,0,0,0,1,1,0,5,0,5,0,0,0,0,2,3,0,3,0,1,0,0,5,2,0,3,11,null,{"$f":"SUM(O24:BD24)","v":63},{"$f":"COUNTIF(O24:BB24,0)","v":18},{"$f":"COUNTIF(O24:BB24,1)","v":10},{"$f":"COUNTIF(O24:BB24,2)","v":2},{"$f":"COUNTIF(O24:BB24,3)","v":6},{"$f":"COUNTIF(O24:BB24,5)","v":4},{"$f":"COUNTIF(O24:BB24,10)","v":0},null,{"$f":"$D$9*$D$8","v":40},{"$f":"SUM(BF24:BK24)","v":40},{"$f":"BN24/BM24","v":1},{"$f":"BK24/BN24","v":0}]
[101381,"A Ayrton",30,null,30,6704,55,"Anthony Ayrton","She","I",1,"Barnoldswick","10:28:00",{"$f":"M25+TIME(7,0,0)","v":"17:28:00"},0,3,3,0,3,0,3,1,1,3,0,3,2,3,3,0,1,1,2,3,1,5,0,0,5,0,0,5,3,1,0,1,0,3,0,1,5,5,0,0,null,null,{"$f":"SUM(O25:BD25)","v":70},{"$f":"COUNTIF(O25:BB25,0)","v":14},{"$f":"COUNTIF(O25:BB25,1)","v":8},{"$f":"COUNTIF(O25:BB25,2)","v":2},{"$f":"COUNTIF(O25:BB25,3)","v":11},{"$f":"COUNTIF(O25:BB25,5)","v":5},{"$f":"COUNTIF(O25:BB25,10)","v":0},null,{"$f":"$D$9*$D$8","v":40},{"$f":"SUM(BF25:BK25)","v":40},{"$f":"BN25/BM25","v":1},{"$f":"BK25/BN25","v":0}]
[".",null,null,null,79,11415,49,"Mark Reynolds","Gas","N",1,"Skipton","10:25:00",{"$f":"M26+TIME(7,0,0)","v":"17:25:00"},1,5,3,0,3,1,3,1,3,3,0,2,3,3,2,0,1,3,3,5,3,2,1,1,1,0,0,0,5,0,0,5,0,1,0,0,5,3,1,0,null,null,{"$f":"SUM(O26:BD26)","v":73},{"$f":"COUNTIF(O26:BB26,0)","v":12},{"$f":"COUNTIF(O26:BB26,1)","v":9},{"$f":"COUNTIF(O26:BB26,2)","v":3},{"$f":"COUNTIF(O26:BB26,3)","v":11},{"$f":"COUNTIF(O26:BB26,5)","v":5},{"$f":"COUNTIF(O26:BB26,10)","v":0},null,{"$f":"$D$9*$D$8","v":40},{"$f":"SUM(BF26:BK26)","v":40},{"$f":"BN26/BM26","v":1},{"$f":"BK26/BN26","v":0}]
[".",null,null,null,53,76765,43,"Sam Jennings","Gas","N",1,"Guisley","10:22:00",{"$f":"M27+TIME(7,0,0)","v":"17:22:00"},0,5,3,1,5,0,2,3,3,3,2,1,3,3,3,0,1,5,2,3,5,2,0,1,2,0,1,0,3,0,0,5,0,3,0,1,2,5,3,1,null,null,{"$f":"SUM(O27:BD27)","v":82},{"$f":"COUNTIF(O27:BB27,0)","v":10},{"$f":"COUNTIF(O27:BB27,1)","v":7},{"$f":"COUNTIF(O27:BB27,2)","v":6},{"$f":"COUNTIF(O27:BB27,3)","v":11},{"$f":"COUNTIF(O27:BB27,5)","v":6},{"$f":"COUNTIF(O27:BB27,10)","v":0},null,{"$f":"$D$9*$D$8","v":40},{"$f":"SUM(BF27:BK27)","v":40},{"$f":"BN27/BM27","v":1},{"$f":"BK27/BN27","v":0}]
[null,"Pay Pal",null,null,52,108918,44,"Joe Jennings","Gas","E",1,"Guiseley","10:22:30",{"$f":"M28+TIME(7,0,0)","v":"17:22:30"},0,5,3,1,3,3,3,2,3,2,0,1,3,3,0,0,1,3,1,5,1,5,5,0,1,0,1,0,5,1,0,5,0,3,0,1,5,5,2,1,null,null,{"$f":"SUM(O28:BD28)","v":83},{"$f":"COUNTIF(O28:BB28,0)","v":10},{"$f":"COUNTIF(O28:BB28,1)","v":10},{"$f":"COUNTIF(O28:BB28,2)","v":3},{"$f":"COUNTIF(O28:BB28,3)","v":9},{"$f":"COUNTIF(O28:BB28,5)","v":8},{"$f":"COUNTIF(O28:BB28,10)","v":0},null,{"$f":"$D$9*$D$8","v":40},{"$f":"SUM(BF28:BK28)","v":40},{"$f":"BN28/BM28","v":1},{"$f":"BK28/BN28","v":0}]
[1956,"S Sharp",60,null,78,92940,50,"Simon Sharp","Gas","N",1,"Flasby","10:25:30",{"$f":"M29+TIME(7,0,0)","v":"17:25:30"},1,1,3,0,3,5,5,3,2,3,3,0,3,3,0,2,2,5,3,3,5,3,1,2,0,0,5,0,5,0,0,3,0,1,0,1,5,3,1,0,null,null,{"$f":"SUM(O29:BD29)","v":85},{"$f":"COUNTIF(O29:BB29,0)","v":11},{"$f":"COUNTIF(O29:BB29,1)","v":6},{"$f":"COUNTIF(O29:BB29,2)","v":4},{"$f":"COUNTIF(O29:BB29,3)","v":12},{"$f":"COUNTIF(O29:BB29,5)","v":7},{"$f":"COUNTIF(O29:BB29,10)","v":0},null,{"$f":"$D$9*$D$8","v":40},{"$f":"SUM(BF29:BK29)","v":40},{"$f":"BN29/BM29","v":1},{"$f":"BK29/BN29","v":0}]
[null,"PAY PAL",30,null,88,23655,48,"Danny Cockshott","Gas","I",1,"Guiseley","10:24:30",{"$f":"M30+TIME(7,0,0)","v":"17:24:30"},1,0,5,0,3,0,3,3,1,5,1,0,2,3,5,5,5,0,5,3,3,5,1,3,0,0,0,0,3,3,0,1,0,3,0,0,5,5,2,3,null,null,{"$f":"SUM(O30:BD30)","v":87},{"$f":"COUNTIF(O30:BB30,0)","v":13},{"$f":"COUNTIF(O30:BB30,1)","v":5},{"$f":"COUNTIF(O30:BB30,2)","v":2},{"$f":"COUNTIF(O30:BB30,3)","v":11},{"$f":"COUNTIF(O30:BB30,5)","v":9},{"$f":"COUNTIF(O30:BB30,10)","v":0},null,{"$f":"$D$9*$D$8","v":40},{"$f":"SUM(BF30:BK30)","v":40},{"$f":"BN30/BM30","v":1},{"$f":"BK30/BN30","v":0}]
[null,"PAY PAL",30,null,5,null,41,"Martin Crosswaite","4RT","E",1,"Keighley","10:21:00",{"$f":"M31+TIME(7,0,0)","v":"17:21:00"},0,0,1,0,0,0,0,1,5,null,null,null,null,null,null,null,null,null,null,null,null,null,null,null,null,null,null,null,null,null,null,null,null,null,null,null,null,null,null,null,null,null,"RET",{"$f":"COUNTIF(O31:BB31,0)","v":6},{"$f":"COUNTIF(O31:BB31,1)","v":2},{"$f":"COUNTIF(O31:BB31,2)","v":0},{"$f":"COUNTIF(O31:BB31,3)","v":0},{"$f":"COUNTIF(O31:BB31,5)","v":1},{"$f":"COUNTIF(O31:BB31,10)","v":0},null,{"$f":"$D$9*$D$8","v":40},{"$f":"SUM(BF31:BK31)","v":9},{"$f":"BN31/BM31","v":0.22500000000000001},{"$f":"BK31/BN31","v":0}]
[67,"Gary Rushton",30,null,81,101963,61,"Thomas Rushton","4RT","I",1,"Trawden","10:31:00",{"$f":"M32+TIME(7,0,0)","v":"17:31:00"},0,0,2,0,3,1,3,2,3,3,0,0,null,null,null,null,null,null,null,null,null,null,null,null,null,null,null,null,null,null,null,null,null,null,null,null,null,null,null,null,null,null,"RET",{"$f":"COUNTIF(O32:BB32,0)","v":5},{"$f":"COUNTIF(O32:BB32,1)","v":1},{"$f":"COUNTIF(O32:BB32,2)","v":2},{"$f":"COUNTIF(O32:BB32,3)","v":4},{"$f":"COUNTIF(O32:BB32,5)","v":0},{"$f":"COUNTIF(O32:BB32,10)","v":0},null,{"$f":"$D$9*$D$8","v":40},{"$f":"SUM(BF32:BK32)","v":12},{"$f":"BN32/BM32","v":0.3},{"$f":"BK32/BN32","v":0}]
[100060,"WJ Reynolds",30,null,82,90659,46,"William Reynolds","Bet","E",1,"Skeeby","10:23:30",{"$f":"M33+TIME(7,0,0)","v":"17:23:30"},0,1,3,3,3,0,1,2,3,3,0,0,5,5,null,null,null,null,null,null,null,null,null,null,null,null,null,null,null,null,null,null,null,null,null,null,null,null,null,null,2,null,"RET",{"$f":"COUNTIF(O33:BB33,0)","v":4},{"$f":"COUNTIF(O33:BB33,1)","v":2},{"$f":"COUNTIF(O33:BB33,2)","v":1},{"$f":"COUNTIF(O33:BB33,3)","v":5},{"$f":"COUNTIF(O33:BB33,5)","v":2},{"$f":"COUNTIF(O33:BB33,10)","v":0},null,{"$f":"$D$9*$D$8","v":40},{"$f":"SUM(BF33:BK33)","v":14},{"$f":"BN33/BM33","v":0.35},{"$f":"BK33/BN33","v":0}]
[".",null,null,null,42,127000,59,"David West","Gas","I",1,"Stoke on Trent","10:30:00",{"$f":"M34+TIME(7,0,0)","v":"17:30:00"},0,0,0,0,5,2,3,2,5,null,null,null,null,null,null,null,null,null,null,null,null,null,null,null,null,null,null,null,null,null,null,null,null,null,null,null,null,null,null,null,null,null,"RET",{"$f":"COUNTIF(O34:BB34,0)","v":4},{"$f":"COUNTIF(O34:BB34,1)","v":0},{"$f":"COUNTIF(O34:BB34,2)","v":2},{"$f":"COUNTIF(O34:BB34,3)","v":1},{"$f":"COUNTIF(O34:BB34,5)","v":2},{"$f":"COUNTIF(O34:BB34,10)","v":0},null,{"$f":"$D$9*$D$8","v":40},{"$f":"SUM(BF34:BK34)","v":9},{"$f":"BN34/BM34","v":0.22500000000000001},{"$f":"BK34/BN34","v":0}]
[100121,"John Lydamore",30,null,77,117927,52,"John Lydamore","Gas","N",1,"Loathley","10:26:30",{"$f":"M35+TIME(7,0,0)","v":"17:26:30"},1,5,3,2,3,0,5,3,1,5,3,0,null,null,3,0,1,1,3,null,null,null,null,null,null,null,null,null,null,null,null,null,null,null,null,null,null,null,null,null,null,null,"RET",{"$f":"COUNTIF(O35:BB35,0)","v":3},{"$f":"COUNTIF(O35:BB35,1)","v":4},{"$f":"COUNTIF(O35:BB35,2)","v":1},{"$f":"COUNTIF(O35:BB35,3)","v":6},{"$f":"COUNTIF(O35:BB35,5)","v":3},{"$f":"COUNTIF(O35:BB35,10)","v":0},null,{"$f":"$D$9*$D$8","v":40},{"$f":"SUM(BF35:BK35)","v":17},{"$f":"BN35/BM35","v":0.42499999999999999},{"$f":"BK35/BN35","v":0}]
[".",null,null,null,34,64043,53,"Phil Disney","4RT","E",1,"Keighley","10:27:00",{"$f":"M36+TIME(7,0,0)","v":"17:27:00"},0,0,2,0,1,1,1,1,5,null,null,null,null,null,null,null,null,null,null,null,null,null,null,null,null,null,null,null,null,null,null,null,null,null,null,null,null,null,null,null,2,null,"RET",{"$f":"COUNTIF(O36:BB36,0)","v":3},{"$f":"COUNTIF(O36:BB36,1)","v":4},{"$f":"COUNTIF(O36:BB36,2)","v":1},{"$f":"COUNTIF(O36:BB36,3)","v":0},{"$f":"COUNTIF(O36:BB36,5)","v":1},{"$f":"COUNTIF(O36:BB36,10)","v":0},null,{"$f":"$D$9*$D$8","v":40},{"$f":"SUM(BF36:BK36)","v":9},{"$f":"BN36/BM36","v":0.22500000000000001},{"$f":"BK36/BN36","v":0}]
["Chq No","Name","Amount",null,null,"ACU","No.","Name","Bike","CL","CO","Town","Start","Finish",1,2,3,4,5,6,7,8,9,10,11,12,13,14,15,16,17,18,19,20,21,22,23,24,25,26,27,28,29,30,31,32,33,34,35,36,37,38,39,40,null,null,"tOTal",0,1,2,3,5,10,null,{"$f":"$D$9*$D$8","v":40},{"$f":"SUM(BF37:BK37)","v":21},{"$f":"BN37/BM37","v":0.52500000000000002},{"$f":"BK37/BN37","v":0.47619047619047616}]
[100079,"C Stelling",30,null,47,65440,23,"Chris Stelling","Hon","N",2,"Gilstead","10:12:00",{"$f":"M38+TIME(7,0,0)","v":"17:12:00"},null,null,null,null,null,null,null,null,null,null,null,null,null,null,null,null,null,null,null,null,null,null,null,null,null,null,null,null,null,null,null,null,null,null,null,null,null,null,null,null,null,null,{"$f":"SUM(O38:BD38)","v":0},{"$f":"COUNTIF(O38:BB38,0)","v":0},{"$f":"COUNTIF(O38:BB38,1)","v":0},{"$f":"COUNTIF(O38:BB38,2)","v":0},{"$f":"COUNTIF(O38:BB38,3)","v":0},{"$f":"COUNTIF(O38:BB38,5)","v":0},{"$f":"COUNTIF(O38:BB38,10)","v":0},null,{"$f":"$D$9*$D$8","v":40},{"$f":"SUM(BF38:BK38)","v":0},{"$f":"BN38/BM38","v":0},{"$f":"BK38/BN38","v":{"$error":"#DIV/0!"}}]
[".","PAY PAL 28.88",null,null,75,11146,26,"Roger Williams","Mon","I",2,"Stockton on Tees","10:13:30",{"$f":"M39+TIME(7,0,0)","v":"17:13:30"},0,0,0,1,0,0,0,0,0,0,0,0,0,0,0,0,0,0,0,1,0,0,0,0,0,0,0,0,0,0,0,0,0,0,0,0,0,0,0,0,null,null,{"$f":"SUM(O39:BD39)","v":2},{"$f":"COUNTIF(O39:BB39,0)","v":38},{"$f":"COUNTIF(O39:BB39,1)","v":2},{"$f":"COUNTIF(O39:BB39,2)","v":0},{"$f":"COUNTIF(O39:BB39,3)","v":0},{"$f":"COUNTIF(O39:BB39,5)","v":0},{"$f":"COUNTIF(O39:BB39,10)","v":0},null,{"$f":"$D$9*$D$8","v":40},{"$f":"SUM(BF39:BK39)","v":40},{"$f":"BN39/BM39","v":1},{"$f":"BK39/BN39","v":0}]
[22113,"Alan Mudd",30,null,60,113572,88,"Alan Mudd","Bet","N",2,"Skipton","10:45:00",{"$f":"M40+TIME(7,0,0)","v":"17:45:00"},0,0,0,2,0,0,1,0,0,0,0,0,0,1,0,0,0,0,0,5,0,0,2,0,1,0,0,0,0,0,0,0,0,0,0,0,0,2,0,0,null,null,{"$f":"SUM(O40:BD40)","v":14},{"$f":"COUNTIF(O40:BB40,0)","v":33},{"$f":"COUNTIF(O40:BB40,1)","v":3},{"$f":"COUNTIF(O40:BB40,2)","v":3},{"$f":"COUNTIF(O40:BB40,3)","v":0},{"$f":"COUNTIF(O40:BB40,5)","v":1},{"$f":"COUNTIF(O40:BB40,10)","v":0},null,{"$f":"$D$9*$D$8","v":40},{"$f":"SUM(BF40:BK40)","v":40},{"$f":"BN40/BM40","v":1},{"$f":"BK40/BN40","v":0}]
[111,null,null,null,7,72694,35,"Steve Swanson","Bet","E",2,"Finedon","10:18:00",{"$f":"M41+TIME(7,0,0)","v":"17:18:00"},0,0,0,0,1,2,0,0,0,2,0,0,0,0,0,0,0,0,1,2,0,0,0,0,0,0,0,0,0,0,0,0,0,2,0,0,0,3,0,3,1,null,{"$f":"SUM(O41:BD41)","v":17},{"$f":"COUNTIF(O41:BB41,0)","v":32},{"$f":"COUNTIF(O41:BB41,1)","v":2},{"$f":"COUNTIF(O41:BB41,2)","v":4},{"$f":"COUNTIF(O41:BB41,3)","v":2},{"$f":"COUNTIF(O41:BB41,5)","v":0},{"$f":"COUNTIF(O41:BB41,10)","v":0},null,{"$f":"$D$9*$D$8","v":40},{"$f":"SUM(BF41:BK41)","v":40},{"$f":"BN41/BM41","v":1},{"$f":"BK41/BN41","v":0}]
[562,"TA Jackson",30,null,17,5957,83,"Andrew Jackson","Sco","N",2,"Thornhill","10:42:30",{"$f":"M42+TIME(7,0,0)","v":"17:42:30"},0,0,0,2,1,0,2,0,0,0,1,1,0,1,0,0,0,0,0,2,0,0,1,0,0,0,0,0,0,0,0,3,0,0,0,1,0,0,0,2,null,null,{"$f":"SUM(O42:BD42)","v":17},{"$f":"COUNTIF(O42:BB42,0)","v":29},{"$f":"COUNTIF(O42:BB42,1)","v":6},{"$f":"COUNTIF(O42:BB42,2)","v":4},{"$f":"COUNTIF(O42:BB42,3)","v":1},{"$f":"COUNTIF(O42:BB42,5)","v":0},{"$f":"COUNTIF(O42:BB42,10)","v":0},null,{"$f":"$D$9*$D$8","v":40},{"$f":"SUM(BF42:BK42)","v":40},{"$f":"BN42/BM42","v":1},{"$f":"BK42/BN42","v":0}]
[536249,"PD Bennett",150,null,39,10984,67,"Paul Bennett","She","I",2,"Tunstall","10:34:00",{"$f":"M43+TIME(7,0,0)","v":"17:34:00"},0,0,0,3,2,0,2,0,0,0,1,1,0,0,0,2,0,1,0,1,0,0,1,0,0,0,0,0,0,0,0,0,0,0,0,1,0,3,1,3,null,null,{"$f":"SUM(O43:BD43)","v":22},{"$f":"COUNTIF(O43:BB43,0)","v":27},{"$f":"COUNTIF(O43:BB43,1)","v":7},{"$f":"COUNTIF(O43:BB43,2)","v":3},{"$f":"COUNTIF(O43:BB43,3)","v":3},{"$f":"COUNTIF(O43:BB43,5)","v":0},{"$f":"COUNTIF(O43:BB43,10)","v":0},null,{"$f":"$D$9*$D$8","v":40},{"$f":"SUM(BF43:BK43)","v":40},{"$f":"BN43/BM43","v":1},{"$f":"BK43/BN43","v":0}]
[null,"PAY PAL 29.88",null,null,92,10289,30,"Howard Gulley","Gas","N",2,"Pudsey","10:15:30",{"$f":"M44+TIME(7,0,0)","v":"17:15:30"},0,0,1,0,0,3,3,0,0,0,1,0,0,1,0,1,1,1,0,2,0,1,2,0,0,0,0,0,0,0,0,3,0,0,0,1,0,2,1,3,null,null,{"$f":"SUM(O44:BD44)","v":27},{"$f":"COUNTIF(O44:BB44,0)","v":24},{"$f":"COUNTIF(O44:BB44,1)","v":9},{"$f":"COUNTIF(O44:BB44,2)","v":3},{"$f":"COUNTIF(O44:BB44,3)","v":4},{"$f":"COUNTIF(O44:BB44,5)","v":0},{"$f":"COUNTIF(O44:BB44,10)","v":0},null,{"$f":"$D$9*$D$8","v":40},{"$f":"SUM(BF44:BK44)","v":40},{"$f":"BN44/BM44","v":1},{"$f":"BK44/BN44","v":0}]
[100404,"K Sunter",30,null,35,20279,39,"Katy Sunter","Gas","N",2,"Sheffield","10:20:00",{"$f":"M45+TIME(7,0,0)","v":"17:20:00"},1,0,1,0,1,5,5,0,1,0,0,1,0,0,0,0,1,0,0,1,0,2,0,0,0,0,0,0,0,0,0,3,0,0,0,1,0,3,0,3,null,null,{"$f":"SUM(O45:BD45)","v":29},{"$f":"COUNTIF(O45:BB45,0)","v":26},{"$f":"COUNTIF(O45:BB45,1)","v":8},{"$f":"COUNTIF(O45:BB45,2)","v":1},{"$f":"COUNTIF(O45:BB45,3)","v":3},{"$f":"COUNTIF(O45:BB45,5)","v":2},{"$f":"COUNTIF(O45:BB45,10)","v":0},null,{"$f":"$D$9*$D$8","v":40},{"$f":"SUM(BF45:BK45)","v":40},{"$f":"BN45/BM45","v":1},{"$f":"BK45/BN45","v":0}]
[292,"P Scott",30,null,73,108543,80,"Phil Scott","Gas","N",2,"Barrowford","10:41:00",{"$f":"M46+TIME(7,0,0)","v":"17:41:00"},0,0,1,2,2,1,1,1,0,1,0,1,null,null,0,1,0,1,0,2,null,null,1,0,0,0,0,5,0,0,0,1,1,0,0,1,0,1,0,5,null,null,{"$f":"SUM(O46:BD46)","v":29},{"$f":"COUNTIF(O46:BB46,0)","v":18},{"$f":"COUNTIF(O46:BB46,1)","v":13},{"$f":"COUNTIF(O46:BB46,2)","v":3},{"$f":"COUNTIF(O46:BB46,3)","v":0},{"$f":"COUNTIF(O46:BB46,5)","v":2},{"$f":"COUNTIF(O46:BB46,10)","v":0},null,{"$f":"$D$9*$D$8","v":40},{"$f":"SUM(BF46:BK46)","v":36},{"$f":"BN46/BM46","v":0.9},{"$f":"BK46/BN46","v":0}]
[100330,"JH Lee",60,null,6,6173,34,"Jonathan Lee","Bet","E",2,"Higham Ferrers","10:17:30",{"$f":"M47+TIME(7,0,0)","v":"17:17:30"},0,0,0,1,2,1,2,1,0,5,1,0,0,2,0,0,0,0,0,3,0,3,1,0,0,0,0,0,0,0,0,1,0,0,0,0,0,2,0,3,2,null,{"$f":"SUM(O47:BD47)","v":30},{"$f":"COUNTIF(O47:BB47,0)","v":26},{"$f":"COUNTIF(O47:BB47,1)","v":6},{"$f":"COUNTIF(O47:BB47,2)","v":4},{"$f":"COUNTIF(O47:BB47,3)","v":3},{"$f":"COUNTIF(O47:BB47,5)","v":1},{"$f":"COUNTIF(O47:BB47,10)","v":0},null,{"$f":"$D$9*$D$8","v":40},{"$f":"SUM(BF47:BK47)","v":40},{"$f":"BN47/BM47","v":1},{"$f":"BK47/BN47","v":0}]
[922,"JT Gornall",30,null,76,96572,74,"John Gornall","Gas","I",2,"Longridge","10:38:00",{"$f":"M48+TIME(7,0,0)","v":"17:38:00"},0,0,0,1,1,3,1,1,0,0,2,1,0,0,3,0,0,0,0,3,0,3,0,0,0,0,0,0,0,0,0,1,0,0,0,0,0,3,2,5,null,null,{"$f":"SUM(O48:BD48)","v":30},{"$f":"COUNTIF(O48:BB48,0)","v":26},{"$f":"COUNTIF(O48:BB48,1)","v":6},{"$f":"COUNTIF(O48:BB48,2)","v":2},{"$f":"COUNTIF(O48:BB48,3)","v":5},{"$f":"COUNTIF(O48:BB48,5)","v":1},{"$f":"COUNTIF(O48:BB48,10)","v":0},null,{"$f":"$D$9*$D$8","v":40},{"$f":"SUM(BF48:BK48)","v":40},{"$f":"BN48/BM48","v":1},{"$f":"BK48/BN48","v":0}]
[100417,"M Hartley",30,null,83,145940,37,"Mark Hartley","Gas","N",2,"Roughlee","10:19:00",{"$f":"M49+TIME(7,0,0)","v":"17:19:00"},1,0,0,3,1,3,3,0,2,2,2,1,0,0,1,0,0,1,0,2,0,0,1,0,0,0,0,0,0,0,0,null,0,0,0,0,0,1,0,5,1,null,{"$f":"SUM(O49:BD49)","v":30},{"$f":"COUNTIF(O49:BB49,0)","v":24},{"$f":"COUNTIF(O49:BB49,1)","v":7},{"$f":"COUNTIF(O49:BB49,2)","v":4},{"$f":"COUNTIF(O49:BB49,3)","v":3},{"$f":"COUNTIF(O49:BB49,5)","v":1},{"$f":"COUNTIF(O49:BB49,10)","v":0},null,{"$f":"$D$9*$D$8","v":40},{"$f":"SUM(BF49:BK49)","v":39},{"$f":"BN49/BM49","v":0.97499999999999998},{"$f":"BK49/BN49","v":0}]
["PAYPAL","PAY PAL",null,null,65,63824,40,"Paul Jackson","Mon","i",2,"Baildon","10:20:30",{"$f":"M50+TIME(7,0,0)","v":"17:20:30"},2,0,1,3,0,1,0,0,1,1,1,0,0,0,0,0,0,0,0,1,0,1,1,0,0,0,1,1,1,0,0,2,0,0,0,2,1,3,1,5,null,null,{"$f":"SUM(O50:BD50)","v":30},{"$f":"COUNTIF(O50:BB50,0)","v":21},{"$f":"COUNTIF(O50:BB50,1)","v":13},{"$f":"COUNTIF(O50:BB50,2)","v":3},{"$f":"COUNTIF(O50:BB50,3)","v":2},{"$f":"COUNTIF(O50:BB50,5)","v":1},{"$f":"COUNTIF(O50:BB50,10)","v":0},null,{"$f":"$D$9*$D$8","v":40},{"$f":"SUM(BF50:BK50)","v":40},{"$f":"BN50/BM50","v":1},{"$f":"BK50/BN50","v":0}]
[null,"PAY PAL 29.88",null,null,91,83184,29,"Mark Chippendale","Gas","N",2,"Pudsey","10:15:00",{"$f":"M51+TIME(7,0,0)","v":"17:15:00"},0,0,1,3,0,1,3,0,0,1,0,3,0,0,3,1,0,0,0,3,0,2,0,0,0,0,3,0,1,0,0,1,0,0,0,1,1,1,0,3,null,null,{"$f":"SUM(O51:BD51)","v":32},{"$f":"COUNTIF(O51:BB51,0)","v":23},{"$f":"COUNTIF(O51:BB51,1)","v":9},{"$f":"COUNTIF(O51:BB51,2)","v":1},{"$f":"COUNTIF(O51:BB51,3)","v":7},{"$f":"COUNTIF(O51:BB51,5)","v":0},{"$f":"COUNTIF(O51:BB51,10)","v":0},null,{"$f":"$D$9*$D$8","v":40},{"$f":"SUM(BF51:BK51)","v":40},{"$f":"BN51/BM51","v":1},{"$f":"BK51/BN51","v":0}]
[22103,"Miss Morrell",30,null,44,90891,32,"Paul Gravestock","Gas","N",2,"Shipley","10:16:30",{"$f":"M52+TIME(7,0,0)","v":"17:16:30"},0,3,0,3,1,3,5,0,1,0,1,1,2,1,0,1,0,2,0,3,0,0,0,0,0,0,0,2,0,0,0,1,0,0,0,0,0,0,0,3,null,null,{"$f":"SUM(O52:BD52)","v":33},{"$f":"COUNTIF(O52:BB52,0)","v":24},{"$f":"COUNTIF(O52:BB52,1)","v":7},{"$f":"COUNTIF(O52:BB52,2)","v":3},{"$f":"COUNTIF(O52:BB52,3)","v":5},{"$f":"COUNTIF(O52:BB52,5)","v":1},{"$f":"COUNTIF(O52:BB52,10)","v":0},null,{"$f":"$D$9*$D$8","v":40},{"$f":"SUM(BF52:BK52)","v":40},{"$f":"BN52/BM52","v":1},{"$f":"BK52/BN52","v":0}]
["Cash",null,30,null,37,124050,20,"Julian Ingham","Bet","E",2,"Bacup","10:10:30",{"$f":"M53+TIME(7,0,0)","v":"17:10:30"},1,1,0,3,0,3,3,0,3,0,0,1,0,0,3,2,1,0,1,3,0,0,1,0,0,0,0,0,0,0,0,0,1,0,0,1,0,1,0,5,null,null,{"$f":"SUM(O53:BD53)","v":34},{"$f":"COUNTIF(O53:BB53,0)","v":23},{"$f":"COUNTIF(O53:BB53,1)","v":9},{"$f":"COUNTIF(O53:BB53,2)","v":1},{"$f":"COUNTIF(O53:BB53,3)","v":6},{"$f":"COUNTIF(O53:BB53,5)","v":1},{"$f":"COUNTIF(O53:BB53,10)","v":0},null,{"$f":"$D$9*$D$8","v":40},{"$f":"SUM(BF53:BK53)","v":40},{"$f":"BN53/BM53","v":1},{"$f":"BK53/BN53","v":0}]
[null,"PAY PAL 29.88",89.64,null,90,18081,28,"Mark Forster","Gas","N",2,"Leeds","10:14:30",{"$f":"M54+TIME(7,0,0)","v":"17:14:30"},1,0,0,2,0,3,1,1,0,0,3,3,0,1,1,0,0,0,0,3,0,2,5,0,0,0,1,1,0,0,0,1,1,0,0,0,0,0,1,3,null,null,{"$f":"SUM(O54:BD54)","v":34},{"$f":"COUNTIF(O54:BB54,0)","v":22},{"$f":"COUNTIF(O54:BB54,1)","v":10},{"$f":"COUNTIF(O54:BB54,2)","v":2},{"$f":"COUNTIF(O54:BB54,3)","v":5},{"$f":"COUNTIF(O54:BB54,5)","v":1},{"$f":"COUNTIF(O54:BB54,10)","v":0},null,{"$f":"$D$9*$D$8","v":40},{"$f":"SUM(BF54:BK54)","v":40},{"$f":"BN54/BM54","v":1},{"$f":"BK54/BN54","v":0}]
[null,"cash",30,null,21,25882,13,"Chris Beecroft","Gas","N",2,"Yeadon","10:07:00",{"$f":"M55+TIME(7,0,0)","v":"17:07:00"},1,0,0,5,2,0,0,0,0,2,0,3,0,3,3,1,0,1,1,3,0,1,1,0,0,0,0,0,0,0,0,2,1,0,0,0,0,0,0,5,null,null,{"$f":"SUM(O55:BD55)","v":35},{"$f":"COUNTIF(O55:BB55,0)","v":24},{"$f":"COUNTIF(O55:BB55,1)","v":7},{"$f":"COUNTIF(O55:BB55,2)","v":3},{"$f":"COUNTIF(O55:BB55,3)","v":4},{"$f":"COUNTIF(O55:BB55,5)","v":2},{"$f":"COUNTIF(O55:BB55,10)","v":0},null,{"$f":"$D$9*$D$8","v":40},{"$f":"SUM(BF55:BK55)","v":40},{"$f":"BN55/BM55","v":1},{"$f":"BK55/BN55","v":0}]
[100108,"TJ Bennet",null,null,38,78984,66,"Tom Bennett","She","N",2,"Porthill","10:33:30",{"$f":"M56+TIME(7,0,0)","v":"17:33:30"},0,0,0,0,1,3,1,0,0,2,0,2,0,0,5,1,0,0,0,3,0,2,3,0,0,1,0,1,3,0,0,0,0,0,0,1,0,3,0,3,null,null,{"$f":"SUM(O56:BD56)","v":35},{"$f":"COUNTIF(O56:BB56,0)","v":24},{"$f":"COUNTIF(O56:BB56,1)","v":6},{"$f":"COUNTIF(O56:BB56,2)","v":3},{"$f":"COUNTIF(O56:BB56,3)","v":6},{"$f":"COUNTIF(O56:BB56,5)","v":1},{"$f":"COUNTIF(O56:BB56,10)","v":0},null,{"$f":"$D$9*$D$8","v":40},{"$f":"SUM(BF56:BK56)","v":40},{"$f":"BN56/BM56","v":1},{"$f":"BK56/BN56","v":0}]
[459,"D Mitchell",30,null,46,16611,64,"Darren Mitchell","4RT","N",2,"Barnoldswick","10:32:30",{"$f":"M57+TIME(7,0,0)","v":"17:32:30"},1,0,1,3,1,3,3,0,0,1,0,2,0,0,2,0,3,0,0,3,0,1,0,0,0,0,1,0,0,0,0,2,0,0,1,0,0,2,0,5,null,null,{"$f":"SUM(O57:BD57)","v":35},{"$f":"COUNTIF(O57:BB57,0)","v":23},{"$f":"COUNTIF(O57:BB57,1)","v":7},{"$f":"COUNTIF(O57:BB57,2)","v":4},{"$f":"COUNTIF(O57:BB57,3)","v":5},{"$f":"COUNTIF(O57:BB57,5)","v":1},{"$f":"COUNTIF(O57:BB57,10)","v":0},null,{"$f":"$D$9*$D$8","v":40},{"$f":"SUM(BF57:BK57)","v":40},{"$f":"BN57/BM57","v":1},{"$f":"BK57/BN57","v":0}]
[852,"Dent Excel",120,null,63,11579,77,"Barrie Darrell","Bet","N",2,"York","10:39:30",{"$f":"M58+TIME(7,0,0)","v":"17:39:30"},0,0,0,0,1,3,5,0,1,0,0,0,0,2,2,1,0,0,0,2,0,1,0,0,0,0,0,0,2,0,0,1,3,0,0,5,0,3,1,3,null,null,{"$f":"SUM(O58:BD58)","v":36},{"$f":"COUNTIF(O58:BB58,0)","v":24},{"$f":"COUNTIF(O58:BB58,1)","v":6},{"$f":"COUNTIF(O58:BB58,2)","v":4},{"$f":"COUNTIF(O58:BB58,3)","v":4},{"$f":"COUNTIF(O58:BB58,5)","v":2},{"$f":"COUNTIF(O58:BB58,10)","v":0},null,{"$f":"$D$9*$D$8","v":40},{"$f":"SUM(BF58:BK58)","v":40},{"$f":"BN58/BM58","v":1},{"$f":"BK58/BN58","v":0}]
[458,"SL Hirst",30,null,68,152687,24,"Simon Hirst","Gas","N",2,"Scunthorpe","10:12:30",{"$f":"M59+TIME(7,0,0)","v":"17:12:30"},3,0,0,2,2,3,0,0,0,0,5,2,0,0,3,0,0,0,0,3,0,0,1,0,0,1,0,2,0,0,0,0,0,1,0,1,3,0,0,5,null,null,{"$f":"SUM(O59:BD59)","v":37},{"$f":"COUNTIF(O59:BB59,0)","v":25},{"$f":"COUNTIF(O59:BB59,1)","v":4},{"$f":"COUNTIF(O59:BB59,2)","v":4},{"$f":"COUNTIF(O59:BB59,3)","v":5},{"$f":"COUNTIF(O59:BB59,5)","v":2},{"$f":"COUNTIF(O59:BB59,10)","v":0},null,{"$f":"$D$9*$D$8","v":40},{"$f":"SUM(BF59:BK59)","v":40},{"$f":"BN59/BM59","v":1},{"$f":"BK59/BN59","v":0}]
[100096,"S hartley",30,null,84,147798,38,"Simon Hartley","She","N",2,"Barley","10:19:30",{"$f":"M60+TIME(7,0,0)","v":"17:19:30"},1,0,0,1,3,2,3,0,2,0,2,1,0,1,0,2,2,0,0,1,1,1,1,0,0,0,0,0,0,0,0,3,3,0,0,1,0,2,0,5,null,null,{"$f":"SUM(O60:BD60)","v":38},{"$f":"COUNTIF(O60:BB60,0)","v":20},{"$f":"COUNTIF(O60:BB60,1)","v":9},{"$f":"COUNTIF(O60:BB60,2)","v":6},{"$f":"COUNTIF(O60:BB60,3)","v":4},{"$f":"COUNTIF(O60:BB60,5)","v":1},{"$f":"COUNTIF(O60:BB60,10)","v":0},null,{"$f":"$D$9*$D$8","v":40},{"$f":"SUM(BF60:BK60)","v":40},{"$f":"BN60/BM60","v":1},{"$f":"BK60/BN60","v":0}]
[22858,"Adams Garage",120,null,22,106360,14,"Adam McCanna","Hon","I",2,"Leigh","10:07:30",{"$f":"M61+TIME(7,0,0)","v":"17:07:30"},0,0,0,3,3,3,1,0,1,2,0,3,0,0,5,0,0,0,1,3,0,3,1,0,0,0,0,0,0,0,0,3,1,0,0,1,0,2,0,5,null,null,{"$f":"SUM(O61:BD61)","v":41},{"$f":"COUNTIF(O61:BB61,0)","v":23},{"$f":"COUNTIF(O61:BB61,1)","v":6},{"$f":"COUNTIF(O61:BB61,2)","v":2},{"$f":"COUNTIF(O61:BB61,3)","v":7},{"$f":"COUNTIF(O61:BB61,5)","v":2},{"$f":"COUNTIF(O61:BB61,10)","v":0},null,{"$f":"$D$9*$D$8","v":40},{"$f":"SUM(BF61:BK61)","v":40},{"$f":"BN61/BM61","v":1},{"$f":"BK61/BN61","v":0}]
["Cash",null,30,null,36,122607,19,"Oliver Ingham","She","I",2,"Bacup","10:10:00",{"$f":"M62+TIME(7,0,0)","v":"17:10:00"},1,0,0,3,2,3,3,1,0,0,0,3,1,0,1,3,0,2,3,5,0,1,0,0,0,0,0,0,0,0,0,0,2,1,0,0,1,1,0,5,null,null,{"$f":"SUM(O62:BD62)","v":42},{"$f":"COUNTIF(O62:BB62,0)","v":21},{"$f":"COUNTIF(O62:BB62,1)","v":8},{"$f":"COUNTIF(O62:BB62,2)","v":3},{"$f":"COUNTIF(O62:BB62,3)","v":6},{"$f":"COUNTIF(O62:BB62,5)","v":2},{"$f":"COUNTIF(O62:BB62,10)","v":0},null,{"$f":"$D$9*$D$8","v":40},{"$f":"SUM(BF62:BK62)","v":40},{"$f":"BN62/BM62","v":1},{"$f":"BK62/BN62","v":0}]
[".",null,null,null,26,16260,18,"Ian Haigh","Mon","N",2,"Huddersfield","10:09:30",{"$f":"M63+TIME(7,0,0)","v":"17:09:30"},1,0,1,3,3,2,3,0,1,0,3,0,0,3,3,1,0,1,0,3,0,2,2,0,0,0,0,0,0,0,0,1,3,0,0,0,0,1,0,5,null,null,{"$f":"SUM(O63:BD63)","v":42},{"$f":"COUNTIF(O63:BB63,0)","v":21},{"$f":"COUNTIF(O63:BB63,1)","v":7},{"$f":"COUNTIF(O63:BB63,2)","v":3},{"$f":"COUNTIF(O63:BB63,3)","v":8},{"$f":"COUNTIF(O63:BB63,5)","v":1},{"$f":"COUNTIF(O63:BB63,10)","v":0},null,{"$f":"$D$9*$D$8","v":40},{"$f":"SUM(BF63:BK63)","v":40},{"$f":"BN63/BM63","v":1},{"$f":"BK63/BN63","v":0}]
[".",null,null,null,66,10991,79,"David Hardy","Mon","N",2,"Sutton on Forest","10:40:30",{"$f":"M64+TIME(7,0,0)","v":"17:40:30"},0,0,1,3,1,2,1,0,1,0,1,0,0,0,3,1,0,0,0,3,0,1,0,0,0,0,0,0,0,5,0,5,0,0,0,0,5,5,0,5,null,null,{"$f":"SUM(O64:BD64)","v":43},{"$f":"COUNTIF(O64:BB64,0)","v":24},{"$f":"COUNTIF(O64:BB64,1)","v":7},{"$f":"COUNTIF(O64:BB64,2)","v":1},{"$f":"COUNTIF(O64:BB64,3)","v":3},{"$f":"COUNTIF(O64:BB64,5)","v":5},{"$f":"COUNTIF(O64:BB64,10)","v":0},null,{"$f":"$D$9*$D$8","v":40},{"$f":"SUM(BF64:BK64)","v":40},{"$f":"BN64/BM64","v":1},{"$f":"BK64/BN64","v":0}]
[2,"S McElnea",30,null,14,126271,9,"Rob McElnea","Bet","I",2,"Scamton","10:05:00",{"$f":"M65+TIME(7,0,0)","v":"17:05:00"},1,1,0,3,3,2,5,0,0,0,3,0,0,1,2,5,0,0,0,5,0,1,0,0,0,0,0,5,0,0,0,1,2,0,0,0,0,0,0,5,null,null,{"$f":"SUM(O65:BD65)","v":45},{"$f":"COUNTIF(O65:BB65,0)","v":24},{"$f":"COUNTIF(O65:BB65,1)","v":5},{"$f":"COUNTIF(O65:BB65,2)","v":3},{"$f":"COUNTIF(O65:BB65,3)","v":3},{"$f":"COUNTIF(O65:BB65,5)","v":5},{"$f":"COUNTIF(O65:BB65,10)","v":0},null,{"$f":"$D$9*$D$8","v":40},{"$f":"SUM(BF65:BK65)","v":40},{"$f":"BN65/BM65","v":1},{"$f":"BK65/BN65","v":0}]
[161,"PS Marwood",30,null,15,102454,8,"Paul Marwood","She","I",2,"Alford","10:04:30",{"$f":"M66+TIME(7,0,0)","v":"17:04:30"},1,0,0,3,3,3,3,0,1,0,0,3,0,1,3,1,0,0,0,5,0,3,3,0,0,0,0,3,0,0,0,1,1,0,0,1,0,3,0,3,null,null,{"$f":"SUM(O66:BD66)","v":45},{"$f":"COUNTIF(O66:BB66,0)","v":21},{"$f":"COUNTIF(O66:BB66,1)","v":7},{"$f":"COUNTIF(O66:BB66,2)","v":0},{"$f":"COUNTIF(O66:BB66,3)","v":11},{"$f":"COUNTIF(O66:BB66,5)","v":1},{"$f":"COUNTIF(O66:BB66,10)","v":0},null,{"$f":"$D$9*$D$8","v":40},{"$f":"SUM(BF66:BK66)","v":40},{"$f":"BN66/BM66","v":1},{"$f":"BK66/BN66","v":0}]
[null,"PAY PAL",30,null,null,103208,92,"Ryan Martin","Gas","N",2,"St Johns Chapel","10:47:00",{"$f":"M67+TIME(7,0,0)","v":"17:47:00"},2,0,1,2,3,0,2,0,5,2,3,1,0,1,5,0,1,0,0,3,0,1,1,0,0,0,0,0,0,0,0,1,0,0,0,1,0,3,2,5,null,null,{"$f":"SUM(O67:BD67)","v":45},{"$f":"COUNTIF(O67:BB67,0)","v":20},{"$f":"COUNTIF(O67:BB67,1)","v":8},{"$f":"COUNTIF(O67:BB67,2)","v":5},{"$f":"COUNTIF(O67:BB67,3)","v":4},{"$f":"COUNTIF(O67:BB67,5)","v":3},{"$f":"COUNTIF(O67:BB67,10)","v":0},null,{"$f":"$D$9*$D$8","v":40},{"$f":"SUM(BF67:BK67)","v":40},{"$f":"BN67/BM67","v":1},{"$f":"BK67/BN67","v":0}]
["…",null,null,null,29,8866,71,"Geoff Fielding","Gas","N",2,"Hunwick","10:36:30",{"$f":"M68+TIME(7,0,0)","v":"17:36:30"},1,0,0,3,3,3,3,1,0,1,0,1,0,3,3,1,0,3,0,2,0,1,1,0,0,0,0,2,0,0,0,2,1,1,0,0,1,3,3,3,null,null,{"$f":"SUM(O68:BD68)","v":46},{"$f":"COUNTIF(O68:BB68,0)","v":17},{"$f":"COUNTIF(O68:BB68,1)","v":10},{"$f":"COUNTIF(O68:BB68,2)","v":3},{"$f":"COUNTIF(O68:BB68,3)","v":10},{"$f":"COUNTIF(O68:BB68,5)","v":0},{"$f":"COUNTIF(O68:BB68,10)","v":0},null,{"$f":"$D$9*$D$8","v":40},{"$f":"SUM(BF68:BK68)","v":40},{"$f":"BN68/BM68","v":1},{"$f":"BK68/BN68","v":0}]
[100448,"AR Beane",30,null,18,95195,21,"Andrew Beane","Gas","N",2,"Yarm","10:11:00",{"$f":"M69+TIME(7,0,0)","v":"17:11:00"},1,1,2,1,3,3,3,3,0,0,3,3,3,0,3,1,0,1,0,3,0,2,1,0,0,1,0,0,0,0,0,0,0,0,0,1,0,2,1,5,null,null,{"$f":"SUM(O69:BD69)","v":47},{"$f":"COUNTIF(O69:BB69,0)","v":18},{"$f":"COUNTIF(O69:BB69,1)","v":9},{"$f":"COUNTIF(O69:BB69,2)","v":3},{"$f":"COUNTIF(O69:BB69,3)","v":9},{"$f":"COUNTIF(O69:BB69,5)","v":1},{"$f":"COUNTIF(O69:BB69,10)","v":0},null,{"$f":"$D$9*$D$8","v":40},{"$f":"SUM(BF69:BK69)","v":40},{"$f":"BN69/BM69","v":1},{"$f":"BK69/BN69","v":0}]
[".",null,null,null,41,20852,69,"Mick Flanagan","Oss","I",2,"Bridgenorth","10:35:00",{"$f":"M70+TIME(7,0,0)","v":"17:35:00"},1,0,1,1,2,2,3,0,1,1,2,3,1,2,0,1,0,0,0,3,0,1,2,0,0,0,0,1,0,1,0,3,1,0,0,2,1,5,3,5,null,null,{"$f":"SUM(O70:BD70)","v":49},{"$f":"COUNTIF(O70:BB70,0)","v":15},{"$f":"COUNTIF(O70:BB70,1)","v":12},{"$f":"COUNTIF(O70:BB70,2)","v":6},{"$f":"COUNTIF(O70:BB70,3)","v":5},{"$f":"COUNTIF(O70:BB70,5)","v":2},{"$f":"COUNTIF(O70:BB70,10)","v":0},null,{"$f":"$D$9*$D$8","v":40},{"$f":"SUM(BF70:BK70)","v":40},{"$f":"BN70/BM70","v":1},{"$f":"BK70/BN70","v":0}]
[".",null,null,null,23,106361,15,"Jimmy McCanna","Hon","I",2,"Leigh","10:08:00",{"$f":"M71+TIME(7,0,0)","v":"17:08:00"},1,0,1,2,3,1,5,0,1,3,1,2,0,0,3,2,1,0,1,2,0,2,0,0,0,5,0,0,0,0,0,1,3,3,0,1,0,1,0,5,null,null,{"$f":"SUM(O71:BD71)","v":50},{"$f":"COUNTIF(O71:BB71,0)","v":17},{"$f":"COUNTIF(O71:BB71,1)","v":10},{"$f":"COUNTIF(O71:BB71,2)","v":5},{"$f":"COUNTIF(O71:BB71,3)","v":5},{"$f":"COUNTIF(O71:BB71,5)","v":3},{"$f":"COUNTIF(O71:BB71,10)","v":0},null,{"$f":"$D$9*$D$8","v":40},{"$f":"SUM(BF71:BK71)","v":40},{"$f":"BN71/BM71","v":1},{"$f":"BK71/BN71","v":0}]
[3272,"Mr W Wood",60,null,25,6258,17,"William Wood","Bet","N",2,"Rotherham","10:09:00",{"$f":"M72+TIME(7,0,0)","v":"17:09:00"},2,1,1,3,3,2,3,0,1,1,1,3,0,2,0,1,2,1,0,3,0,0,2,0,0,0,1,0,0,1,0,2,0,2,0,1,0,3,3,5,null,null,{"$f":"SUM(O72:BD72)","v":50},{"$f":"COUNTIF(O72:BB72,0)","v":15},{"$f":"COUNTIF(O72:BB72,1)","v":10},{"$f":"COUNTIF(O72:BB72,2)","v":7},{"$f":"COUNTIF(O72:BB72,3)","v":7},{"$f":"COUNTIF(O72:BB72,5)","v":1},{"$f":"COUNTIF(O72:BB72,10)","v":0},null,{"$f":"$D$9*$D$8","v":40},{"$f":"SUM(BF72:BK72)","v":40},{"$f":"BN72/BM72","v":1},{"$f":"BK72/BN72","v":0}]
[null,"PAY PAL",30,null,4,19975,84,"Chris Tolson","Bet","N",2,"Huddersfield","10:43:00",{"$f":"M73+TIME(7,0,0)","v":"17:43:00"},1,0,0,3,2,1,3,0,1,2,1,3,0,1,2,1,1,0,2,2,0,3,1,0,0,2,5,2,1,0,0,1,0,0,0,3,0,3,1,3,null,null,{"$f":"SUM(O73:BD73)","v":51},{"$f":"COUNTIF(O73:BB73,0)","v":14},{"$f":"COUNTIF(O73:BB73,1)","v":11},{"$f":"COUNTIF(O73:BB73,2)","v":7},{"$f":"COUNTIF(O73:BB73,3)","v":7},{"$f":"COUNTIF(O73:BB73,5)","v":1},{"$f":"COUNTIF(O73:BB73,10)","v":0},null,{"$f":"$D$9*$D$8","v":40},{"$f":"SUM(BF73:BK73)","v":40},{"$f":"BN73/BM73","v":1},{"$f":"BK73/BN73","v":0}]
[100066,"AD Holmes",30,null,27,77934,31,"Tony Holmes","Bet","N",2,"Skipton","10:16:00",{"$f":"M74+TIME(7,0,0)","v":"17:16:00"},3,0,0,1,2,2,3,0,0,1,2,3,0,2,3,2,2,0,5,3,0,1,2,2,0,1,0,0,2,0,0,2,2,1,0,0,2,1,0,2,null,null,{"$f":"SUM(O74:BD74)","v":52},{"$f":"COUNTIF(O74:BB74,0)","v":15},{"$f":"COUNTIF(O74:BB74,1)","v":6},{"$f":"COUNTIF(O74:BB74,2)","v":13},{"$f":"COUNTIF(O74:BB74,3)","v":5},{"$f":"COUNTIF(O74:BB74,5)","v":1},{"$f":"COUNTIF(O74:BB74,10)","v":0},null,{"$f":"$D$9*$D$8","v":40},{"$f":"SUM(BF74:BK74)","v":40},{"$f":"BN74/BM74","v":1},{"$f":"BK74/BN74","v":0}]
[300599,"A Dennis",30,null,19,108572,22,"Andrew Dennis","Bet","N",2,"Stockton on Tees","10:11:30",{"$f":"M75+TIME(7,0,0)","v":"17:11:30"},0,1,0,1,0,1,3,0,1,0,1,3,5,2,1,1,0,0,2,3,0,5,2,1,0,0,0,3,3,1,0,3,0,0,0,1,1,3,1,5,null,null,{"$f":"SUM(O75:BD75)","v":54},{"$f":"COUNTIF(O75:BB75,0)","v":15},{"$f":"COUNTIF(O75:BB75,1)","v":12},{"$f":"COUNTIF(O75:BB75,2)","v":3},{"$f":"COUNTIF(O75:BB75,3)","v":7},{"$f":"COUNTIF(O75:BB75,5)","v":3},{"$f":"COUNTIF(O75:BB75,10)","v":0},null,{"$f":"$D$9*$D$8","v":40},{"$f":"SUM(BF75:BK75)","v":40},{"$f":"BN75/BM75","v":1},{"$f":"BK75/BN75","v":0}]
[100063,"I Rutter",60,null,28,15597,72,"Ian Rutter","Gas","N",2,"Hunwick","10:37:00",{"$f":"M76+TIME(7,0,0)","v":"17:37:00"},0,0,0,5,2,1,3,0,1,0,0,3,1,1,0,1,2,0,0,3,5,5,3,0,0,0,0,5,0,0,0,3,1,2,0,2,0,5,1,3,null,null,{"$f":"SUM(O76:BD76)","v":58},{"$f":"COUNTIF(O76:BB76,0)","v":18},{"$f":"COUNTIF(O76:BB76,1)","v":7},{"$f":"COUNTIF(O76:BB76,2)","v":4},{"$f":"COUNTIF(O76:BB76,3)","v":6},{"$f":"COUNTIF(O76:BB76,5)","v":5},{"$f":"COUNTIF(O76:BB76,10)","v":0},null,{"$f":"$D$9*$D$8","v":40},{"$f":"SUM(BF76:BK76)","v":40},{"$f":"BN76/BM76","v":1},{"$f":"BK76/BN76","v":0}]
[".","PAY PAL",29.75,null,80,81073,90,"Martin Jackson","She","I",2,"Rochdale","10:46:00",{"$f":"M77+TIME(7,0,0)","v":"17:46:00"},0,5,0,3,3,3,3,0,0,0,0,3,1,2,1,2,1,0,0,3,0,1,2,0,0,5,3,2,5,0,0,1,0,0,0,2,2,3,0,3,null,null,{"$f":"SUM(O77:BD77)","v":59},{"$f":"COUNTIF(O77:BB77,0)","v":17},{"$f":"COUNTIF(O77:BB77,1)","v":5},{"$f":"COUNTIF(O77:BB77,2)","v":6},{"$f":"COUNTIF(O77:BB77,3)","v":9},{"$f":"COUNTIF(O77:BB77,5)","v":3},{"$f":"COUNTIF(O77:BB77,10)","v":0},null,{"$f":"$D$9*$D$8","v":40},{"$f":"SUM(BF77:BK77)","v":40},{"$f":"BN77/BM77","v":1},{"$f":"BK77/BN77","v":0}]
[".",null,null,null,71,134345,4,"Ernie Byrne","Bet","N",2,"Spennymoor","10:02:30",{"$f":"M78+TIME(7,0,0)","v":"17:02:30"},1,1,0,3,2,3,3,0,0,1,1,0,1,1,1,3,3,1,3,5,0,5,5,1,1,1,0,1,0,0,0,2,0,0,0,1,0,3,1,5,null,null,{"$f":"SUM(O78:BD78)","v":59},{"$f":"COUNTIF(O78:BB78,0)","v":13},{"$f":"COUNTIF(O78:BB78,1)","v":14},{"$f":"COUNTIF(O78:BB78,2)","v":2},{"$f":"COUNTIF(O78:BB78,3)","v":7},{"$f":"COUNTIF(O78:BB78,5)","v":4},{"$f":"COUNTIF(O78:BB78,10)","v":0},null,{"$f":"$D$9*$D$8","v":40},{"$f":"SUM(BF78:BK78)","v":40},{"$f":"BN78/BM78","v":1},{"$f":"BK78/BN78","v":0}]
[46,"D Byrne",90,null,70,118824,3,"John Bennett","Gas","N",2,"Spennymoor","10:02:00",{"$f":"M79+TIME(7,0,0)","v":"17:02:00"},0,0,1,2,1,3,3,3,0,0,3,3,0,3,3,2,2,0,0,3,1,3,1,5,0,2,0,0,2,0,0,3,1,3,0,1,0,1,0,5,null,null,{"$f":"SUM(O79:BD79)","v":60},{"$f":"COUNTIF(O79:BB79,0)","v":15},{"$f":"COUNTIF(O79:BB79,1)","v":7},{"$f":"COUNTIF(O79:BB79,2)","v":5},{"$f":"COUNTIF(O79:BB79,3)","v":11},{"$f":"COUNTIF(O79:BB79,5)","v":2},{"$f":"COUNTIF(O79:BB79,10)","v":0},null,{"$f":"$D$9*$D$8","v":40},{"$f":"SUM(BF79:BK79)","v":40},{"$f":"BN79/BM79","v":1},{"$f":"BK79/BN79","v":0}]
[485,"JTL Chatto",30,null,62,153963,76,"John Chatto","Gas","N",2,"Chesham","10:39:00",{"$f":"M80+TIME(7,0,0)","v":"17:39:00"},0,0,0,0,2,3,3,0,0,3,3,3,0,1,1,0,0,3,1,3,0,3,3,0,0,1,5,3,0,0,0,3,1,2,0,5,3,3,0,3,null,null,{"$f":"SUM(O80:BD80)","v":61},{"$f":"COUNTIF(O80:BB80,0)","v":17},{"$f":"COUNTIF(O80:BB80,1)","v":5},{"$f":"COUNTIF(O80:BB80,2)","v":2},{"$f":"COUNTIF(O80:BB80,3)","v":14},{"$f":"COUNTIF(O80:BB80,5)","v":2},{"$f":"COUNTIF(O80:BB80,10)","v":0},null,{"$f":"$D$9*$D$8","v":40},{"$f":"SUM(BF80:BK80)","v":40},{"$f":"BN80/BM80","v":1},{"$f":"BK80/BN80","v":0}]
[52,"L Armstrong",30,null,69,124986,89,"Richard Armstrong","Bet","N",2,"Silsden","10:45:30",{"$f":"M81+TIME(7,0,0)","v":"17:45:30"},1,0,0,2,3,5,3,1,3,1,3,1,2,1,3,1,5,0,0,3,0,0,3,0,0,0,0,5,0,1,0,3,1,0,0,3,2,3,0,5,null,null,{"$f":"SUM(O81:BD81)","v":64},{"$f":"COUNTIF(O81:BB81,0)","v":15},{"$f":"COUNTIF(O81:BB81,1)","v":8},{"$f":"COUNTIF(O81:BB81,2)","v":3},{"$f":"COUNTIF(O81:BB81,3)","v":10},{"$f":"COUNTIF(O81:BB81,5)","v":4},{"$f":"COUNTIF(O81:BB81,10)","v":0},null,{"$f":"$D$9*$D$8","v":40},{"$f":"SUM(BF81:BK81)","v":40},{"$f":"BN81/BM81","v":1},{"$f":"BK81/BN81","v":0}]
[16,"N Farrow",30,null,20,25543,12,"Anthony Farrow","Mon","N",2,"Brierfield","10:06:30",{"$f":"M82+TIME(7,0,0)","v":"17:06:30"},3,0,1,3,1,3,3,1,1,2,3,3,1,0,3,2,0,1,5,3,1,0,2,0,0,2,0,0,1,0,0,3,0,2,0,5,1,0,3,5,null,null,{"$f":"SUM(O82:BD82)","v":64},{"$f":"COUNTIF(O82:BB82,0)","v":13},{"$f":"COUNTIF(O82:BB82,1)","v":9},{"$f":"COUNTIF(O82:BB82,2)","v":5},{"$f":"COUNTIF(O82:BB82,3)","v":10},{"$f":"COUNTIF(O82:BB82,5)","v":3},{"$f":"COUNTIF(O82:BB82,10)","v":0},null,{"$f":"$D$9*$D$8","v":40},{"$f":"SUM(BF82:BK82)","v":40},{"$f":"BN82/BM82","v":1},{"$f":"BK82/BN82","v":0}]
[".",null,null,null,72,146405,5,"Zack Hubery","She","N",2,"Spennymoor","10:03:00",{"$f":"M83+TIME(7,0,0)","v":"17:03:00"},2,0,1,3,3,3,3,3,2,3,3,1,1,1,3,0,5,1,3,3,1,1,2,5,0,0,5,3,1,0,0,3,3,0,0,0,0,1,1,3,null,null,{"$f":"SUM(O83:BD83)","v":73},{"$f":"COUNTIF(O83:BB83,0)","v":10},{"$f":"COUNTIF(O83:BB83,1)","v":10},{"$f":"COUNTIF(O83:BB83,2)","v":3},{"$f":"COUNTIF(O83:BB83,3)","v":14},{"$f":"COUNTIF(O83:BB83,5)","v":3},{"$f":"COUNTIF(O83:BB83,10)","v":0},null,{"$f":"$D$9*$D$8","v":40},{"$f":"SUM(BF83:BK83)","v":40},{"$f":"BN83/BM83","v":1},{"$f":"BK83/BN83","v":0}]
[179,"Mr SJ Smith",60,null,56,122283,1,"Stephen Smith","Gas","N",2,"Barnoldswick","10:01:00",{"$f":"M84+TIME(7,0,0)","v":"17:01:00"},1,0,1,3,2,2,3,0,3,2,1,3,5,0,3,0,1,1,3,3,3,1,3,0,0,5,5,0,0,0,0,3,2,5,0,2,1,2,0,5,null,null,{"$f":"SUM(O84:BD84)","v":74},{"$f":"COUNTIF(O84:BB84,0)","v":12},{"$f":"COUNTIF(O84:BB84,1)","v":7},{"$f":"COUNTIF(O84:BB84,2)","v":6},{"$f":"COUNTIF(O84:BB84,3)","v":10},{"$f":"COUNTIF(O84:BB84,5)","v":5},{"$f":"COUNTIF(O84:BB84,10)","v":0},null,{"$f":"$D$9*$D$8","v":40},{"$f":"SUM(BF84:BK84)","v":40},{"$f":"BN84/BM84","v":1},{"$f":"BK84/BN84","v":0}]
[100047,"AG Frith",30,null,16,103690,7,"Adam Frith","Gas","N",2,"Horncastle","10:04:00",{"$f":"M85+TIME(7,0,0)","v":"17:04:00"},3,0,3,5,3,5,3,1,3,1,1,3,3,0,3,1,5,1,1,5,0,3,0,0,0,0,0,3,5,0,0,1,3,0,0,2,0,5,0,5,null,null,{"$f":"SUM(O85:BD85)","v":77},{"$f":"COUNTIF(O85:BB85,0)","v":14},{"$f":"COUNTIF(O85:BB85,1)","v":7},{"$f":"COUNTIF(O85:BB85,2)","v":1},{"$f":"COUNTIF(O85:BB85,3)","v":11},{"$f":"COUNTIF(O85:BB85,5)","v":7},{"$f":"COUNTIF(O85:BB85,10)","v":0},null,{"$f":"$D$9*$D$8","v":40},{"$f":"SUM(BF85:BK85)","v":40},{"$f":"BN85/BM85","v":1},{"$f":"BK85/BN85","v":0}]
[100136,"Mr N cockerham",30,null,3,99444,73,"Nigel Cockerham","She","N",2,"Castleford","10:37:30",{"$f":"M86+TIME(7,0,0)","v":"17:37:30"},0,0,2,2,3,5,5,5,0,3,0,3,0,1,2,1,3,3,1,3,0,3,3,0,0,0,2,3,1,0,0,3,1,0,5,3,0,3,2,3,3,null,{"$f":"SUM(O86:BD86)","v":77},{"$f":"COUNTIF(O86:BB86,0)","v":13},{"$f":"COUNTIF(O86:BB86,1)","v":5},{"$f":"COUNTIF(O86:BB86,2)","v":5},{"$f":"COUNTIF(O86:BB86,3)","v":13},{"$f":"COUNTIF(O86:BB86,5)","v":4},{"$f":"COUNTIF(O86:BB86,10)","v":0},null,{"$f":"$D$9*$D$8","v":40},{"$f":"SUM(BF86:BK86)","v":40},{"$f":"BN86/BM86","v":1},{"$f":"BK86/BN86","v":0}]
[100198,"JR Spensley",30,null,50,154960,86,"John Spensley","Gas","N",2,"Skipton","10:44:00",{"$f":"M87+TIME(7,0,0)","v":"17:44:00"},1,0,0,2,3,3,3,1,3,3,1,0,3,1,5,2,3,0,1,5,1,2,3,0,0,2,5,2,1,0,0,3,1,0,0,0,3,5,5,5,null,null,{"$f":"SUM(O87:BD87)","v":78},{"$f":"COUNTIF(O87:BB87,0)","v":11},{"$f":"COUNTIF(O87:BB87,1)","v":8},{"$f":"COUNTIF(O87:BB87,2)","v":5},{"$f":"COUNTIF(O87:BB87,3)","v":10},{"$f":"COUNTIF(O87:BB87,5)","v":6},{"$f":"COUNTIF(O87:BB87,10)","v":0},null,{"$f":"$D$9*$D$8","v":40},{"$f":"SUM(BF87:BK87)","v":40},{"$f":"BN87/BM87","v":1},{"$f":"BK87/BN87","v":0}]
[100036,"AJ West",30,null,10,86944,10,"Adam West","Bet","N",2,"Messingham","10:05:30",{"$f":"M88+TIME(7,0,0)","v":"17:05:30"},1,0,2,3,3,5,5,1,0,3,3,3,1,1,5,1,2,1,0,3,0,2,5,0,0,2,1,5,0,2,0,5,2,0,2,3,2,2,1,5,null,null,{"$f":"SUM(O88:BD88)","v":82},{"$f":"COUNTIF(O88:BB88,0)","v":9},{"$f":"COUNTIF(O88:BB88,1)","v":8},{"$f":"COUNTIF(O88:BB88,2)","v":9},{"$f":"COUNTIF(O88:BB88,3)","v":7},{"$f":"COUNTIF(O88:BB88,5)","v":7},{"$f":"COUNTIF(O88:BB88,10)","v":0},null,{"$f":"$D$9*$D$8","v":40},{"$f":"SUM(BF88:BK88)","v":40},{"$f":"BN88/BM88","v":1},{"$f":"BK88/BN88","v":0}]
[null,"PAY PAL",30,null,89,96188,27,"Andrew Washington","Bet","N",2,"Huddersfield","10:14:00",{"$f":"M89+TIME(7,0,0)","v":"17:14:00"},3,0,2,5,5,2,3,3,1,5,0,2,3,2,3,3,1,5,3,5,0,1,3,1,0,0,5,1,0,0,0,0,1,0,0,5,1,3,2,5,null,null,{"$f":"SUM(O89:BD89)","v":84},{"$f":"COUNTIF(O89:BB89,0)","v":11},{"$f":"COUNTIF(O89:BB89,1)","v":7},{"$f":"COUNTIF(O89:BB89,2)","v":5},{"$f":"COUNTIF(O89:BB89,3)","v":9},{"$f":"COUNTIF(O89:BB89,5)","v":8},{"$f":"COUNTIF(O89:BB89,10)","v":0},null,{"$f":"$D$9*$D$8","v":40},{"$f":"SUM(BF89:BK89)","v":40},{"$f":"BN89/BM89","v":1},{"$f":"BK89/BN89","v":0}]
[100127,"RE Thornton",30,null,59,79834,75,"Richard Thornton","Gas","N",2,"Leeds","10:38:30",{"$f":"M90+TIME(7,0,0)","v":"17:38:30"},0,0,3,3,1,3,5,3,0,3,3,3,3,2,3,2,3,3,2,5,1,2,3,1,1,5,1,3,2,5,0,3,0,0,0,3,3,3,3,5,null,null,{"$f":"SUM(O90:BD90)","v":94},{"$f":"COUNTIF(O90:BB90,0)","v":7},{"$f":"COUNTIF(O90:BB90,1)","v":5},{"$f":"COUNTIF(O90:BB90,2)","v":5},{"$f":"COUNTIF(O90:BB90,3)","v":18},{"$f":"COUNTIF(O90:BB90,5)","v":5},{"$f":"COUNTIF(O90:BB90,10)","v":0},null,{"$f":"$D$9*$D$8","v":40},{"$f":"SUM(BF90:BK90)","v":40},{"$f":"BN90/BM90","v":1},{"$f":"BK90/BN90","v":0}]
[100770,"MR Whelan",30,null,51,77960,6,"Mark Whelan","Gas","N",2,"Aberford","10:03:30",{"$f":"M91+TIME(7,0,0)","v":"17:03:30"},1,0,1,3,3,3,5,1,3,3,5,3,5,2,3,3,5,2,3,5,3,3,5,3,0,0,2,3,3,3,0,3,2,2,0,1,1,3,3,5,null,null,{"$f":"SUM(O91:BD91)","v":104},{"$f":"COUNTIF(O91:BB91,0)","v":5},{"$f":"COUNTIF(O91:BB91,1)","v":5},{"$f":"COUNTIF(O91:BB91,2)","v":5},{"$f":"COUNTIF(O91:BB91,3)","v":18},{"$f":"COUNTIF(O91:BB91,5)","v":7},{"$f":"COUNTIF(O91:BB91,10)","v":0},null,{"$f":"$D$9*$D$8","v":40},{"$f":"SUM(BF91:BK91)","v":40},{"$f":"BN91/BM91","v":1},{"$f":"BK91/BN91","v":0}]
[100209,"S Hodson",30,null,54,103378,65,"Simon Hodson","She","N",2,"Waddington","10:33:00",{"$f":"M92+TIME(7,0,0)","v":"17:33:00"},3,0,3,5,3,5,5,3,2,3,3,3,5,3,3,3,3,3,3,5,2,3,3,3,0,0,3,5,0,3,0,3,2,0,0,3,2,5,3,5,null,null,{"$f":"SUM(O92:BD92)","v":111},{"$f":"COUNTIF(O92:BB92,0)","v":7},{"$f":"COUNTIF(O92:BB92,1)","v":0},{"$f":"COUNTIF(O92:BB92,2)","v":4},{"$f":"COUNTIF(O92:BB92,3)","v":21},{"$f":"COUNTIF(O92:BB92,5)","v":8},{"$f":"COUNTIF(O92:BB92,10)","v":0},null,{"$f":"$D$9*$D$8","v":40},{"$f":"SUM(BF92:BK92)","v":40},{"$f":"BN92/BM92","v":1},{"$f":"BK92/BN92","v":0}]
[".",null,null,null,64,64911,78,"Richard Sanderson","Gas","N",2,"Sutton on Forest","10:40:00",{"$f":"M93+TIME(7,0,0)","v":"17:40:00"},1,0,3,3,1,3,5,5,3,5,3,3,5,3,3,3,3,5,5,3,0,3,2,3,1,5,2,3,2,3,0,3,3,3,5,3,3,5,3,5,null,null,{"$f":"SUM(O93:BD93)","v":122},{"$f":"COUNTIF(O93:BB93,0)","v":3},{"$f":"COUNTIF(O93:BB93,1)","v":3},{"$f":"COUNTIF(O93:BB93,2)","v":3},{"$f":"COUNTIF(O93:BB93,3)","v":21},{"$f":"COUNTIF(O93:BB93,5)","v":10},{"$f":"COUNTIF(O93:BB93,10)","v":0},null,{"$f":"$D$9*$D$8","v":40},{"$f":"SUM(BF93:BK93)","v":40},{"$f":"BN93/BM93","v":1},{"$f":"BK93/BN93","v":0}]
[".",null,null,null,57,166345,2,"Lee Marsden","She","N",2,"Barnoldswick","10:01:30",{"$f":"M94+TIME(7,0,0)","v":"17:01:30"},null,null,null,null,null,null,null,null,null,null,null,null,null,null,null,null,null,null,null,null,null,null,null,null,null,null,null,null,null,null,null,null,null,null,null,null,null,null,null,null,null,null,"NS",{"$f":"COUNTIF(O94:BB94,0)","v":0},{"$f":"COUNTIF(O94:BB94,1)","v":0},{"$f":"COUNTIF(O94:BB94,2)","v":0},{"$f":"COUNTIF(O94:BB94,3)","v":0},{"$f":"COUNTIF(O94:BB94,5)","v":0},{"$f":"COUNTIF(O94:BB94,10)","v":0},null,{"$f":"$D$9*$D$8","v":40},{"$f":"SUM(BF94:BK94)","v":0},{"$f":"BN94/BM94","v":0},{"$f":"BK94/BN94","v":{"$error":"#DIV/0!"}}]
[".",null,null,null,24,1947,16,"Peter McCanna","Hon","N",2,"Leigh","10:08:30",{"$f":"M95+TIME(7,0,0)","v":"17:08:30"},null,null,null,null,null,null,null,null,null,null,null,null,null,null,null,null,null,null,null,null,null,null,null,null,null,null,null,null,null,null,null,null,null,null,null,null,null,null,null,null,null,null,"NS",{"$f":"COUNTIF(O95:BB95,0)","v":0},{"$f":"COUNTIF(O95:BB95,1)","v":0},{"$f":"COUNTIF(O95:BB95,2)","v":0},{"$f":"COUNTIF(O95:BB95,3)","v":0},{"$f":"COUNTIF(O95:BB95,5)","v":0},{"$f":"COUNTIF(O95:BB95,10)","v":0},null,{"$f":"$D$9*$D$8","v":40},{"$f":"SUM(BF95:BK95)","v":0},{"$f":"BN95/BM95","v":0},{"$f":"BK95/BN95","v":{"$error":"#DIV/0!"}}]
[4,"B Quinlan",30,null,48,157076,33,"Brendon Quinlan","Bet","N",2,"Guiseley","10:17:00",{"$f":"M96+TIME(7,0,0)","v":"17:17:00"},null,null,null,null,null,null,null,null,null,null,null,null,null,null,null,null,null,null,null,null,null,null,null,null,null,null,null,null,null,null,null,null,null,null,null,null,null,null,null,null,null,null,"NS",{"$f":"COUNTIF(O96:BB96,0)","v":0},{"$f":"COUNTIF(O96:BB96,1)","v":0},{"$f":"COUNTIF(O96:BB96,2)","v":0},{"$f":"COUNTIF(O96:BB96,3)","v":0},{"$f":"COUNTIF(O96:BB96,5)","v":0},{"$f":"COUNTIF(O96:BB96,10)","v":0},null,{"$f":"$D$9*$D$8","v":40},{"$f":"SUM(BF96:BK96)","v":0},{"$f":"BN96/BM96","v":0},{"$f":"BK96/BN96","v":{"$error":"#DIV/0!"}}]
[100134,"E Payne",30,null,45,140012,36,"Ian payne","Gas","N",2,"Clitheroe","10:18:30",{"$f":"M97+TIME(7,0,0)","v":"17:18:30"},null,null,null,null,null,null,null,null,null,null,null,null,null,null,null,null,null,null,null,null,null,null,null,null,null,null,null,null,null,null,null,null,null,null,null,null,null,null,null,null,null,null,"NS",{"$f":"COUNTIF(O97:BB97,0)","v":0},{"$f":"COUNTIF(O97:BB97,1)","v":0},{"$f":"COUNTIF(O97:BB97,2)","v":0},{"$f":"COUNTIF(O97:BB97,3)","v":0},{"$f":"COUNTIF(O97:BB97,5)","v":0},{"$f":"COUNTIF(O97:BB97,10)","v":0},null,{"$f":"$D$9*$D$8","v":40},{"$f":"SUM(BF97:BK97)","v":0},{"$f":"BN97/BM97","v":0},{"$f":"BK97/BN97","v":{"$error":"#DIV/0!"}}]
[".",null,null,null,40,20610,68,"Patrick Plant","Gas","N",2,"Mow Cop","10:34:30",{"$f":"M98+TIME(7,0,0)","v":"17:34:30"},null,null,null,null,null,null,null,null,null,null,null,null,null,null,null,null,null,null,null,null,null,null,null,null,null,null,null,null,null,null,null,null,null,null,null,null,null,null,null,null,null,null,"NS",{"$f":"COUNTIF(O98:BB98,0)","v":0},{"$f":"COUNTIF(O98:BB98,1)","v":0},{"$f":"COUNTIF(O98:BB98,2)","v":0},{"$f":"COUNTIF(O98:BB98,3)","v":0},{"$f":"COUNTIF(O98:BB98,5)","v":0},{"$f":"COUNTIF(O98:BB98,10)","v":0},null,{"$f":"$D$9*$D$8","v":40},{"$f":"SUM(BF98:BK98)","v":0},{"$f":"BN98/BM98","v":0},{"$f":"BK98/BN98","v":{"$error":"#DIV/0!"}}]
[922,"DM Holmes",30,null,49,106011,85,"Darren Holmes","4RT","N",2,"Oakworth","10:43:30",{"$f":"M99+TIME(7,0,0)","v":"17:43:30"},null,null,null,null,null,null,null,null,null,null,null,null,null,null,null,null,null,null,null,null,null,null,null,null,null,null,null,null,null,null,null,null,null,null,null,null,null,null,null,null,null,null,"ns",{"$f":"COUNTIF(O99:BB99,0)","v":0},{"$f":"COUNTIF(O99:BB99,1)","v":0},{"$f":"COUNTIF(O99:BB99,2)","v":0},{"$f":"COUNTIF(O99:BB99,3)","v":0},{"$f":"COUNTIF(O99:BB99,5)","v":0},{"$f":"COUNTIF(O99:BB99,10)","v":0},null,{"$f":"$D$9*$D$8","v":40},{"$f":"SUM(BF99:BK99)","v":0},{"$f":"BN99/BM99","v":0},{"$f":"BK99/BN99","v":{"$error":"#DIV/0!"}}]
[22003,"G tales",30,null,58,20600,87,"Graham Tales","Mon","I",2,"Ilkley","10:44:30",{"$f":"M100+TIME(7,0,0)","v":"17:44:30"},null,null,null,null,null,null,null,null,null,null,null,null,null,null,null,null,null,null,null,null,null,null,null,null,null,null,null,null,null,null,null,null,null,null,null,null,null,null,null,null,null,null,"ns",{"$f":"COUNTIF(O100:BB100,0)","v":0},{"$f":"COUNTIF(O100:BB100,1)","v":0},{"$f":"COUNTIF(O100:BB100,2)","v":0},{"$f":"COUNTIF(O100:BB100,3)","v":0},{"$f":"COUNTIF(O100:BB100,5)","v":0},{"$f":"COUNTIF(O100:BB100,10)","v":0},null,{"$f":"$D$9*$D$8","v":40},{"$f":"SUM(BF100:BK100)","v":0},{"$f":"BN100/BM100","v":0},{"$f":"BK100/BN100","v":{"$error":"#DIV/0!"}}]
[100921,"David Fallows",30,null,87,94526,91,"David Fallows","Gas","N",2,"Bolton","10:46:30",{"$f":"M101+TIME(7,0,0)","v":"17:46:30"},null,null,null,null,null,null,null,null,null,null,null,null,null,null,null,null,null,null,null,null,null,null,null,null,null,null,null,null,null,null,null,null,null,null,null,null,null,null,null,null,null,null,"ns",{"$f":"COUNTIF(O101:BB101,0)","v":0},{"$f":"COUNTIF(O101:BB101,1)","v":0},{"$f":"COUNTIF(O101:BB101,2)","v":0},{"$f":"COUNTIF(O101:BB101,3)","v":0},{"$f":"COUNTIF(O101:BB101,5)","v":0},{"$f":"COUNTIF(O101:BB101,10)","v":0},null,{"$f":"$D$9*$D$8","v":40},{"$f":"SUM(BF101:BK101)","v":0},{"$f":"BN101/BM101","v":0},{"$f":"BK101/BN101","v":{"$error":"#DIV/0!"}}]
[100173,"DM Coulson",30,null,9,77921,82,"Mark Coulson","Gas","E",2,"York","10:42:00",{"$f":"M102+TIME(7,0,0)","v":"17:42:00"},0,0,0,0,0,3,3,0,0,0,0,2,1,3,null,null,null,null,null,null,null,null,null,null,null,null,null,null,null,null,null,null,null,null,null,null,null,null,null,null,null,null,"RET",{"$f":"COUNTIF(O102:BB102,0)","v":9},{"$f":"COUNTIF(O102:BB102,1)","v":1},{"$f":"COUNTIF(O102:BB102,2)","v":1},{"$f":"COUNTIF(O102:BB102,3)","v":3},{"$f":"COUNTIF(O102:BB102,5)","v":0},{"$f":"COUNTIF(O102:BB102,10)","v":0},null,{"$f":"$D$9*$D$8","v":40},{"$f":"SUM(BF102:BK102)","v":14},{"$f":"BN102/BM102","v":0.35},{"$f":"BK102/BN102","v":0}]
[422456,"Mayne |Gas heatin",30,null,11,141824,11,"Darren Mayne","Gas","N",2,"Grimsby","10:06:00",{"$f":"M103+TIME(7,0,0)","v":"17:06:00"},3,0,3,5,3,5,5,3,1,5,1,3,0,3,5,3,5,5,3,5,0,3,3,1,1,5,2,5,3,0,0,3,5,5,0,null,null,null,null,null,1,null,"rET",{"$f":"COUNTIF(O103:BB103,0)","v":6},{"$f":"COUNTIF(O103:BB103,1)","v":4},{"$f":"COUNTIF(O103:BB103,2)","v":1},{"$f":"COUNTIF(O103:BB103,3)","v":12},{"$f":"COUNTIF(O103:BB103,5)","v":12},{"$f":"COUNTIF(O103:BB103,10)","v":0},null,{"$f":"$D$9*$D$8","v":40},{"$f":"SUM(BF103:BK103)","v":35},{"$f":"BN103/BM103","v":0.875},{"$f":"BK103/BN103","v":0}]
[100175,"DM Coulson",30,null,8,108669,81,"David Coulson","Gas","N",2,"York","10:41:30",{"$f":"M104+TIME(7,0,0)","v":"17:41:30"},0,0,1,3,3,2,5,0,0,3,3,3,0,3,null,null,null,null,null,null,null,null,null,null,null,null,null,null,null,null,null,null,null,null,null,null,null,null,null,null,null,null,"RET",{"$f":"COUNTIF(O104:BB104,0)","v":5},{"$f":"COUNTIF(O104:BB104,1)","v":1},{"$f":"COUNTIF(O104:BB104,2)","v":1},{"$f":"COUNTIF(O104:BB104,3)","v":6},{"$f":"COUNTIF(O104:BB104,5)","v":1},{"$f":"COUNTIF(O104:BB104,10)","v":0},null,{"$f":"$D$9*$D$8","v":40},{"$f":"SUM(BF104:BK104)","v":14},{"$f":"BN104/BM104","v":0.35},{"$f":"BK104/BN104","v":0}]
[".","PAY PAL 28.88",57.76,null,74,55969,25,"Colin Chapman","She","N",2,"Maltby","10:13:00",{"$f":"M105+TIME(7,0,0)","v":"17:13:00"},2,0,0,3,2,3,3,0,0,2,1,1,2,3,null,null,null,null,null,null,null,null,null,null,null,null,null,null,null,null,null,null,null,null,null,null,null,null,null,null,2,null,"RET",{"$f":"COUNTIF(O105:BB105,0)","v":4},{"$f":"COUNTIF(O105:BB105,1)","v":2},{"$f":"COUNTIF(O105:BB105,2)","v":4},{"$f":"COUNTIF(O105:BB105,3)","v":4},{"$f":"COUNTIF(O105:BB105,5)","v":0},{"$f":"COUNTIF(O105:BB105,10)","v":0},null,{"$f":"$D$9*$D$8","v":40},{"$f":"SUM(BF105:BK105)","v":14},{"$f":"BN105/BM105","v":0.35},{"$f":"BK105/BN105","v":0}]
[".",null,null,null,43,105434,70,"Richard Whalley","Gas","N",2,"Bignall End","10:36:00",{"$f":"M106+TIME(7,0,0)","v":"17:36:00"},0,1,1,3,3,2,3,3,1,1,3,3,0,2,null,null,null,null,null,null,null,null,null,null,null,null,null,null,null,null,null,null,null,null,null,null,null,null,null,null,null,null,"RET",{"$f":"COUNTIF(O106:BB106,0)","v":2},{"$f":"COUNTIF(O106:BB106,1)","v":4},{"$f":"COUNTIF(O106:BB106,2)","v":2},{"$f":"COUNTIF(O106:BB106,3)","v":6},{"$f":"COUNTIF(O106:BB106,5)","v":0},{"$f":"COUNTIF(O106:BB106,10)","v":0},null,{"$f":"$D$9*$D$8","v":40},{"$f":"SUM(BF106:BK106)","v":14},{"$f":"BN106/BM106","v":0.35},{"$f":"BK106/BN106","v":0}]
[null,null,null,null,null,null,null,null,null,null,null,null,null,null,null,null,null,null,null,null,null,null,null,null,null,null,null,null,null,null,null,null,null,null,null,null,null,null,null,null,null,null,null,null,null,null,null,null,null,null,null,null,null,null,null,null,{"$f":"SUM(O107:BD107)","v":0},{"$f":"COUNTIF(O107:BB107,0)","v":0},{"$f":"COUNTIF(O107:BB107,1)","v":0},{"$f":"COUNTIF(O107:BB107,2)","v":0},{"$f":"COUNTIF(O107:BB107,3)","v":0},{"$f":"COUNTIF(O107:BB107,5)","v":0},{"$f":"COUNTIF(O107:BB107,10)","v":0},null,{"$f":"$D$9*$D$8","v":40},{"$f":"SUM(BF107:BK107)","v":0},{"$f":"BN107/BM107","v":0},{"$f":"BK107/BN107","v":{"$error":"#DIV/0!"}}]
[null,null,null,null,null,null,null,null,null,null,null,null,null,null,null,null,null,null,null,null,null,null,null,null,null,null,null,null,null,null,null,null,null,null,null,null,null,null,null,null,null,null,null,null,null,null,null,null,null,null,null,null,null,null,null,null,0,0,0,0,0,0,0,null,40,0,0,{"$error":"#DIV/0!"}]
[]
[]
[]
[]
[]
[null,null,null,null,null,null,null,null,null,null,null,null,null,null,null,null,null,null,null,null,null,null,null,null,null,null,null,null,null,null,null,null,null,null,null,null,null,null,null,null,null,null,null,null,null,null,null,null,null,null,null,null,null,null,null,null,0,0,0,0,0,0,0,null,40,0,0,{"$error":"#DIV/0!"}]
[null,null,null,null,null,null,null,null,null,null,null,null,null,0,{"$f":"COUNTIF(O15:O114,0)","v":43},65,39,22,13,15,10,42,35,26,30,26,41,20,25,32,38,37,36,1,49,18,24,56,61,55,50,41,42,58,72,14,42,50,68,26,36,11,35,12]
[null,null,null,null,null,null,null,null,null,null,null,null,null,1,{"$f":"COUNTIF(O15:O114,1)","v":28},9,24,12,17,17,11,17,25,16,22,17,10,25,9,21,14,17,12,11,12,18,19,7,9,6,8,8,10,6,0,21,15,7,1,25,13,11,19,4]
[null,null,null,null,null,null,null,null,null,null,null,null,null,2,{"$f":"COUNTIF(O15:O114,2)","v":5},2,6,12,16,13,6,5,6,15,7,7,7,12,6,11,7,6,10,10,1,12,12,2,1,5,4,6,6,1,0,7,7,6,1,8,9,10,7,2]
[null,null,null,null,null,null,null,null,null,null,null,null,null,3,{"$f":"COUNTIF(O15:O114,3)","v":7},2,13,29,32,28,40,14,12,16,18,29,12,18,26,7,7,7,11,36,6,14,12,4,0,0,3,9,9,5,0,24,7,7,0,7,6,27,9,20]
[null,null,null,null,null,null,null,null,null,null,null,null,null,5,{"$f":"COUNTIF(O15:O114,5)","v":0},5,1,7,5,9,15,4,4,6,2,0,6,1,7,2,7,6,4,14,3,9,5,3,1,6,7,8,5,2,0,5,1,2,2,5,7,12,1,33]
[null,null,null,null,null,null,null,null,null,null,null,null,null,10,{"$f":"COUNTIF(O15:O114,10)","v":0},0,0,0,0,0,0,0,0,1,0,0,0,0,0,0,0,0,0,0,0,0,0,0,0,0,0,0,0,0,0,0,0,0,0,0,0,0,0,0]

{"sheet":"Time On Off","index":2,"n_rows":0,"n_cols":0,"rows_kept":0,"cut":false,"hidden":true,"merged":[[0,3,0,5],[1,3,1,5],[2,3,2,5],[3,3,3,5]]}

{"sheet":"Sign On","index":3,"n_rows":0,"n_cols":0,"rows_kept":0,"cut":false,"hidden":true,"merged":[]}

{"sheet":"Sign Off","index":4,"n_rows":0,"n_cols":0,"rows_kept":0,"cut":false,"hidden":true,"merged":[[0,1,0,2],[1,1,1,2],[2,1,2,2],[3,1,3,2]]}

{"sheet":"2014 Entry","index":5,"n_rows":121,"n_cols":64,"rows_kept":121,"cut":false,"hidden":true,"merged":[[0,30,0,31],[0,12,0,14],[0,15,0,17],[0,18,0,20],[0,21,0,24],[0,25,0,28],[0,49,0,50],[0,32,0,35],[0,36,0,39],[0,40,0,41],[0,42,0,43],[0,44,0,46],[0,47,0,48]]}
[null,null,null,null,null,null,null,null,null,null,null,null,"Flame Thrower",null,null,"Fountains Fell",null,null,"Litton Track",null,null,"Ellershaw Farm",null,null,null,"Arncliffe Scree",null,null,null,"Hawkswick","Sleets",null,"Hagg Gill",null,null,null,"Yockenthwaite",null,null,null,"Raisgill",null,"Bouther Gill",null,"Wilks Field",null,null,"Robbo's A",null,"Newshot Gill",null,"Halton Gill"]
["Chq No","Name","Amount","Start","Finish","ACU","No.","Name","Bike","CL","CO","Town",1,2,3,4,5,6,7,8,9,10,11,12,13,14,15,16,17,18,19,20,21,22,23,24,25,26,27,28,29,30,31,32,33,34,35,36,37,38,39,40,"late start","late finish","total","0s","1s","2s","3s","5s","10s",null,"Check 1","Check2"]
[null,null,null,"10:01:00",{"$f":"D3+TIME(7,0,0)","v":"17:01:00"},null,1,null,null,null,null,null,null,null,null,null,null,null,null,null,null,null,null,null,null,null,null,null,null,null,null,null,null,null,null,null,null,null,null,null,null,null,null,null,null,null,null,null,null,null,null,null,null,null,{"$f":"SUM(M3:BB3)","v":0},{"$f":"COUNTIF(M3:AZ3,0)","v":0},{"$f":"COUNTIF(M3:AZ3,1)","v":0},{"$f":"COUNTIF(M3:AZ3,2)","v":0},{"$f":"COUNTIF(M3:AZ3,3)","v":0},{"$f":"COUNTIF(M3:AZ3,5)","v":0},{"$f":"COUNTIF(M3:AZ3,10)","v":0},null,{"$f":"COUNTA(M3:AZ3)","v":0},{"$f":"SUM(BD3:BI3)","v":0}]
[null,null,null,"10:01:30",{"$f":"D4+TIME(7,0,0)","v":"17:01:30"},null,2,null,null,null,null,null,null,null,null,null,null,null,null,null,null,null,null,null,null,null,null,null,null,null,null,null,null,null,null,null,null,null,null,null,null,null,null,null,null,null,null,null,null,null,null,null,null,null,0,0,0,0,0,0,0,null,0,0]
[null,null,null,"10:02:00","17:02:00",null,3,null,null,null,null,null,null,null,null,null,null,null,null,null,null,null,null,null,null,null,null,null,null,null,null,null,null,null,null,null,null,null,null,null,null,null,null,null,null,null,null,null,null,null,null,null,null,null,0,0,0,0,0,0,0,null,0,0]
[null,null,null,"10:02:30","17:02:30",null,4,null,null,null,null,null,null,null,null,null,null,null,null,null,null,null,null,null,null,null,null,null,null,null,null,null,null,null,null,null,null,null,null,null,null,null,null,null,null,null,null,null,null,null,null,null,null,null,0,0,0,0,0,0,0,null,0,0]
[100605,"JP Banks",84,"10:03:00","17:03:00",148919,5,"John Banks","Mon","N","B","Thirsk",null,null,null,null,null,null,null,null,null,null,null,null,null,null,null,null,null,null,null,null,null,null,null,null,null,null,null,null,null,null,null,null,null,null,null,null,null,null,null,null,null,null,0,0,0,0,0,0,0,null,0,0]
[null,null,null,"10:03:30","17:03:30",10991,6,"David Hardy","Mon","N","B","Sutton on Forest",null,null,null,null,null,null,null,null,null,null,null,null,null,null,null,null,null,null,null,null,null,null,null,null,null,null,null,null,null,null,null,null,null,null,null,null,null,null,null,null,null,null,0,0,0,0,0,0,0,null,0,0]
[null,null,null,"10:04:00","17:04:00",64977,7,"Richard Sanderson","Gas","N","B","Eastwold",null,null,null,null,null,null,null,null,null,null,null,null,null,null,null,null,null,null,null,null,null,null,null,null,null,null,null,null,null,null,null,null,null,null,null,null,null,null,null,null,null,null,0,0,0,0,0,0,0,null,0,0]
[299803,"Yorkshire BS",28,"10:04:30","17:04:30",5957,8,"Andrew Jackson","Gas","N","B","Thornhill",null,null,null,null,null,null,null,null,null,null,null,null,null,null,null,null,null,null,null,null,null,null,null,null,null,null,null,null,null,null,null,null,null,null,null,null,null,null,null,null,null,null,0,0,0,0,0,0,0,null,0,0]
[100320,"JH Lee",56,"10:05:00","17:05:00",6173,9,"Jonathan Lee","She","E","B","Higham Ferrers",null,null,null,null,null,null,null,null,null,null,null,null,null,null,null,null,null,null,null,null,null,null,null,null,null,null,null,null,null,null,null,null,null,null,null,null,null,null,null,null,null,null,0,0,0,0,0,0,0,null,0,0]
[null,null,null,"10:05:30","17:05:30",72694,10,"Steve Swanson","Bet","E","B","Finedon",null,null,null,null,null,null,null,null,null,null,null,null,null,null,null,null,null,null,null,null,null,null,null,null,null,null,null,null,null,null,null,null,null,null,null,null,null,null,null,null,null,null,0,0,0,0,0,0,0,null,0,0]
[100051,"I Rutter",56,"10:06:00","17:06:00",15597,11,"Ian Rutter","Gas","N","B","Hunwick",null,null,null,null,null,null,null,null,null,null,null,null,null,null,null,null,null,null,null,null,null,null,null,null,null,null,null,null,null,null,null,null,null,null,null,null,null,null,null,null,null,null,0,0,0,0,0,0,0,null,0,0]
[null,null,null,"10:06:30","17:06:30",8866,12,"Geoff Fielding","Gas","N","B","Hunwick",null,null,null,null,null,null,null,null,null,null,null,null,null,null,null,null,null,null,null,null,null,null,null,null,null,null,null,null,null,null,null,null,null,null,null,null,null,null,null,null,null,null,0,0,0,0,0,0,0,null,0,0]
[100147,"Mr DM Coulson",28,"10:07:00","17:07:00",108669,13,"David Coulson","Gas","N","B","York",null,null,null,null,null,null,null,null,null,null,null,null,null,null,null,null,null,null,null,null,null,null,null,null,null,null,null,null,null,null,null,null,null,null,null,null,null,null,null,null,null,null,0,0,0,0,0,0,0,null,0,0]
[100145,"Mr DM Coulson",28,"10:07:30","17:07:30",44656,14,"Alan Carr","Gas","E","B","Scarborough",null,null,null,null,null,null,null,null,null,null,null,null,null,null,null,null,null,null,null,null,null,null,null,null,null,null,null,null,null,null,null,null,null,null,null,null,null,null,null,null,null,null,0,0,0,0,0,0,0,null,0,0]
[100146,"Mr DM Coulson",28,"10:08:00","17:08:00",77921,15,"Mark Coulson","Gas","E","B","York",null,null,null,null,null,null,null,null,null,null,null,null,null,null,null,null,null,null,null,null,null,null,null,null,null,null,null,null,null,null,null,null,null,null,null,null,null,null,null,null,null,null,0,0,0,0,0,0,0,null,0,0]
[22003,"P Kershaw",28,"10:08:30","17:08:30",108787,16,"Mark Taylor","Bet","I","B","Scarborough",null,null,null,null,null,null,null,null,null,null,null,null,null,null,null,null,null,null,null,null,null,null,null,null,null,null,null,null,null,null,null,null,null,null,null,null,null,null,null,null,null,null,0,0,0,0,0,0,0,null,0,0]
[22004,"P Kershaw",28,"10:09:00","17:09:00",25414,17,"Simon Kershaw","Bet","E","A","Scarborough",null,null,null,null,null,null,null,null,null,null,null,null,null,null,null,null,null,null,null,null,null,null,null,null,null,null,null,null,null,null,null,null,null,null,null,null,null,null,null,null,null,null,0,0,0,0,0,0,0,null,0,0]
[264,"P Scott",28,"10:09:30","17:09:30",108543,18,"Phil Scott","Gas","N","B","Barrowford",null,null,null,null,null,null,null,null,null,null,null,null,null,null,null,null,null,null,null,null,null,null,null,null,null,null,null,null,null,null,null,null,null,null,null,null,null,null,null,null,null,null,0,0,0,0,0,0,0,null,0,0]
[100087,"R Barber",28,"10:10:00","17:10:00",77120,19,"Rob Barber","Bet","N","B","Skipton",null,null,null,null,null,null,null,null,null,null,null,null,null,null,null,null,null,null,null,null,null,null,null,null,null,null,null,null,null,null,null,null,null,null,null,null,null,null,null,null,null,null,0,0,0,0,0,0,0,null,0,0]
[100068,"JJ Moorhouse",28,"10:10:30","17:10:30",131789,20,"James Moorhouse","Gas","N","B","Skipton",null,null,null,null,null,null,null,null,null,null,null,null,null,null,null,null,null,null,null,null,null,null,null,null,null,null,null,null,null,null,null,null,null,null,null,null,null,null,null,null,null,null,0,0,0,0,0,0,0,null,0,0]
[100122,"A Barber",28,"10:11:00","17:11:00",112591,21,"Ant Barber","Bet","N","B","Skipton",null,null,null,null,null,null,null,null,null,null,null,null,null,null,null,null,null,null,null,null,null,null,null,null,null,null,null,null,null,null,null,null,null,null,null,null,null,null,null,null,null,null,0,0,0,0,0,0,0,null,0,0]
[22071,"Alan Mudd Construction",28,"10:11:30","17:11:30",113572,22,"Alan Mudd","Gas","N","B","Skipton",null,null,null,null,null,null,null,null,null,null,null,null,null,null,null,null,null,null,null,null,null,null,null,null,null,null,null,null,null,null,null,null,null,null,null,null,null,null,null,null,null,null,0,0,0,0,0,0,0,null,0,0]
[100199,"Mr MC ward",28,"10:12:00","17:12:00",10514,23,"Michael Ward","Bet","N","B","Bradford",null,null,null,null,null,null,null,null,null,null,null,null,null,null,null,null,null,null,null,null,null,null,null,null,null,null,null,null,null,null,null,null,null,null,null,null,null,null,null,null,null,null,0,0,0,0,0,0,0,null,0,0]
[100130,"N Cockerham",28,"10:12:30","17:12:30",99444,24,"Nigel Cockerham","She","N","B","Castleford",null,null,null,null,null,null,null,null,null,null,null,null,null,null,null,null,null,null,null,null,null,null,null,null,null,null,null,null,null,null,null,null,null,null,null,null,null,null,null,null,null,null,0,0,0,0,0,0,0,null,0,0]
[100112,"RE Thornton",28,"10:13:00","17:13:00",79834,25,"Richard Thornton","Gas","N","B","Leeds",null,null,null,null,null,null,null,null,null,null,null,null,null,null,null,null,null,null,null,null,null,null,null,null,null,null,null,null,null,null,null,null,null,null,null,null,null,null,null,null,null,null,0,0,0,0,0,0,0,null,0,0]
[22130,"R Armstrong",28,"10:13:30","17:13:30",124986,26,"Richard Armstrong","Bet","N","B","Silsden",null,null,null,null,null,null,null,null,null,null,null,null,null,null,null,null,null,null,null,null,null,null,null,null,null,null,null,null,null,null,null,null,null,null,null,null,null,null,null,null,null,null,0,0,0,0,0,0,0,null,0,0]
[100751,"M R Whelan",28,"10:14:00","17:14:00",77960,27,"Mark Whelan","4RT","N","B","Aberford",null,null,null,null,null,null,null,null,null,null,null,null,null,null,null,null,null,null,null,null,null,null,null,null,null,null,null,null,null,null,null,null,null,null,null,null,null,null,null,null,null,null,0,0,0,0,0,0,0,null,0,0]
["TO PAY",null,null,"10:14:30","17:14:30",126272,28,"Richard Midgley","Bet","N","B","Silsden",null,null,null,null,null,null,null,null,null,null,null,null,null,null,null,null,null,null,null,null,null,null,null,null,null,null,null,null,null,null,null,null,null,null,null,null,null,null,null,null,null,null,0,0,0,0,0,0,0,null,0,0]
["TO PAY",null,null,"10:15:00","17:15:00",null,29,"Tim Woodhead","She","N","B","Silsden",null,null,null,null,null,null,null,null,null,null,null,null,null,null,null,null,null,null,null,null,null,null,null,null,null,null,null,null,null,null,null,null,null,null,null,null,null,null,null,null,null,null,0,0,0,0,0,0,0,null,0,0]
["BACS",null,140,"10:15:30","17:15:30",118825,30,"Stephen Bennett","Bet","N","B","Shilden",null,null,null,null,null,null,null,null,null,null,null,null,null,null,null,null,null,null,null,null,null,null,null,null,null,null,null,null,null,null,null,null,null,null,null,null,null,null,null,null,null,null,0,0,0,0,0,0,0,null,0,0]
[null,null,null,"10:16:00","17:16:00",134345,31,"Ernie Byrne","Bet","N","B","Spennymoor",null,null,null,null,null,null,null,null,null,null,null,null,null,null,null,null,null,null,null,null,null,null,null,null,null,null,null,null,null,null,null,null,null,null,null,null,null,null,null,null,null,null,0,0,0,0,0,0,0,null,0,0]
[null,null,null,"10:16:30","17:16:30",118824,32,"John Bennett","Oss","N","B","Shilden",null,null,null,null,null,null,null,null,null,null,null,null,null,null,null,null,null,null,null,null,null,null,null,null,null,null,null,null,null,null,null,null,null,null,null,null,null,null,null,null,null,null,0,0,0,0,0,0,0,null,0,0]
[null,null,null,"10:17:00","17:17:00",147526,33,"Richard Hawes","Bet","N","B","Kiphill Stanley",null,null,null,null,null,null,null,null,null,null,null,null,null,null,null,null,null,null,null,null,null,null,null,null,null,null,null,null,null,null,null,null,null,null,null,null,null,null,null,null,null,null,0,0,0,0,0,0,0,null,0,0]
[null,null,null,"10:17:30","17:17:30",9036,34,"Scott Mayhew","She","N","B","Bishop Middleham",null,null,null,null,null,null,null,null,null,null,null,null,null,null,null,null,null,null,null,null,null,null,null,null,null,null,null,null,null,null,null,null,null,null,null,null,null,null,null,null,null,null,0,0,0,0,0,0,0,null,0,0]
[100085,"IE Payne",28,"10:18:00","17:18:00",140012,35,"Ian Payne","Oss","N","B","Clitheroe",null,null,null,null,null,null,null,null,null,null,null,null,null,null,null,null,null,null,null,null,null,null,null,null,null,null,null,null,null,null,null,null,null,null,null,null,null,null,null,null,null,null,0,0,0,0,0,0,0,null,0,0]
["CASH",null,28,"10:18:30","17:18:30",122283,36,"Stephen Smith","Gas","N","B","Barnoldswick",null,null,null,null,null,null,null,null,null,null,null,null,null,null,null,null,null,null,null,null,null,null,null,null,null,null,null,null,null,null,null,null,null,null,null,null,null,null,null,null,null,null,0,0,0,0,0,0,0,null,0,0]
["CASH",null,30,"10:19:00","17:19:00",122284,37,"Tom Smith","4RT","I","B","Glusburn",null,null,null,null,null,null,null,null,null,null,null,null,null,null,null,null,null,null,null,null,null,null,null,null,null,null,null,null,null,null,null,null,null,null,null,null,null,null,null,null,null,null,0,0,0,0,0,0,0,null,0,0]
["CASH",null,30,"10:19:30","17:19:30",25543,38,"Anthony Farrow","Mon","I","B","Nelsom",null,null,null,null,null,null,null,null,null,null,null,null,null,null,null,null,null,null,null,null,null,null,null,null,null,null,null,null,null,null,null,null,null,null,null,null,null,null,null,null,null,null,0,0,0,0,0,0,0,null,0,0]
[199,"L Black",168,"10:20:00","17:20:00",129472,39,"Lee Black","Gas","N","B","Waterthorpe",null,null,null,null,null,null,null,null,null,null,null,null,null,null,null,null,null,null,null,null,null,null,null,null,null,null,null,null,null,null,null,null,null,null,null,null,null,null,null,null,null,null,0,0,0,0,0,0,0,null,0,0]
[null,null,null,"10:20:30","17:20:30",13156,40,"Lewis Black","Gas","N","A","Stannington",null,null,null,null,null,null,null,null,null,null,null,null,null,null,null,null,null,null,null,null,null,null,null,null,null,null,null,null,null,null,null,null,null,null,null,null,null,null,null,null,null,null,0,0,0,0,0,0,0,null,0,0]
[null,null,null,"10:21:00","17:21:00",31017,41,"Oliver Twigg","Gas","N","B","Rotherham",null,null,null,null,null,null,null,null,null,null,null,null,null,null,null,null,null,null,null,null,null,null,null,null,null,null,null,null,null,null,null,null,null,null,null,null,null,null,null,null,null,null,0,0,0,0,0,0,0,null,0,0]
[null,null,null,"10:21:30","17:21:30",112584,42,"Andy Turner","Bet","N","B","Barnsley",null,null,null,null,null,null,null,null,null,null,null,null,null,null,null,null,null,null,null,null,null,null,null,null,null,null,null,null,null,null,null,null,null,null,null,null,null,null,null,null,null,null,0,0,0,0,0,0,0,null,0,0]
[null,null,null,"10:22:00","17:22:00",20482,43,"Gavin Black","4RT","I","A","Barnsley",null,null,null,null,null,null,null,null,null,null,null,null,null,null,null,null,null,null,null,null,null,null,null,null,null,null,null,null,null,null,null,null,null,null,null,null,null,null,null,null,null,null,0,0,0,0,0,0,0,null,0,0]
[null,null,null,"10:22:30","17:22:30",118207,44,"Richard Hardwick","Gas","N","B","Chapletown",null,null,null,null,null,null,null,null,null,null,null,null,null,null,null,null,null,null,null,null,null,null,null,null,null,null,null,null,null,null,null,null,null,null,null,null,null,null,null,null,null,null,0,0,0,0,0,0,0,null,0,0]
[26,"Sam Boocock",28,"10:23:00","17:23:00",88036,45,"Sam Boocock","She","N","A","Halifax",null,null,null,null,null,null,null,null,null,null,null,null,null,null,null,null,null,null,null,null,null,null,null,null,null,null,null,null,null,null,null,null,null,null,null,null,null,null,null,null,null,null,0,0,0,0,0,0,0,null,0,0]
[100151,"NP Cahill",28,"10:23:30","17:23:30",114327,46,"Sam Cahill","She","N","A","Ilkley",null,null,null,null,null,null,null,null,null,null,null,null,null,null,null,null,null,null,null,null,null,null,null,null,null,null,null,null,null,null,null,null,null,null,null,null,null,null,null,null,null,null,0,0,0,0,0,0,0,null,0,0]
[50,"Gary Rushton",28,"10:24:00","17:24:00",101963,47,"Thomas Rushton","Bet","I","A","Colne",null,null,null,null,null,null,null,null,null,null,null,null,null,null,null,null,null,null,null,null,null,null,null,null,null,null,null,null,null,null,null,null,null,null,null,null,null,null,null,null,null,null,0,0,0,0,0,0,0,null,0,0]
[100046,"DJ Gamble",28,"10:24:30","17:24:30",63776,48,"Danny Gamble","Bet","E","A","Harrogate",null,null,null,null,null,null,null,null,null,null,null,null,null,null,null,null,null,null,null,null,null,null,null,null,null,null,null,null,null,null,null,null,null,null,null,null,null,null,null,null,null,null,0,0,0,0,0,0,0,null,0,0]
["TO PAY",null,null,"10:25:00","17:25:00",null,49,"Nathan Wriggleworth","She","E","A","Cowling",null,null,null,null,null,null,null,null,null,null,null,null,null,null,null,null,null,null,null,null,null,null,null,null,null,null,null,null,null,null,null,null,null,null,null,null,null,null,null,null,null,null,0,0,0,0,0,0,0,null,0,0]
[100372,"MJ Reynolds",28,"10:25:30","17:25:30",90659,50,"William Reynolds","Bet","E","A","Skeeby",null,null,null,null,null,null,null,null,null,null,null,null,null,null,null,null,null,null,null,null,null,null,null,null,null,null,null,null,null,null,null,null,null,null,null,null,null,null,null,null,null,null,0,0,0,0,0,0,0,null,0,0]
[196,"P waite",28,"10:26:00","17:26:00",109873,51,"Rob Waite","Bet","E","A","Darlington",null,null,null,null,null,null,null,null,null,null,null,null,null,null,null,null,null,null,null,null,null,null,null,null,null,null,null,null,null,null,null,null,null,null,null,null,null,null,null,null,null,null,0,0,0,0,0,0,0,null,0,0]
[305,"Ian Austermuhle",28,"10:26:30","17:26:30",5401,52,"Ian Austermuhle","Bet","E","A","Malton",null,null,null,null,null,null,null,null,null,null,null,null,null,null,null,null,null,null,null,null,null,null,null,null,null,null,null,null,null,null,null,null,null,null,null,null,null,null,null,null,null,null,0,0,0,0,0,0,0,null,0,0]
[10,"RH Crosby",28,"10:27:00","17:27:00",null,53,"Ross Crosby","Bet","E","A","Trawden",null,null,null,null,null,null,null,null,null,null,null,null,null,null,null,null,null,null,null,null,null,null,null,null,null,null,null,null,null,null,null,null,null,null,null,null,null,null,null,null,null,null,0,0,0,0,0,0,0,null,0,0]
[null,null,null,"10:27:30","17:27:30",null,54,null,null,null,null,null,null,null,null,null,null,null,null,null,null,null,null,null,null,null,null,null,null,null,null,null,null,null,null,null,null,null,null,null,null,null,null,null,null,null,null,null,null,null,null,null,null,null,0,0,0,0,0,0,0,null,0,0]
[18,"SD Traves",28,"10:28:00","17:28:00",null,55,"Simon Traves","She","E","A","Salby",null,null,null,null,null,null,null,null,null,null,null,null,null,null,null,null,null,null,null,null,null,null,null,null,null,null,null,null,null,null,null,null,null,null,null,null,null,null,null,null,null,null,0,0,0,0,0,0,0,null,0,0]
[100032,"AG Frith",28,"10:28:30","17:28:30",103690,56,"Adam Frith","Gas","I","A","Horncastle",null,null,null,null,null,null,null,null,null,null,null,null,null,null,null,null,null,null,null,null,null,null,null,null,null,null,null,null,null,null,null,null,null,null,null,null,null,null,null,null,null,null,0,0,0,0,0,0,0,null,0,0]
[148,"PS Marwood",28,"10:29:00","17:29:00",102454,57,"Paul Marwood","She","I","B","Alford",null,null,null,null,null,null,null,null,null,null,null,null,null,null,null,null,null,null,null,null,null,null,null,null,null,null,null,null,null,null,null,null,null,null,null,null,null,null,null,null,null,null,0,0,0,0,0,0,0,null,0,0]
[80007,"MJ Awcock",28,"10:29:30","17:29:30",116235,58,"Mark Awcock","Bet","I","B","Gt Gonerby",null,null,null,null,null,null,null,null,null,null,null,null,null,null,null,null,null,null,null,null,null,null,null,null,null,null,null,null,null,null,null,null,null,null,null,null,null,null,null,null,null,null,0,0,0,0,0,0,0,null,0,0]
[102142,"Rob Mcelnea",28,"10:30:00","17:30:00",126271,59,"Rob McElner","Bet","I","B","Lincoln",null,null,null,null,null,null,null,null,null,null,null,null,null,null,null,null,null,null,null,null,null,null,null,null,null,null,null,null,null,null,null,null,null,null,null,null,null,null,null,null,null,null,0,0,0,0,0,0,0,null,0,0]
[null,null,null,"10:30:30","17:30:30",null,60,null,null,null,null,null,null,null,null,null,null,null,null,null,null,null,null,null,null,null,null,null,null,null,null,null,null,null,null,null,null,null,null,null,null,null,null,null,null,null,null,null,null,null,null,null,null,null,0,0,0,0,0,0,0,null,0,0]
["BACS",null,28,"10:31:00","17:31:00",116820,61,"Andrew Curwen","She","I","B","Scorton",null,null,null,null,null,null,null,null,null,null,null,null,null,null,null,null,null,null,null,null,null,null,null,null,null,null,null,null,null,null,null,null,null,null,null,null,null,null,null,null,null,null,0,0,0,0,0,0,0,null,0,0]
["Cash",null,null,"10:31:30","17:31:30",103638,62,"Lee Whelan","4RT","E","A","Waterfoot",null,null,null,null,null,null,null,null,null,null,null,null,null,null,null,null,null,null,null,null,null,null,null,null,null,null,null,null,null,null,null,null,null,null,null,null,null,null,null,null,null,null,0,0,0,0,0,0,0,null,0,0]
["Cash",null,null,"10:32:00","17:32:00",null,63,"Steve Shutt","Bet","N","B","Blackburn",null,null,null,null,null,null,null,null,null,null,null,null,null,null,null,null,null,null,null,null,null,null,null,null,null,null,null,null,null,null,null,null,null,null,null,null,null,null,null,null,null,null,0,0,0,0,0,0,0,null,0,0]
["Cash",null,null,"10:32:30","17:32:30",27530,64,"Daniel Ralphs","4RT","N","B","Accrington",null,null,null,null,null,null,null,null,null,null,null,null,null,null,null,null,null,null,null,null,null,null,null,null,null,null,null,null,null,null,null,null,null,null,null,null,null,null,null,null,null,null,0,0,0,0,0,0,0,null,0,0]
[2229,"CM Wilkinson",28,"10:33:00","17:33:00",133233,65,"John Wilkinson","Mon","N","B","Rochdale",null,null,null,null,null,null,null,null,null,null,null,null,null,null,null,null,null,null,null,null,null,null,null,null,null,null,null,null,null,null,null,null,null,null,null,null,null,null,null,null,null,null,{"$f":"SUM(M67:BB67)","v":0},{"$f":"COUNTIF(M67:AZ67,0)","v":0},{"$f":"COUNTIF(M67:AZ67,1)","v":0},{"$f":"COUNTIF(M67:AZ67,2)","v":0},{"$f":"COUNTIF(M67:AZ67,3)","v":0},{"$f":"COUNTIF(M67:AZ67,5)","v":0},{"$f":"COUNTIF(M67:AZ67,10)","v":0},null,{"$f":"COUNTA(M67:AZ67)","v":0},{"$f":"SUM(BD67:BI67)","v":0}]
[41,"SC Collinson",28,"10:33:30",{"$f":"D68+TIME(7,0,0)","v":"17:33:30"},130439,66,"Stephen Collinson","Bet","N","B","Gt Harwood",null,null,null,null,null,null,null,null,null,null,null,null,null,null,null,null,null,null,null,null,null,null,null,null,null,null,null,null,null,null,null,null,null,null,null,null,null,null,null,null,null,null,0,0,0,0,0,0,0,null,0,0]
[102059,"BNI Construction",28,"10:34:00","17:34:00",124050,67,"Julian Ingham","Bet","N","B","Ramsbottom",null,null,null,null,null,null,null,null,null,null,null,null,null,null,null,null,null,null,null,null,null,null,null,null,null,null,null,null,null,null,null,null,null,null,null,null,null,null,null,null,null,null,0,0,0,0,0,0,0,null,0,0]
[22049,"BNI Builders",28,"10:34:30","17:34:30",122607,68,"Oliver Ingham","She","N","B","Bacup",null,null,null,null,null,null,null,null,null,null,null,null,null,null,null,null,null,null,null,null,null,null,null,null,null,null,null,null,null,null,null,null,null,null,null,null,null,null,null,null,null,null,0,0,0,0,0,0,0,null,0,0]
[null,"Ben Johnson",null,"10:35:00","17:35:00",null,69,"Ben Johnson","She","E","B","Shaffesbury",null,null,null,null,null,null,null,null,null,null,null,null,null,null,null,null,null,null,null,null,null,null,null,null,null,null,null,null,null,null,null,null,null,null,null,null,null,null,null,null,null,null,0,0,0,0,0,0,0,null,0,0]
[176,"Oliver ward",56,"10:35:30","17:35:30",51096,70,"Oliver Ward","She","N","B","Bruton",null,null,null,null,null,null,null,null,null,null,null,null,null,null,null,null,null,null,null,null,null,null,null,null,null,null,null,null,null,null,null,null,null,null,null,null,null,null,null,null,null,null,0,0,0,0,0,0,0,null,0,0]
[100434,"GR Tales",28,"10:36:00","17:36:00",20600,71,"Graham Tales","She","I","B","Ilkley",null,null,null,null,null,null,null,null,null,null,null,null,null,null,null,null,null,null,null,null,null,null,null,null,null,null,null,null,null,null,null,null,null,null,null,null,null,null,null,null,null,null,0,0,0,0,0,0,0,null,0,0]
[100743,"A Tales",28,"10:36:30","17:36:30",63953,72,"Andy Tales","Bet","N","B","Ilkley",null,null,null,null,null,null,null,null,null,null,null,null,null,null,null,null,null,null,null,null,null,null,null,null,null,null,null,null,null,null,null,null,null,null,null,null,null,null,null,null,null,null,0,0,0,0,0,0,0,null,0,0]
[3241,"Mr W Wood",56,"10:37:00","17:37:00",6258,73,"William Wood","Bet","N","B","Rotherham",null,null,null,null,null,null,null,null,null,null,null,null,null,null,null,null,null,null,null,null,null,null,null,null,null,null,null,null,null,null,null,null,null,null,null,null,null,null,null,null,null,null,0,0,0,0,0,0,0,null,0,0]
[null,null,null,"10:37:30","17:37:30",16260,74,"Ian Haigh","Gas","N","B","Huddersfield",null,null,null,null,null,null,null,null,null,null,null,null,null,null,null,null,null,null,null,null,null,null,null,null,null,null,null,null,null,null,null,null,null,null,null,null,null,null,null,null,null,null,0,0,0,0,0,0,0,null,0,0]
[958,"Mr C Tolson",38,"10:38:00","17:38:00",19975,75,"Chris Tolson","Bet","N","B","Huddersfield",null,null,null,null,null,null,null,null,null,null,null,null,null,null,null,null,null,null,null,null,null,null,null,null,null,null,null,null,null,null,null,null,null,null,null,null,null,null,null,null,null,null,0,0,0,0,0,0,0,null,0,0]
["BACS",null,28,"10:38:30","17:38:30",70012368,76,"Barrie Darrell","Bet","N","B","Great Edstone",null,null,null,null,null,null,null,null,null,null,null,null,null,null,null,null,null,null,null,null,null,null,null,null,null,null,null,null,null,null,null,null,null,null,null,null,null,null,null,null,null,null,0,0,0,0,0,0,0,null,0,0]
[100059,"L Standring",28,"10:39:00","17:39:00",134197,77,"Luke Standring","Gas","N","B","Nelsom",null,null,null,null,null,null,null,null,null,null,null,null,null,null,null,null,null,null,null,null,null,null,null,null,null,null,null,null,null,null,null,null,null,null,null,null,null,null,null,null,null,null,0,0,0,0,0,0,0,null,0,0]
["BACS","BACS",28,"10:39:30","17:39:30",80693,78,"Roman Kyrnycryj","She","I","B","Gainsbrough",null,null,null,null,null,null,null,null,null,null,null,null,null,null,null,null,null,null,null,null,null,null,null,null,null,null,null,null,null,null,null,null,null,null,null,null,null,null,null,null,null,null,0,0,0,0,0,0,0,null,0,0]
[10097,"SP Clark",28,"10:40:00","17:40:00",100536,79,"Sam Clarke","Bet","I","B","Dronfield",null,null,null,null,null,null,null,null,null,null,null,null,null,null,null,null,null,null,null,null,null,null,null,null,null,null,null,null,null,null,null,null,null,null,null,null,null,null,null,null,null,null,0,0,0,0,0,0,0,null,0,0]
[100007,"J Philo",28,"10:40:30","17:40:30",147607,80,"James Philo","Gas","I","B","Irchester",null,null,null,null,null,null,null,null,null,null,null,null,null,null,null,null,null,null,null,null,null,null,null,null,null,null,null,null,null,null,null,null,null,null,null,null,null,null,null,null,null,null,0,0,0,0,0,0,0,null,0,0]
[300035,"GJ Richards",28,"10:41:00","17:41:00",23466,81,"Gavin J Richards","Gas","E","B","Merthyer Tydfil",null,null,null,null,null,null,null,null,null,null,null,null,null,null,null,null,null,null,null,null,null,null,null,null,null,null,null,null,null,null,null,null,null,null,null,null,null,null,null,null,null,null,0,0,0,0,0,0,0,null,0,0]
[201404,"BRB King",28,"10:41:30","17:41:30",12835,82,"Bretton King","4RT","N","B","Malmesbury",null,null,null,null,null,null,null,null,null,null,null,null,null,null,null,null,null,null,null,null,null,null,null,null,null,null,null,null,null,null,null,null,null,null,null,null,null,null,null,null,null,null,0,0,0,0,0,0,0,null,0,0]
["BACS",null,null,"10:42:00","17:42:00",147203,83,"Simon Armstrong","She","N","B","Harrogate",null,null,null,null,null,null,null,null,null,null,null,null,null,null,null,null,null,null,null,null,null,null,null,null,null,null,null,null,null,null,null,null,null,null,null,null,null,null,null,null,null,null,0,0,0,0,0,0,0,null,0,0]
[100778,"DS Arnall",28,"10:42:30","17:42:30",102705,84,"Stephen Arnall","Bet","N","B","Pudsey",null,null,null,null,null,null,null,null,null,null,null,null,null,null,null,null,null,null,null,null,null,null,null,null,null,null,null,null,null,null,null,null,null,null,null,null,null,null,null,null,null,null,0,0,0,0,0,0,0,null,0,0]
[611,"M Chippendale",28,"10:43:00","17:43:00",83184,85,"Mark Chippendale","Gas","N","B","Pudsey",null,null,null,null,null,null,null,null,null,null,null,null,null,null,null,null,null,null,null,null,null,null,null,null,null,null,null,null,null,null,null,null,null,null,null,null,null,null,null,null,null,null,0,0,0,0,0,0,0,null,0,0]
[1531,"D harper",28,"10:43:30","17:43:30",151409,86,"Daniel Harper","Bet","N","B","Nelson",null,null,null,null,null,null,null,null,null,null,null,null,null,null,null,null,null,null,null,null,null,null,null,null,null,null,null,null,null,null,null,null,null,null,null,null,null,null,null,null,null,null,0,0,0,0,0,0,0,null,0,0]
[100354,"AM Hartley",28,"10:44:00","17:44:00",null,87,"Mark Hartley","Gas","N","B","Nelson",null,null,null,null,null,null,null,null,null,null,null,null,null,null,null,null,null,null,null,null,null,null,null,null,null,null,null,null,null,null,null,null,null,null,null,null,null,null,null,null,null,null,0,0,0,0,0,0,0,null,0,0]
[100053,"S hartley",28,"10:44:30","17:44:30",147798,88,"Simon Hartley","She","N","B","Nelson",null,null,null,null,null,null,null,null,null,null,null,null,null,null,null,null,null,null,null,null,null,null,null,null,null,null,null,null,null,null,null,null,null,null,null,null,null,null,null,null,null,null,0,0,0,0,0,0,0,null,0,0]
[406,"David Cocker",28,"10:45:00","17:45:00",null,89,"David Cocker","Mon","N","B","Nelson",null,null,null,null,null,null,null,null,null,null,null,null,null,null,null,null,null,null,null,null,null,null,null,null,null,null,null,null,null,null,null,null,null,null,null,null,null,null,null,null,null,null,0,0,0,0,0,0,0,null,0,0]
[102184,"RF Welford",28,"10:45:30","17:45:30",142937,90,"Richard Welford","She","N","B","Ripon",null,null,null,null,null,null,null,null,null,null,null,null,null,null,null,null,null,null,null,null,null,null,null,null,null,null,null,null,null,null,null,null,null,null,null,null,null,null,null,null,null,null,0,0,0,0,0,0,0,null,0,0]
[100434,"AR Beane",28,"10:46:00","17:46:00",95195,91,"Andrew Beane","Gas","N","B","Yarm",null,null,null,null,null,null,null,null,null,null,null,null,null,null,null,null,null,null,null,null,null,null,null,null,null,null,null,null,null,null,null,null,null,null,null,null,null,null,null,null,null,null,0,0,0,0,0,0,0,null,0,0]
[300592,"A Denis",28,"10:46:30","17:46:30",108572,92,"Andrew Dennis","Gas","N","B","Stockton on Tees",null,null,null,null,null,null,null,null,null,null,null,null,null,null,null,null,null,null,null,null,null,null,null,null,null,null,null,null,null,null,null,null,null,null,null,null,null,null,null,null,null,null,0,0,0,0,0,0,0,null,0,0]
[109223,"Mrs Bennett",56,"10:47:00","17:47:00",20610,93,"Paul Bennett","She","E","B","Tunstall",null,null,null,null,null,null,null,null,null,null,null,null,null,null,null,null,null,null,null,null,null,null,null,null,null,null,null,null,null,null,null,null,null,null,null,null,null,null,null,null,null,null,0,0,0,0,0,0,0,null,0,0]
[null,null,null,"10:47:30","17:47:30",null,94,"Patrick Plant","Gas","E","B","Tunstall",null,null,null,null,null,null,null,null,null,null,null,null,null,null,null,null,null,null,null,null,null,null,null,null,null,null,null,null,null,null,null,null,null,null,null,null,null,null,null,null,null,null,0,0,0,0,0,0,0,null,0,0]
[100061,"AD Holmes",28,"10:48:00","17:48:00",77934,95,"Tony Holmes","Bet","N","B","Skipton",null,null,null,null,null,null,null,null,null,null,null,null,null,null,null,null,null,null,null,null,null,null,null,null,null,null,null,null,null,null,null,null,null,null,null,null,null,null,null,null,null,null,0,0,0,0,0,0,0,null,0,0]
[1008,"DM Holmes",28,"10:48:30","17:48:30",106011,98,"Darren Holmes","Bet","N","B","Oakworth",null,null,null,null,null,null,null,null,null,null,null,null,null,null,null,null,null,null,null,null,null,null,null,null,null,null,null,null,null,null,null,null,null,null,null,null,null,null,null,null,null,null,0,0,0,0,0,0,0,null,0,0]
["FREE",null,null,"10:49:00","17:49:00",80986,99,"Tom Middleton","Bet","N","A","Skipton",null,null,null,null,null,null,null,null,null,null,null,null,null,null,null,null,null,null,null,null,null,null,null,null,null,null,null,null,null,null,null,null,null,null,null,null,null,null,null,null,null,null,0,0,0,0,0,0,0,null,0,0]
["FREE",null,null,"10:49:30","17:49:30",null,100,"John Spensley","Mon","N","B","Skipton",null,null,null,null,null,null,null,null,null,null,null,null,null,null,null,null,null,null,null,null,null,null,null,null,null,null,null,null,null,null,null,null,null,null,null,null,null,null,null,null,null,null,0,0,0,0,0,0,0,null,0,0]
[null,null,null,null,null,null,null,null,null,null,null,null,null,null,null,null,null,null,null,null,null,null,null,null,null,null,null,null,null,null,null,null,null,null,null,null,null,null,null,null,null,null,null,null,null,null,null,null,null,null,null,null,null,null,0,0,0,0,0,0,0,null,0,0]
[null,null,null,null,null,null,null,null,null,null,null,null,null,null,null,null,null,null,null,null,null,null,null,null,null,null,null,null,null,null,null,null,null,null,null,null,null,null,null,null,null,null,null,null,null,null,null,null,null,null,null,null,null,null,0,0,0,0,0,0,0,null,0,0]
[null,null,null,null,null,null,null,null,null,null,null,null,null,null,null,null,null,null,null,null,null,null,null,null,null,null,null,null,null,null,null,null,null,null,null,null,null,null,null,null,null,null,null,null,null,null,null,null,null,null,null,null,null,null,0,0,0,0,0,0,0,null,0,0]
[null,null,null,null,null,null,null,"Exp",null,{"$f":"COUNTIF(J3:J103,\"e\")","v":17}]
[null,null,null,null,null,null,null,"Int",null,{"$f":"COUNTIF(J4:J104,\"i\")","v":14}]
[null,null,{"$f":"SUM(C3:C102)","v":2338},null,null,null,null,"Nov",null,{"$f":"COUNTIF(J5:J105,\"n\")","v":61}]
[null,null,null,null,null,null,null,"A Course",null,null,{"$f":"COUNTIF(K3:K101,\"A\")","v":16}]
[null,null,null,null,null,null,null,"B Course",null,null,{"$f":"COUNTIF(K3:K103,\"B\")","v":76}]
[null,null,null,null,null,null,null,"Total",{"$f":"COUNTA(H3:H101)","v":92},{"$f":"SUM(J104:J108)","v":92},{"$f":"SUM(K107:K108)","v":92}]
[]
[null,null,null,null,null,null,null,"Types of machine","Bet",{"$f":"COUNTIF(I3:I103,\"Bet\")","v":33},null,"Total 0s",{"$f":"SUM(BD14:BD102)","v":0}]
[null,null,null,null,null,null,null,null,"Gas",{"$f":"COUNTIF(I3:I103,\"Gas\")","v":26},null,"Total 1s",{"$f":"SUM(BE14:BE102)","v":0}]
[null,null,null,null,null,null,null,null,"She",{"$f":"COUNTIF(I3:I103,\"She\")","v":19},null,"Total 2s",{"$f":"SUM(BF14:BF102)","v":0}]
[null,null,null,null,null,null,null,null,"Sco",{"$f":"COUNTIF(I3:I103,\"sco\")","v":0},null,"Total 3s",{"$f":"SUM(BG14:BG102)","v":0}]
[null,null,null,null,null,null,null,null,"4RT",{"$f":"COUNTIF(I3:I103,\"4rt\")","v":6},null,"Total5s",{"$f":"SUM(BH14:BH102)","v":0}]
[null,null,null,null,null,null,null,null,"Mon",{"$f":"COUNTIF(I3:I103,\"mon\")","v":6},null,"Total 10s",{"$f":"SUM(BI14:BI102)","v":0}]
[null,null,null,null,null,null,null,null,"Yam",{"$f":"COUNTIF(I3:I103,\"yam\")","v":0}]
[null,null,null,null,null,null,null,null,"Bul",{"$f":"COUNTIF(I6:I103,\"Bul\")","v":0}]
[null,null,null,null,null,null,null,null,"Ossa",{"$f":"COUNTIF(I6:I103,\"Oss\")","v":2}]
[null,null,null,null,null,null,null,null,"Bet 4T",{"$f":"COUNTIF(I6:I109,\"Bet 4t\")","v":0}]
[null,null,null,null,null,null,null,null,null,{"$f":"SUM(J111:J120)","v":92}]

{"sheet":"Cheques","index":6,"n_rows":96,"n_cols":4,"rows_kept":96,"cut":false,"hidden":true,"merged":[]}
[]
[]
[]
[null,"Chq No","Name","Amount"]
[null,10,"Sam Yeadon",30]
[null,260,"P waite",30]
[null,100136,"Mr N cockerham",30]
[null,null,"PAY PAL",30]
[null,null,"PAY PAL",30]
[null,100330,"JH Lee",60]
[null,111]
[null,100175,"DM Coulson",30]
[null,100173,"DM Coulson",30]
[null,100036,"AJ West",30]
[null,422456,"Mayne |Gas heatin",30]
[null,null,"NOT PAID"]
[null,322,"Ian Austermuhle",30]
[null,2,"S McElnea",30]
[null,161,"PS Marwood",30]
[null,100047,"AG Frith",30]
[null,562,"TA Jackson",30]
[null,100448,"AR Beane",30]
[null,300599,"A Dennis",30]
[null,16,"N Farrow",30]
[null,22858,"Adams Garage",120]
[null,"."]
[null,"."]
[null,"."]
[null,3272,"Mr W Wood",60]
[null,"."]
[null,100066,"AD Holmes",30]
[null,100063,"I Rutter",60]
[null,"…"]
[null,101381,"A Ayrton",30]
[null,22106,"G Kendreew",30]
[null,100305,"RJ Sadler",30]
[null,100412,"D Thorpe",60]
[null,"."]
[null,100404,"K Sunter",30]
[null,"Cash",null,30]
[null,"Cash",null,30]
[null,100108,"TJ Bennet"]
[null,536249,"PD Bennett",150]
[null,"."]
[null,"."]
[null,"."]
[null,"."]
[null,22103,"Miss Morrell",30]
[null,100134,"E Payne",30]
[null,459,"D Mitchell",30]
[null,100079,"C Stelling",30]
[null,4,"B Quinlan",30]
[null,922,"DM Holmes",30]
[null,100198,"JR Spensley",30]
[null,100770,"MR Whelan",30]
[null,null,"Pay Pal"]
[null,"."]
[null,100209,"S Hodson",30]
[null,100060,"DJ Gamble",30]
[null,179,"Mr SJ Smith",60]
[null,"."]
[null,22003,"G tales",30]
[null,100127,"RE Thornton",30]
[null,22113,"Alan Mudd",30]
[null,49,"Area ISI Ltd",30]
[null,485,"JTL Chatto",30]
[null,852,"Dent Excel",120]
[null,"."]
[null,"PAYPAL","PAY PAL"]
[null,"."]
[null,100069,"A Drachenberg",30]
[null,458,"SL Hirst",30]
[null,52,"L Armstrong",30]
[null,46,"D Byrne",90]
[null,"."]
[null,"."]
[null,292,"P Scott",30]
[null,".","PAY PAL 28.88",57.76]
[null,".","PAY PAL 28.88"]
[null,922,"JT Gornall",30]
[null,100121,"John Lydamore",30]
[null,1956,"S Sharp",60]
[null,"."]
[null,".","PAY PAL",29.75]
[null,67,"Gary Rushton",30]
[null,100060,"WJ Reynolds",30]
[null,100417,"M Hartley",30]
[null,100096,"S hartley",30]
[null,100407,"N Wrigglesworth",30]
[null,null,"PAY PAL",30]
[null,100921,"David Fallows",30]
[null,null,"PAY PAL",30]
[null,null,"PAY PAL",30]
[null,null,"PAY PAL 29.88",89.64]
[null,null,"PAY PAL 29.88"]
[null,null,"PAY PAL 29.88"]

{"sheet":"2015 entry List (2)","index":7,"n_rows":120,"n_cols":68,"rows_kept":120,"cut":false,"hidden":false,"merged":[[12,36,12,38],[12,39,12,41],[12,42,12,43],[12,44,12,47],[12,48,12,50],[12,51,12,52],[0,14,0,53],[0,54,0,55],[0,56,0,62],[12,14,12,16],[12,17,12,20],[12,21,12,22],[12,23,12,27],[12,28,12,29],[12,30,12,31],[12,34,12,35]]}
[null,null,null,null,null,null,null,null,null,null,null,null,null,null,"Enter scores from cards/punch cards 0,1,2,3,5. If missed a section enter '10'",null,null,null,null,null,null,null,null,null,null,null,null,null,null,null,null,null,null,null,null,null,null,null,null,null,null,null,null,null,null,null,null,null,null,null,null,null,null,null,"Enter late start and/or late finish. (Max 20mins)",null,"Do not enter numbers here these totals will auto update"]
[]
[]
[]
[]
[]
[]
[null,null,"Laps",1]
[null,null,"Sections",40]
[null,null,"Entries",{"$f":"COUNTA(H15:H114)","v":92}]
[]
[]
[null,null,null,null,null,null,null,null,null,null,null,null,null,null,"Flame Thrower",null,null,"Fountains Fell",null,null,null,"Litton Track",null,"Ellershaw Farm",null,null,null,null,"Arncliffe Scree",null,null,null,"Sleets","hawkswick","Redmire",null,"Hagg Gill",null,null,"Yockenthwaite",null,null,"Raisgill",null,"Bouther Gill",null,null,null,"Wilks",null,null,"Penters A",null,"Halton Gill","late start","late finish","total","0s","1s","2s","3s","5s","10s",null,"Check 1","Check2","%  completed","% of MS"]
[100305,"RJ Sadler",30,null,32,101796,42,"Richard Sadler","Bet","E",1,"West Witton","10:21:30",{"$f":"M14+TIME(7,0,0)","v":"17:21:30"},0,0,1,0,0,0,0,0,0,2,0,0,0,0,0,0,0,0,0,0,0,0,0,0,0,0,0,0,0,0,0,0,0,0,0,0,0,0,0,0,null,null,{"$f":"SUM(O14:BD14)","v":3},{"$f":"COUNTIF(O14:BB14,0)","v":38},{"$f":"COUNTIF(O14:BB14,1)","v":1},{"$f":"COUNTIF(O14:BB14,2)","v":1},{"$f":"COUNTIF(O14:BB14,3)","v":0},{"$f":"COUNTIF(O14:BB14,5)","v":0},{"$f":"COUNTIF(O14:BB14,10)","v":0}]
[322,"Ian Austermuhle",30,null,13,5401,56,"Ian Austermuhle","Bet","E",1,"Malton","10:28:30",{"$f":"M15+TIME(7,0,0)","v":"17:28:30"},0,0,0,0,1,1,0,0,0,0,0,0,1,1,0,0,0,0,2,0,3,0,0,0,0,0,0,0,0,0,0,0,0,0,0,0,0,0,2,0,null,null,{"$f":"SUM(O15:BD15)","v":11},{"$f":"COUNTIF(O15:BB15,0)","v":33},{"$f":"COUNTIF(O15:BB15,1)","v":4},{"$f":"COUNTIF(O15:BB15,2)","v":2},{"$f":"COUNTIF(O15:BB15,3)","v":1},{"$f":"COUNTIF(O15:BB15,5)","v":0},{"$f":"COUNTIF(O15:BB15,10)","v":0},null,{"$f":"$D$9*$D$8","v":40},{"$f":"SUM(BF15:BK15)","v":40},{"$f":"BN15/BM15","v":1},{"$f":"BK15/BN15","v":0}]
[260,"P waite",30,null,2,109873,57,"Rob Waite","bet","E",1,"Darlington","10:29:00",{"$f":"M16+TIME(7,0,0)","v":"17:29:00"},0,0,0,0,2,1,0,2,0,2,1,0,2,1,0,0,0,0,2,1,1,0,0,0,0,0,0,0,0,0,0,3,0,0,0,0,0,0,1,0,null,null,{"$f":"SUM(O16:BD16)","v":19},{"$f":"COUNTIF(O16:BB16,0)","v":28},{"$f":"COUNTIF(O16:BB16,1)","v":6},{"$f":"COUNTIF(O16:BB16,2)","v":5},{"$f":"COUNTIF(O16:BB16,3)","v":1},{"$f":"COUNTIF(O16:BB16,5)","v":0},{"$f":"COUNTIF(O16:BB16,10)","v":0},null,{"$f":"$D$9*$D$8","v":40},{"$f":"SUM(BF16:BK16)","v":40},{"$f":"BN16/BM16","v":1},{"$f":"BK16/BN16","v":0}]
[100412,"D Thorpe",60,null,33,10678,45,"Dan Thorpe","Gas","E",1,"Sheffield","10:23:00",{"$f":"M17+TIME(7,0,0)","v":"17:23:00"},0,0,1,0,5,0,1,5,0,1,0,0,0,1,0,0,0,5,0,1,0,0,0,0,0,0,0,0,0,0,0,1,0,0,0,1,1,0,0,0,null,null,{"$f":"SUM(O17:BD17)","v":23},{"$f":"COUNTIF(O17:BB17,0)","v":29},{"$f":"COUNTIF(O17:BB17,1)","v":8},{"$f":"COUNTIF(O17:BB17,2)","v":0},{"$f":"COUNTIF(O17:BB17,3)","v":0},{"$f":"COUNTIF(O17:BB17,5)","v":3},{"$f":"COUNTIF(O17:BB17,10)","v":0},null,{"$f":"$D$9*$D$8","v":40},{"$f":"SUM(BF17:BK17)","v":40},{"$f":"BN17/BM17","v":1},{"$f":"BK17/BN17","v":0}]
[22106,"G Kendreew",30,null,31,65411,54,"Guy Kendrew","Bet","E",1,"Faceby","10:27:30",{"$f":"M18+TIME(7,0,0)","v":"17:27:30"},0,0,1,0,0,1,2,0,0,2,0,0,0,2,0,0,0,0,0,1,1,5,0,0,0,0,0,0,1,0,0,0,0,0,0,0,2,3,0,0,3,null,{"$f":"SUM(O18:BD18)","v":24},{"$f":"COUNTIF(O18:BB18,0)","v":29},{"$f":"COUNTIF(O18:BB18,1)","v":5},{"$f":"COUNTIF(O18:BB18,2)","v":4},{"$f":"COUNTIF(O18:BB18,3)","v":1},{"$f":"COUNTIF(O18:BB18,5)","v":1},{"$f":"COUNTIF(O18:BB18,10)","v":0},null,{"$f":"$D$9*$D$8","v":40},{"$f":"SUM(BF18:BK18)","v":40},{"$f":"BN18/BM18","v":1},{"$f":"BK18/BN18","v":0}]
[100060,"DJ Gamble",30,null,55,63776,62,"Danny Gamble","She","E",1,"Harrogate","10:31:30",{"$f":"M19+TIME(7,0,0)","v":"17:31:30"},0,0,0,0,0,1,3,3,1,1,1,0,0,1,0,0,5,2,2,1,0,0,0,0,0,0,0,0,0,0,0,0,0,0,0,0,1,3,0,0,null,null,{"$f":"SUM(O19:BD19)","v":25},{"$f":"COUNTIF(O19:BB19,0)","v":27},{"$f":"COUNTIF(O19:BB19,1)","v":7},{"$f":"COUNTIF(O19:BB19,2)","v":2},{"$f":"COUNTIF(O19:BB19,3)","v":3},{"$f":"COUNTIF(O19:BB19,5)","v":1},{"$f":"COUNTIF(O19:BB19,10)","v":0},null,{"$f":"$D$9*$D$8","v":40},{"$f":"SUM(BF19:BK19)","v":40},{"$f":"BN19/BM19","v":1},{"$f":"BK19/BN19","v":0}]
[49,"Area ISI Ltd",30,null,61,99931,58,"Sam Beecroft-Penny","She","E",1,"Yeadon","10:29:30",{"$f":"M20+TIME(7,0,0)","v":"17:29:30"},0,0,0,0,3,5,0,1,1,0,0,0,0,3,0,0,0,0,2,3,0,1,0,0,0,0,0,0,3,0,0,1,0,0,0,5,1,1,1,1,null,null,{"$f":"SUM(O20:BD20)","v":32},{"$f":"COUNTIF(O20:BB20,0)","v":25},{"$f":"COUNTIF(O20:BB20,1)","v":8},{"$f":"COUNTIF(O20:BB20,2)","v":1},{"$f":"COUNTIF(O20:BB20,3)","v":4},{"$f":"COUNTIF(O20:BB20,5)","v":2},{"$f":"COUNTIF(O20:BB20,10)","v":0},null,{"$f":"$D$9*$D$8","v":40},{"$f":"SUM(BF20:BK20)","v":40},{"$f":"BN20/BM20","v":1},{"$f":"BK20/BN20","v":0}]
[100407,"N Wrigglesworth",30,null,85,28520,51,"Nathan Wrigglesworth","She","E",1,"Cowling","10:26:00",{"$f":"M21+TIME(7,0,0)","v":"17:26:00"},0,2,0,1,0,0,0,3,0,2,0,1,3,1,1,0,0,1,2,3,1,0,0,0,0,0,0,1,1,0,0,1,0,0,0,2,2,3,1,0,null,null,{"$f":"SUM(O21:BD21)","v":32},{"$f":"COUNTIF(O21:BB21,0)","v":21},{"$f":"COUNTIF(O21:BB21,1)","v":10},{"$f":"COUNTIF(O21:BB21,2)","v":5},{"$f":"COUNTIF(O21:BB21,3)","v":4},{"$f":"COUNTIF(O21:BB21,5)","v":0},{"$f":"COUNTIF(O21:BB21,10)","v":0},null,{"$f":"$D$9*$D$8","v":40},{"$f":"SUM(BF21:BK21)","v":40},{"$f":"BN21/BM21","v":1},{"$f":"BK21/BN21","v":0}]
[null,"PAY PAL",30,null,86,11400,47,"Chris Pearson","She","E",1,"Dronfield","10:24:00",{"$f":"M22+TIME(7,0,0)","v":"17:24:00"},0,0,1,0,1,1,1,0,2,1,1,0,2,1,0,0,0,2,0,1,1,0,2,0,1,0,0,0,3,0,0,1,0,0,0,0,3,5,1,1,null,null,{"$f":"SUM(O22:BD22)","v":32},{"$f":"COUNTIF(O22:BB22,0)","v":20},{"$f":"COUNTIF(O22:BB22,1)","v":13},{"$f":"COUNTIF(O22:BB22,2)","v":4},{"$f":"COUNTIF(O22:BB22,3)","v":2},{"$f":"COUNTIF(O22:BB22,5)","v":1},{"$f":"COUNTIF(O22:BB22,10)","v":0},null,{"$f":"$D$9*$D$8","v":40},{"$f":"SUM(BF22:BK22)","v":40},{"$f":"BN22/BM22","v":1},{"$f":"BK22/BN22","v":0}]
[100069,"A Drachenberg",30,null,67,28757,60,"Aran Drachenberg","Bet","E",1,"Skipton","10:30:30",{"$f":"M23+TIME(7,0,0)","v":"17:30:30"},0,0,0,1,2,0,3,5,1,2,2,0,3,3,0,0,0,2,1,2,3,5,0,0,1,0,0,1,1,0,0,0,0,0,0,2,2,3,1,0,null,null,{"$f":"SUM(O23:BD23)","v":46},{"$f":"COUNTIF(O23:BB23,0)","v":19},{"$f":"COUNTIF(O23:BB23,1)","v":7},{"$f":"COUNTIF(O23:BB23,2)","v":7},{"$f":"COUNTIF(O23:BB23,3)","v":5},{"$f":"COUNTIF(O23:BB23,5)","v":2},{"$f":"COUNTIF(O23:BB23,10)","v":0},null,{"$f":"$D$9*$D$8","v":40},{"$f":"SUM(BF23:BK23)","v":40},{"$f":"BN23/BM23","v":1},{"$f":"BK23/BN23","v":0}]
[10,"Sam Yeadon",30,null,1,99635,63,"Sam Yeadon","Bet","E",1,"Boston Spa","10:32:00",{"$f":"M24+TIME(7,0,0)","v":"17:32:00"},0,0,1,5,3,1,3,0,1,1,1,0,3,1,1,0,0,0,1,1,0,5,0,5,0,0,0,0,2,3,0,3,0,1,0,0,5,2,0,3,11,null,{"$f":"SUM(O24:BD24)","v":63},{"$f":"COUNTIF(O24:BB24,0)","v":18},{"$f":"COUNTIF(O24:BB24,1)","v":10},{"$f":"COUNTIF(O24:BB24,2)","v":2},{"$f":"COUNTIF(O24:BB24,3)","v":6},{"$f":"COUNTIF(O24:BB24,5)","v":4},{"$f":"COUNTIF(O24:BB24,10)","v":0},null,{"$f":"$D$9*$D$8","v":40},{"$f":"SUM(BF24:BK24)","v":40},{"$f":"BN24/BM24","v":1},{"$f":"BK24/BN24","v":0}]
[101381,"A Ayrton",30,null,30,6704,55,"Anthony Ayrton","She","I",1,"Barnoldswick","10:28:00",{"$f":"M25+TIME(7,0,0)","v":"17:28:00"},0,3,3,0,3,0,3,1,1,3,0,3,2,3,3,0,1,1,2,3,1,5,0,0,5,0,0,5,3,1,0,1,0,3,0,1,5,5,0,0,null,null,{"$f":"SUM(O25:BD25)","v":70},{"$f":"COUNTIF(O25:BB25,0)","v":14},{"$f":"COUNTIF(O25:BB25,1)","v":8},{"$f":"COUNTIF(O25:BB25,2)","v":2},{"$f":"COUNTIF(O25:BB25,3)","v":11},{"$f":"COUNTIF(O25:BB25,5)","v":5},{"$f":"COUNTIF(O25:BB25,10)","v":0},null,{"$f":"$D$9*$D$8","v":40},{"$f":"SUM(BF25:BK25)","v":40},{"$f":"BN25/BM25","v":1},{"$f":"BK25/BN25","v":0}]
[".",null,null,null,79,11415,49,"Mark Reynolds","Gas","N",1,"Skipton","10:25:00",{"$f":"M26+TIME(7,0,0)","v":"17:25:00"},1,5,3,0,3,1,3,1,3,3,0,2,3,3,2,0,1,3,3,5,3,2,1,1,1,0,0,0,5,0,0,5,0,1,0,0,5,3,1,0,null,null,{"$f":"SUM(O26:BD26)","v":73},{"$f":"COUNTIF(O26:BB26,0)","v":12},{"$f":"COUNTIF(O26:BB26,1)","v":9},{"$f":"COUNTIF(O26:BB26,2)","v":3},{"$f":"COUNTIF(O26:BB26,3)","v":11},{"$f":"COUNTIF(O26:BB26,5)","v":5},{"$f":"COUNTIF(O26:BB26,10)","v":0},null,{"$f":"$D$9*$D$8","v":40},{"$f":"SUM(BF26:BK26)","v":40},{"$f":"BN26/BM26","v":1},{"$f":"BK26/BN26","v":0}]
[".",null,null,null,53,76765,43,"Sam Jennings","Gas","N",1,"Guisley","10:22:00",{"$f":"M27+TIME(7,0,0)","v":"17:22:00"},0,5,3,1,5,0,2,3,3,3,2,1,3,3,3,0,1,5,2,3,5,2,0,1,2,0,1,0,3,0,0,5,0,3,0,1,2,5,3,1,null,null,{"$f":"SUM(O27:BD27)","v":82},{"$f":"COUNTIF(O27:BB27,0)","v":10},{"$f":"COUNTIF(O27:BB27,1)","v":7},{"$f":"COUNTIF(O27:BB27,2)","v":6},{"$f":"COUNTIF(O27:BB27,3)","v":11},{"$f":"COUNTIF(O27:BB27,5)","v":6},{"$f":"COUNTIF(O27:BB27,10)","v":0},null,{"$f":"$D$9*$D$8","v":40},{"$f":"SUM(BF27:BK27)","v":40},{"$f":"BN27/BM27","v":1},{"$f":"BK27/BN27","v":0}]
[null,"Pay Pal",null,null,52,108918,44,"Joe Jennings","Gas","E",1,"Guiseley","10:22:30",{"$f":"M28+TIME(7,0,0)","v":"17:22:30"},0,5,3,1,3,3,3,2,3,2,0,1,3,3,0,0,1,3,1,5,1,5,5,0,1,0,1,0,5,1,0,5,0,3,0,1,5,5,2,1,null,null,{"$f":"SUM(O28:BD28)","v":83},{"$f":"COUNTIF(O28:BB28,0)","v":10},{"$f":"COUNTIF(O28:BB28,1)","v":10},{"$f":"COUNTIF(O28:BB28,2)","v":3},{"$f":"COUNTIF(O28:BB28,3)","v":9},{"$f":"COUNTIF(O28:BB28,5)","v":8},{"$f":"COUNTIF(O28:BB28,10)","v":0},null,{"$f":"$D$9*$D$8","v":40},{"$f":"SUM(BF28:BK28)","v":40},{"$f":"BN28/BM28","v":1},{"$f":"BK28/BN28","v":0}]
[1956,"S Sharp",60,null,78,92940,50,"Simon Sharp","Gas","N",1,"Flasby","10:25:30",{"$f":"M29+TIME(7,0,0)","v":"17:25:30"},1,1,3,0,3,5,5,3,2,3,3,0,3,3,0,2,2,5,3,3,5,3,1,2,0,0,5,0,5,0,0,3,0,1,0,1,5,3,1,0,null,null,{"$f":"SUM(O29:BD29)","v":85},{"$f":"COUNTIF(O29:BB29,0)","v":11},{"$f":"COUNTIF(O29:BB29,1)","v":6},{"$f":"COUNTIF(O29:BB29,2)","v":4},{"$f":"COUNTIF(O29:BB29,3)","v":12},{"$f":"COUNTIF(O29:BB29,5)","v":7},{"$f":"COUNTIF(O29:BB29,10)","v":0},null,{"$f":"$D$9*$D$8","v":40},{"$f":"SUM(BF29:BK29)","v":40},{"$f":"BN29/BM29","v":1},{"$f":"BK29/BN29","v":0}]
[null,"PAY PAL",30,null,88,23655,48,"Danny Cockshott","Gas","I",1,"Guiseley","10:24:30",{"$f":"M30+TIME(7,0,0)","v":"17:24:30"},1,0,5,0,3,0,3,3,1,5,1,0,2,3,5,5,5,0,5,3,3,5,1,3,0,0,0,0,3,3,0,1,0,3,0,0,5,5,2,3,null,null,{"$f":"SUM(O30:BD30)","v":87},{"$f":"COUNTIF(O30:BB30,0)","v":13},{"$f":"COUNTIF(O30:BB30,1)","v":5},{"$f":"COUNTIF(O30:BB30,2)","v":2},{"$f":"COUNTIF(O30:BB30,3)","v":11},{"$f":"COUNTIF(O30:BB30,5)","v":9},{"$f":"COUNTIF(O30:BB30,10)","v":0},null,{"$f":"$D$9*$D$8","v":40},{"$f":"SUM(BF30:BK30)","v":40},{"$f":"BN30/BM30","v":1},{"$f":"BK30/BN30","v":0}]
[null,"PAY PAL",30,null,5,null,41,"Martin Crosswaite","4RT","E",1,"Keighley","10:21:00",{"$f":"M31+TIME(7,0,0)","v":"17:21:00"},0,0,1,0,0,0,0,1,5,null,null,null,null,null,null,null,null,null,null,null,null,null,null,null,null,null,null,null,null,null,null,null,null,null,null,null,null,null,null,null,null,null,"RET",{"$f":"COUNTIF(O31:BB31,0)","v":6},{"$f":"COUNTIF(O31:BB31,1)","v":2},{"$f":"COUNTIF(O31:BB31,2)","v":0},{"$f":"COUNTIF(O31:BB31,3)","v":0},{"$f":"COUNTIF(O31:BB31,5)","v":1},{"$f":"COUNTIF(O31:BB31,10)","v":0},null,{"$f":"$D$9*$D$8","v":40},{"$f":"SUM(BF31:BK31)","v":9},{"$f":"BN31/BM31","v":0.22500000000000001},{"$f":"BK31/BN31","v":0}]
[67,"Gary Rushton",30,null,81,101963,61,"Thomas Rushton","4RT","I",1,"Trawden","10:31:00",{"$f":"M32+TIME(7,0,0)","v":"17:31:00"},0,0,2,0,3,1,3,2,3,3,0,0,null,null,null,null,null,null,null,null,null,null,null,null,null,null,null,null,null,null,null,null,null,null,null,null,null,null,null,null,null,null,"RET",{"$f":"COUNTIF(O32:BB32,0)","v":5},{"$f":"COUNTIF(O32:BB32,1)","v":1},{"$f":"COUNTIF(O32:BB32,2)","v":2},{"$f":"COUNTIF(O32:BB32,3)","v":4},{"$f":"COUNTIF(O32:BB32,5)","v":0},{"$f":"COUNTIF(O32:BB32,10)","v":0},null,{"$f":"$D$9*$D$8","v":40},{"$f":"SUM(BF32:BK32)","v":12},{"$f":"BN32/BM32","v":0.3},{"$f":"BK32/BN32","v":0}]
[100060,"WJ Reynolds",30,null,82,90659,46,"William Reynolds","Bet","E",1,"Skeeby","10:23:30",{"$f":"M33+TIME(7,0,0)","v":"17:23:30"},0,1,3,3,3,0,1,2,3,3,0,0,5,5,null,null,null,null,null,null,null,null,null,null,null,null,null,null,null,null,null,null,null,null,null,null,null,null,null,null,2,null,"RET",{"$f":"COUNTIF(O33:BB33,0)","v":4},{"$f":"COUNTIF(O33:BB33,1)","v":2},{"$f":"COUNTIF(O33:BB33,2)","v":1},{"$f":"COUNTIF(O33:BB33,3)","v":5},{"$f":"COUNTIF(O33:BB33,5)","v":2},{"$f":"COUNTIF(O33:BB33,10)","v":0},null,{"$f":"$D$9*$D$8","v":40},{"$f":"SUM(BF33:BK33)","v":14},{"$f":"BN33/BM33","v":0.35},{"$f":"BK33/BN33","v":0}]
[".",null,null,null,42,127000,59,"David West","Gas","I",1,"Stoke on Trent","10:30:00",{"$f":"M34+TIME(7,0,0)","v":"17:30:00"},0,0,0,0,5,2,3,2,5,null,null,null,null,null,null,null,null,null,null,null,null,null,null,null,null,null,null,null,null,null,null,null,null,null,null,null,null,null,null,null,null,null,"RET",{"$f":"COUNTIF(O34:BB34,0)","v":4},{"$f":"COUNTIF(O34:BB34,1)","v":0},{"$f":"COUNTIF(O34:BB34,2)","v":2},{"$f":"COUNTIF(O34:BB34,3)","v":1},{"$f":"COUNTIF(O34:BB34,5)","v":2},{"$f":"COUNTIF(O34:BB34,10)","v":0},null,{"$f":"$D$9*$D$8","v":40},{"$f":"SUM(BF34:BK34)","v":9},{"$f":"BN34/BM34","v":0.22500000000000001},{"$f":"BK34/BN34","v":0}]
[100121,"John Lydamore",30,null,77,117927,52,"John Lydamore","Gas","N",1,"Loathley","10:26:30",{"$f":"M35+TIME(7,0,0)","v":"17:26:30"},1,5,3,2,3,0,5,3,1,5,3,0,null,null,3,0,1,1,3,null,null,null,null,null,null,null,null,null,null,null,null,null,null,null,null,null,null,null,null,null,null,null,"RET",{"$f":"COUNTIF(O35:BB35,0)","v":3},{"$f":"COUNTIF(O35:BB35,1)","v":4},{"$f":"COUNTIF(O35:BB35,2)","v":1},{"$f":"COUNTIF(O35:BB35,3)","v":6},{"$f":"COUNTIF(O35:BB35,5)","v":3},{"$f":"COUNTIF(O35:BB35,10)","v":0},null,{"$f":"$D$9*$D$8","v":40},{"$f":"SUM(BF35:BK35)","v":17},{"$f":"BN35/BM35","v":0.42499999999999999},{"$f":"BK35/BN35","v":0}]
[".",null,null,null,34,64043,53,"Phil Disney","4RT","E",1,"Keighley","10:27:00",{"$f":"M36+TIME(7,0,0)","v":"17:27:00"},0,0,2,0,1,1,1,1,5,null,null,null,null,null,null,null,null,null,null,null,null,null,null,null,null,null,null,null,null,null,null,null,null,null,null,null,null,null,null,null,2,null,"RET",{"$f":"COUNTIF(O36:BB36,0)","v":3},{"$f":"COUNTIF(O36:BB36,1)","v":4},{"$f":"COUNTIF(O36:BB36,2)","v":1},{"$f":"COUNTIF(O36:BB36,3)","v":0},{"$f":"COUNTIF(O36:BB36,5)","v":1},{"$f":"COUNTIF(O36:BB36,10)","v":0},null,{"$f":"$D$9*$D$8","v":40},{"$f":"SUM(BF36:BK36)","v":9},{"$f":"BN36/BM36","v":0.22500000000000001},{"$f":"BK36/BN36","v":0}]
["Chq No","Name","Amount",null,null,"ACU","No.","Name","Bike","CL","CO","Town","Start","Finish",1,2,3,4,5,6,7,8,9,10,11,12,13,14,15,16,17,18,19,20,21,22,23,24,25,26,27,28,29,30,31,32,33,34,35,36,37,38,39,40,null,null,"tOTal",0,1,2,3,5,10,null,{"$f":"$D$9*$D$8","v":40},{"$f":"SUM(BF37:BK37)","v":21},{"$f":"BN37/BM37","v":0.52500000000000002},{"$f":"BK37/BN37","v":0.47619047619047616}]
[]
[".","PAY PAL 28.88",null,null,75,11146,26,"Roger Williams","Mon","I",2,"Stockton on Tees","10:13:30",{"$f":"M39+TIME(7,0,0)","v":"17:13:30"},0,0,0,1,0,0,0,0,0,0,0,0,0,0,0,0,0,0,0,1,0,0,0,0,0,0,0,0,0,0,0,0,0,0,0,0,0,0,0,0,null,null,{"$f":"SUM(O39:BD39)","v":2},{"$f":"COUNTIF(O39:BB39,0)","v":38},{"$f":"COUNTIF(O39:BB39,1)","v":2},{"$f":"COUNTIF(O39:BB39,2)","v":0},{"$f":"COUNTIF(O39:BB39,3)","v":0},{"$f":"COUNTIF(O39:BB39,5)","v":0},{"$f":"COUNTIF(O39:BB39,10)","v":0},null,{"$f":"$D$9*$D$8","v":40},{"$f":"SUM(BF39:BK39)","v":40},{"$f":"BN39/BM39","v":1},{"$f":"BK39/BN39","v":0}]
[22113,"Alan Mudd",30,null,60,113572,88,"Alan Mudd","Bet","N",2,"Skipton","10:45:00",{"$f":"M40+TIME(7,0,0)","v":"17:45:00"},0,0,0,2,0,0,1,0,0,0,0,0,0,1,0,0,0,0,0,5,0,0,2,0,1,0,0,0,0,0,0,0,0,0,0,0,0,2,0,0,null,null,{"$f":"SUM(O40:BD40)","v":14},{"$f":"COUNTIF(O40:BB40,0)","v":33},{"$f":"COUNTIF(O40:BB40,1)","v":3},{"$f":"COUNTIF(O40:BB40,2)","v":3},{"$f":"COUNTIF(O40:BB40,3)","v":0},{"$f":"COUNTIF(O40:BB40,5)","v":1},{"$f":"COUNTIF(O40:BB40,10)","v":0},null,{"$f":"$D$9*$D$8","v":40},{"$f":"SUM(BF40:BK40)","v":40},{"$f":"BN40/BM40","v":1},{"$f":"BK40/BN40","v":0}]
[111,null,null,null,7,72694,35,"Steve Swanson","Bet","E",2,"Finedon","10:18:00",{"$f":"M41+TIME(7,0,0)","v":"17:18:00"},0,0,0,0,1,2,0,0,0,2,0,0,0,0,0,0,0,0,1,2,0,0,0,0,0,0,0,0,0,0,0,0,0,2,0,0,0,3,0,3,1,null,{"$f":"SUM(O41:BD41)","v":17},{"$f":"COUNTIF(O41:BB41,0)","v":32},{"$f":"COUNTIF(O41:BB41,1)","v":2},{"$f":"COUNTIF(O41:BB41,2)","v":4},{"$f":"COUNTIF(O41:BB41,3)","v":2},{"$f":"COUNTIF(O41:BB41,5)","v":0},{"$f":"COUNTIF(O41:BB41,10)","v":0},null,{"$f":"$D$9*$D$8","v":40},{"$f":"SUM(BF41:BK41)","v":40},{"$f":"BN41/BM41","v":1},{"$f":"BK41/BN41","v":0}]
[562,"TA Jackson",30,null,17,5957,83,"Andrew Jackson","Sco","N",2,"Thornhill","10:42:30",{"$f":"M42+TIME(7,0,0)","v":"17:42:30"},0,0,0,2,1,0,2,0,0,0,1,1,0,1,0,0,0,0,0,2,0,0,1,0,0,0,0,0,0,0,0,3,0,0,0,1,0,0,0,2,null,null,{"$f":"SUM(O42:BD42)","v":17},{"$f":"COUNTIF(O42:BB42,0)","v":29},{"$f":"COUNTIF(O42:BB42,1)","v":6},{"$f":"COUNTIF(O42:BB42,2)","v":4},{"$f":"COUNTIF(O42:BB42,3)","v":1},{"$f":"COUNTIF(O42:BB42,5)","v":0},{"$f":"COUNTIF(O42:BB42,10)","v":0},null,{"$f":"$D$9*$D$8","v":40},{"$f":"SUM(BF42:BK42)","v":40},{"$f":"BN42/BM42","v":1},{"$f":"BK42/BN42","v":0}]
[536249,"PD Bennett",150,null,39,10984,67,"Paul Bennett","She","I",2,"Tunstall","10:34:00",{"$f":"M43+TIME(7,0,0)","v":"17:34:00"},0,0,0,3,2,0,2,0,0,0,1,1,0,0,0,2,0,1,0,1,0,0,1,0,0,0,0,0,0,0,0,0,0,0,0,1,0,3,1,3,null,null,{"$f":"SUM(O43:BD43)","v":22},{"$f":"COUNTIF(O43:BB43,0)","v":27},{"$f":"COUNTIF(O43:BB43,1)","v":7},{"$f":"COUNTIF(O43:BB43,2)","v":3},{"$f":"COUNTIF(O43:BB43,3)","v":3},{"$f":"COUNTIF(O43:BB43,5)","v":0},{"$f":"COUNTIF(O43:BB43,10)","v":0},null,{"$f":"$D$9*$D$8","v":40},{"$f":"SUM(BF43:BK43)","v":40},{"$f":"BN43/BM43","v":1},{"$f":"BK43/BN43","v":0}]
[null,"PAY PAL 29.88",null,null,92,10289,30,"Howard Gulley","Gas","N",2,"Pudsey","10:15:30",{"$f":"M44+TIME(7,0,0)","v":"17:15:30"},0,0,1,0,0,3,3,0,0,0,1,0,0,1,0,1,1,1,0,2,0,1,2,0,0,0,0,0,0,0,0,3,0,0,0,1,0,2,1,3,null,null,{"$f":"SUM(O44:BD44)","v":27},{"$f":"COUNTIF(O44:BB44,0)","v":24},{"$f":"COUNTIF(O44:BB44,1)","v":9},{"$f":"COUNTIF(O44:BB44,2)","v":3},{"$f":"COUNTIF(O44:BB44,3)","v":4},{"$f":"COUNTIF(O44:BB44,5)","v":0},{"$f":"COUNTIF(O44:BB44,10)","v":0},null,{"$f":"$D$9*$D$8","v":40},{"$f":"SUM(BF44:BK44)","v":40},{"$f":"BN44/BM44","v":1},{"$f":"BK44/BN44","v":0}]
[100404,"K Sunter",30,null,35,20279,39,"Katy Sunter","Gas","N",2,"Sheffield","10:20:00",{"$f":"M45+TIME(7,0,0)","v":"17:20:00"},1,0,1,0,1,5,5,0,1,0,0,1,0,0,0,0,1,0,0,1,0,2,0,0,0,0,0,0,0,0,0,3,0,0,0,1,0,3,0,3,null,null,{"$f":"SUM(O45:BD45)","v":29},{"$f":"COUNTIF(O45:BB45,0)","v":26},{"$f":"COUNTIF(O45:BB45,1)","v":8},{"$f":"COUNTIF(O45:BB45,2)","v":1},{"$f":"COUNTIF(O45:BB45,3)","v":3},{"$f":"COUNTIF(O45:BB45,5)","v":2},{"$f":"COUNTIF(O45:BB45,10)","v":0},null,{"$f":"$D$9*$D$8","v":40},{"$f":"SUM(BF45:BK45)","v":40},{"$f":"BN45/BM45","v":1},{"$f":"BK45/BN45","v":0}]
[292,"P Scott",30,null,73,108543,80,"Phil Scott","Gas","N",2,"Barrowford","10:41:00",{"$f":"M46+TIME(7,0,0)","v":"17:41:00"},0,0,1,2,2,1,1,1,0,1,0,1,null,null,0,1,0,1,0,2,null,null,1,0,0,0,0,5,0,0,0,1,1,0,0,1,0,1,0,5,null,null,{"$f":"SUM(O46:BD46)","v":29},{"$f":"COUNTIF(O46:BB46,0)","v":18},{"$f":"COUNTIF(O46:BB46,1)","v":13},{"$f":"COUNTIF(O46:BB46,2)","v":3},{"$f":"COUNTIF(O46:BB46,3)","v":0},{"$f":"COUNTIF(O46:BB46,5)","v":2},{"$f":"COUNTIF(O46:BB46,10)","v":0},null,{"$f":"$D$9*$D$8","v":40},{"$f":"SUM(BF46:BK46)","v":36},{"$f":"BN46/BM46","v":0.9},{"$f":"BK46/BN46","v":0}]
[100330,"JH Lee",60,null,6,6173,34,"Jonathan Lee","Bet","E",2,"Higham Ferrers","10:17:30",{"$f":"M47+TIME(7,0,0)","v":"17:17:30"},0,0,0,1,2,1,2,1,0,5,1,0,0,2,0,0,0,0,0,3,0,3,1,0,0,0,0,0,0,0,0,1,0,0,0,0,0,2,0,3,2,null,{"$f":"SUM(O47:BD47)","v":30},{"$f":"COUNTIF(O47:BB47,0)","v":26},{"$f":"COUNTIF(O47:BB47,1)","v":6},{"$f":"COUNTIF(O47:BB47,2)","v":4},{"$f":"COUNTIF(O47:BB47,3)","v":3},{"$f":"COUNTIF(O47:BB47,5)","v":1},{"$f":"COUNTIF(O47:BB47,10)","v":0},null,{"$f":"$D$9*$D$8","v":40},{"$f":"SUM(BF47:BK47)","v":40},{"$f":"BN47/BM47","v":1},{"$f":"BK47/BN47","v":0}]
[922,"JT Gornall",30,null,76,96572,74,"John Gornall","Gas","I",2,"Longridge","10:38:00",{"$f":"M48+TIME(7,0,0)","v":"17:38:00"},0,0,0,1,1,3,1,1,0,0,2,1,0,0,3,0,0,0,0,3,0,3,0,0,0,0,0,0,0,0,0,1,0,0,0,0,0,3,2,5,null,null,{"$f":"SUM(O48:BD48)","v":30},{"$f":"COUNTIF(O48:BB48,0)","v":26},{"$f":"COUNTIF(O48:BB48,1)","v":6},{"$f":"COUNTIF(O48:BB48,2)","v":2},{"$f":"COUNTIF(O48:BB48,3)","v":5},{"$f":"COUNTIF(O48:BB48,5)","v":1},{"$f":"COUNTIF(O48:BB48,10)","v":0},null,{"$f":"$D$9*$D$8","v":40},{"$f":"SUM(BF48:BK48)","v":40},{"$f":"BN48/BM48","v":1},{"$f":"BK48/BN48","v":0}]
[100417,"M Hartley",30,null,83,145940,37,"Mark Hartley","Gas","N",2,"Roughlee","10:19:00",{"$f":"M49+TIME(7,0,0)","v":"17:19:00"},1,0,0,3,1,3,3,0,2,2,2,1,0,0,1,0,0,1,0,2,0,0,1,0,0,0,0,0,0,0,0,null,0,0,0,0,0,1,0,5,1,null,{"$f":"SUM(O49:BD49)","v":30},{"$f":"COUNTIF(O49:BB49,0)","v":24},{"$f":"COUNTIF(O49:BB49,1)","v":7},{"$f":"COUNTIF(O49:BB49,2)","v":4},{"$f":"COUNTIF(O49:BB49,3)","v":3},{"$f":"COUNTIF(O49:BB49,5)","v":1},{"$f":"COUNTIF(O49:BB49,10)","v":0},null,{"$f":"$D$9*$D$8","v":40},{"$f":"SUM(BF49:BK49)","v":39},{"$f":"BN49/BM49","v":0.97499999999999998},{"$f":"BK49/BN49","v":0}]
["PAYPAL","PAY PAL",null,null,65,63824,40,"Paul Jackson","Mon","i",2,"Baildon","10:20:30",{"$f":"M50+TIME(7,0,0)","v":"17:20:30"},2,0,1,3,0,1,0,0,1,1,1,0,0,0,0,0,0,0,0,1,0,1,1,0,0,0,1,1,1,0,0,2,0,0,0,2,1,3,1,5,null,null,{"$f":"SUM(O50:BD50)","v":30},{"$f":"COUNTIF(O50:BB50,0)","v":21},{"$f":"COUNTIF(O50:BB50,1)","v":13},{"$f":"COUNTIF(O50:BB50,2)","v":3},{"$f":"COUNTIF(O50:BB50,3)","v":2},{"$f":"COUNTIF(O50:BB50,5)","v":1},{"$f":"COUNTIF(O50:BB50,10)","v":0},null,{"$f":"$D$9*$D$8","v":40},{"$f":"SUM(BF50:BK50)","v":40},{"$f":"BN50/BM50","v":1},{"$f":"BK50/BN50","v":0}]
[null,"PAY PAL 29.88",null,null,91,83184,29,"Mark Chippendale","Gas","N",2,"Pudsey","10:15:00",{"$f":"M51+TIME(7,0,0)","v":"17:15:00"},0,0,1,3,0,1,3,0,0,1,0,3,0,0,3,1,0,0,0,3,0,2,0,0,0,0,3,0,1,0,0,1,0,0,0,1,1,1,0,3,null,null,{"$f":"SUM(O51:BD51)","v":32},{"$f":"COUNTIF(O51:BB51,0)","v":23},{"$f":"COUNTIF(O51:BB51,1)","v":9},{"$f":"COUNTIF(O51:BB51,2)","v":1},{"$f":"COUNTIF(O51:BB51,3)","v":7},{"$f":"COUNTIF(O51:BB51,5)","v":0},{"$f":"COUNTIF(O51:BB51,10)","v":0},null,{"$f":"$D$9*$D$8","v":40},{"$f":"SUM(BF51:BK51)","v":40},{"$f":"BN51/BM51","v":1},{"$f":"BK51/BN51","v":0}]
[22103,"Miss Morrell",30,null,44,90891,32,"Paul Gravestock","Gas","N",2,"Shipley","10:16:30",{"$f":"M52+TIME(7,0,0)","v":"17:16:30"},0,3,0,3,1,3,5,0,1,0,1,1,2,1,0,1,0,2,0,3,0,0,0,0,0,0,0,2,0,0,0,1,0,0,0,0,0,0,0,3,null,null,{"$f":"SUM(O52:BD52)","v":33},{"$f":"COUNTIF(O52:BB52,0)","v":24},{"$f":"COUNTIF(O52:BB52,1)","v":7},{"$f":"COUNTIF(O52:BB52,2)","v":3},{"$f":"COUNTIF(O52:BB52,3)","v":5},{"$f":"COUNTIF(O52:BB52,5)","v":1},{"$f":"COUNTIF(O52:BB52,10)","v":0},null,{"$f":"$D$9*$D$8","v":40},{"$f":"SUM(BF52:BK52)","v":40},{"$f":"BN52/BM52","v":1},{"$f":"BK52/BN52","v":0}]
["Cash",null,30,null,37,124050,20,"Julian Ingham","Bet","E",2,"Bacup","10:10:30",{"$f":"M53+TIME(7,0,0)","v":"17:10:30"},1,1,0,3,0,3,3,0,3,0,0,1,0,0,3,2,1,0,1,3,0,0,1,0,0,0,0,0,0,0,0,0,1,0,0,1,0,1,0,5,null,null,{"$f":"SUM(O53:BD53)","v":34},{"$f":"COUNTIF(O53:BB53,0)","v":23},{"$f":"COUNTIF(O53:BB53,1)","v":9},{"$f":"COUNTIF(O53:BB53,2)","v":1},{"$f":"COUNTIF(O53:BB53,3)","v":6},{"$f":"COUNTIF(O53:BB53,5)","v":1},{"$f":"COUNTIF(O53:BB53,10)","v":0},null,{"$f":"$D$9*$D$8","v":40},{"$f":"SUM(BF53:BK53)","v":40},{"$f":"BN53/BM53","v":1},{"$f":"BK53/BN53","v":0}]
[null,"PAY PAL 29.88",89.64,null,90,18081,28,"Mark Forster","Gas","N",2,"Leeds","10:14:30",{"$f":"M54+TIME(7,0,0)","v":"17:14:30"},1,0,0,2,0,3,1,1,0,0,3,3,0,1,1,0,0,0,0,3,0,2,5,0,0,0,1,1,0,0,0,1,1,0,0,0,0,0,1,3,null,null,{"$f":"SUM(O54:BD54)","v":34},{"$f":"COUNTIF(O54:BB54,0)","v":22},{"$f":"COUNTIF(O54:BB54,1)","v":10},{"$f":"COUNTIF(O54:BB54,2)","v":2},{"$f":"COUNTIF(O54:BB54,3)","v":5},{"$f":"COUNTIF(O54:BB54,5)","v":1},{"$f":"COUNTIF(O54:BB54,10)","v":0},null,{"$f":"$D$9*$D$8","v":40},{"$f":"SUM(BF54:BK54)","v":40},{"$f":"BN54/BM54","v":1},{"$f":"BK54/BN54","v":0}]
[null,"cash",30,null,21,25882,13,"Chris Beecroft","Gas","N",2,"Yeadon","10:07:00",{"$f":"M55+TIME(7,0,0)","v":"17:07:00"},1,0,0,5,2,0,0,0,0,2,0,3,0,3,3,1,0,1,1,3,0,1,1,0,0,0,0,0,0,0,0,2,1,0,0,0,0,0,0,5,null,null,{"$f":"SUM(O55:BD55)","v":35},{"$f":"COUNTIF(O55:BB55,0)","v":24},{"$f":"COUNTIF(O55:BB55,1)","v":7},{"$f":"COUNTIF(O55:BB55,2)","v":3},{"$f":"COUNTIF(O55:BB55,3)","v":4},{"$f":"COUNTIF(O55:BB55,5)","v":2},{"$f":"COUNTIF(O55:BB55,10)","v":0},null,{"$f":"$D$9*$D$8","v":40},{"$f":"SUM(BF55:BK55)","v":40},{"$f":"BN55/BM55","v":1},{"$f":"BK55/BN55","v":0}]
[100108,"TJ Bennet",null,null,38,78984,66,"Tom Bennett","She","N",2,"Porthill","10:33:30",{"$f":"M56+TIME(7,0,0)","v":"17:33:30"},0,0,0,0,1,3,1,0,0,2,0,2,0,0,5,1,0,0,0,3,0,2,3,0,0,1,0,1,3,0,0,0,0,0,0,1,0,3,0,3,null,null,{"$f":"SUM(O56:BD56)","v":35},{"$f":"COUNTIF(O56:BB56,0)","v":24},{"$f":"COUNTIF(O56:BB56,1)","v":6},{"$f":"COUNTIF(O56:BB56,2)","v":3},{"$f":"COUNTIF(O56:BB56,3)","v":6},{"$f":"COUNTIF(O56:BB56,5)","v":1},{"$f":"COUNTIF(O56:BB56,10)","v":0},null,{"$f":"$D$9*$D$8","v":40},{"$f":"SUM(BF56:BK56)","v":40},{"$f":"BN56/BM56","v":1},{"$f":"BK56/BN56","v":0}]
[459,"D Mitchell",30,null,46,16611,64,"Darren Mitchell","4RT","N",2,"Barnoldswick","10:32:30",{"$f":"M57+TIME(7,0,0)","v":"17:32:30"},1,0,1,3,1,3,3,0,0,1,0,2,0,0,2,0,3,0,0,3,0,1,0,0,0,0,1,0,0,0,0,2,0,0,1,0,0,2,0,5,null,null,{"$f":"SUM(O57:BD57)","v":35},{"$f":"COUNTIF(O57:BB57,0)","v":23},{"$f":"COUNTIF(O57:BB57,1)","v":7},{"$f":"COUNTIF(O57:BB57,2)","v":4},{"$f":"COUNTIF(O57:BB57,3)","v":5},{"$f":"COUNTIF(O57:BB57,5)","v":1},{"$f":"COUNTIF(O57:BB57,10)","v":0},null,{"$f":"$D$9*$D$8","v":40},{"$f":"SUM(BF57:BK57)","v":40},{"$f":"BN57/BM57","v":1},{"$f":"BK57/BN57","v":0}]
[852,"Dent Excel",120,null,63,11579,77,"Barrie Darrell","Bet","N",2,"York","10:39:30",{"$f":"M58+TIME(7,0,0)","v":"17:39:30"},0,0,0,0,1,3,5,0,1,0,0,0,0,2,2,1,0,0,0,2,0,1,0,0,0,0,0,0,2,0,0,1,3,0,0,5,0,3,1,3,null,null,{"$f":"SUM(O58:BD58)","v":36},{"$f":"COUNTIF(O58:BB58,0)","v":24},{"$f":"COUNTIF(O58:BB58,1)","v":6},{"$f":"COUNTIF(O58:BB58,2)","v":4},{"$f":"COUNTIF(O58:BB58,3)","v":4},{"$f":"COUNTIF(O58:BB58,5)","v":2},{"$f":"COUNTIF(O58:BB58,10)","v":0},null,{"$f":"$D$9*$D$8","v":40},{"$f":"SUM(BF58:BK58)","v":40},{"$f":"BN58/BM58","v":1},{"$f":"BK58/BN58","v":0}]
[458,"SL Hirst",30,null,68,152687,24,"Simon Hirst","Gas","N",2,"Scunthorpe","10:12:30",{"$f":"M59+TIME(7,0,0)","v":"17:12:30"},3,0,0,2,2,3,0,0,0,0,5,2,0,0,3,0,0,0,0,3,0,0,1,0,0,1,0,2,0,0,0,0,0,1,0,1,3,0,0,5,null,null,{"$f":"SUM(O59:BD59)","v":37},{"$f":"COUNTIF(O59:BB59,0)","v":25},{"$f":"COUNTIF(O59:BB59,1)","v":4},{"$f":"COUNTIF(O59:BB59,2)","v":4},{"$f":"COUNTIF(O59:BB59,3)","v":5},{"$f":"COUNTIF(O59:BB59,5)","v":2},{"$f":"COUNTIF(O59:BB59,10)","v":0},null,{"$f":"$D$9*$D$8","v":40},{"$f":"SUM(BF59:BK59)","v":40},{"$f":"BN59/BM59","v":1},{"$f":"BK59/BN59","v":0}]
[100096,"S hartley",30,null,84,147798,38,"Simon Hartley","She","N",2,"Barley","10:19:30",{"$f":"M60+TIME(7,0,0)","v":"17:19:30"},1,0,0,1,3,2,3,0,2,0,2,1,0,1,0,2,2,0,0,1,1,1,1,0,0,0,0,0,0,0,0,3,3,0,0,1,0,2,0,5,null,null,{"$f":"SUM(O60:BD60)","v":38},{"$f":"COUNTIF(O60:BB60,0)","v":20},{"$f":"COUNTIF(O60:BB60,1)","v":9},{"$f":"COUNTIF(O60:BB60,2)","v":6},{"$f":"COUNTIF(O60:BB60,3)","v":4},{"$f":"COUNTIF(O60:BB60,5)","v":1},{"$f":"COUNTIF(O60:BB60,10)","v":0},null,{"$f":"$D$9*$D$8","v":40},{"$f":"SUM(BF60:BK60)","v":40},{"$f":"BN60/BM60","v":1},{"$f":"BK60/BN60","v":0}]
[22858,"Adams Garage",120,null,22,106360,14,"Adam McCanna","Hon","I",2,"Leigh","10:07:30",{"$f":"M61+TIME(7,0,0)","v":"17:07:30"},0,0,0,3,3,3,1,0,1,2,0,3,0,0,5,0,0,0,1,3,0,3,1,0,0,0,0,0,0,0,0,3,1,0,0,1,0,2,0,5,null,null,{"$f":"SUM(O61:BD61)","v":41},{"$f":"COUNTIF(O61:BB61,0)","v":23},{"$f":"COUNTIF(O61:BB61,1)","v":6},{"$f":"COUNTIF(O61:BB61,2)","v":2},{"$f":"COUNTIF(O61:BB61,3)","v":7},{"$f":"COUNTIF(O61:BB61,5)","v":2},{"$f":"COUNTIF(O61:BB61,10)","v":0},null,{"$f":"$D$9*$D$8","v":40},{"$f":"SUM(BF61:BK61)","v":40},{"$f":"BN61/BM61","v":1},{"$f":"BK61/BN61","v":0}]
["Cash",null,30,null,36,122607,19,"Oliver Ingham","She","I",2,"Bacup","10:10:00",{"$f":"M62+TIME(7,0,0)","v":"17:10:00"},1,0,0,3,2,3,3,1,0,0,0,3,1,0,1,3,0,2,3,5,0,1,0,0,0,0,0,0,0,0,0,0,2,1,0,0,1,1,0,5,null,null,{"$f":"SUM(O62:BD62)","v":42},{"$f":"COUNTIF(O62:BB62,0)","v":21},{"$f":"COUNTIF(O62:BB62,1)","v":8},{"$f":"COUNTIF(O62:BB62,2)","v":3},{"$f":"COUNTIF(O62:BB62,3)","v":6},{"$f":"COUNTIF(O62:BB62,5)","v":2},{"$f":"COUNTIF(O62:BB62,10)","v":0},null,{"$f":"$D$9*$D$8","v":40},{"$f":"SUM(BF62:BK62)","v":40},{"$f":"BN62/BM62","v":1},{"$f":"BK62/BN62","v":0}]
[".",null,null,null,26,16260,18,"Ian Haigh","Mon","N",2,"Huddersfield","10:09:30",{"$f":"M63+TIME(7,0,0)","v":"17:09:30"},1,0,1,3,3,2,3,0,1,0,3,0,0,3,3,1,0,1,0,3,0,2,2,0,0,0,0,0,0,0,0,1,3,0,0,0,0,1,0,5,null,null,{"$f":"SUM(O63:BD63)","v":42},{"$f":"COUNTIF(O63:BB63,0)","v":21},{"$f":"COUNTIF(O63:BB63,1)","v":7},{"$f":"COUNTIF(O63:BB63,2)","v":3},{"$f":"COUNTIF(O63:BB63,3)","v":8},{"$f":"COUNTIF(O63:BB63,5)","v":1},{"$f":"COUNTIF(O63:BB63,10)","v":0},null,{"$f":"$D$9*$D$8","v":40},{"$f":"SUM(BF63:BK63)","v":40},{"$f":"BN63/BM63","v":1},{"$f":"BK63/BN63","v":0}]
[".",null,null,null,66,10991,79,"David Hardy","Mon","N",2,"Sutton on Forest","10:40:30",{"$f":"M64+TIME(7,0,0)","v":"17:40:30"},0,0,1,3,1,2,1,0,1,0,1,0,0,0,3,1,0,0,0,3,0,1,0,0,0,0,0,0,0,5,0,5,0,0,0,0,5,5,0,5,null,null,{"$f":"SUM(O64:BD64)","v":43},{"$f":"COUNTIF(O64:BB64,0)","v":24},{"$f":"COUNTIF(O64:BB64,1)","v":7},{"$f":"COUNTIF(O64:BB64,2)","v":1},{"$f":"COUNTIF(O64:BB64,3)","v":3},{"$f":"COUNTIF(O64:BB64,5)","v":5},{"$f":"COUNTIF(O64:BB64,10)","v":0},null,{"$f":"$D$9*$D$8","v":40},{"$f":"SUM(BF64:BK64)","v":40},{"$f":"BN64/BM64","v":1},{"$f":"BK64/BN64","v":0}]
[2,"S McElnea",30,null,14,126271,9,"Rob McElnea","Bet","I",2,"Scamton","10:05:00",{"$f":"M65+TIME(7,0,0)","v":"17:05:00"},1,1,0,3,3,2,5,0,0,0,3,0,0,1,2,5,0,0,0,5,0,1,0,0,0,0,0,5,0,0,0,1,2,0,0,0,0,0,0,5,null,null,{"$f":"SUM(O65:BD65)","v":45},{"$f":"COUNTIF(O65:BB65,0)","v":24},{"$f":"COUNTIF(O65:BB65,1)","v":5},{"$f":"COUNTIF(O65:BB65,2)","v":3},{"$f":"COUNTIF(O65:BB65,3)","v":3},{"$f":"COUNTIF(O65:BB65,5)","v":5},{"$f":"COUNTIF(O65:BB65,10)","v":0},null,{"$f":"$D$9*$D$8","v":40},{"$f":"SUM(BF65:BK65)","v":40},{"$f":"BN65/BM65","v":1},{"$f":"BK65/BN65","v":0}]
[161,"PS Marwood",30,null,15,102454,8,"Paul Marwood","She","I",2,"Alford","10:04:30",{"$f":"M66+TIME(7,0,0)","v":"17:04:30"},1,0,0,3,3,3,3,0,1,0,0,3,0,1,3,1,0,0,0,5,0,3,3,0,0,0,0,3,0,0,0,1,1,0,0,1,0,3,0,3,null,null,{"$f":"SUM(O66:BD66)","v":45},{"$f":"COUNTIF(O66:BB66,0)","v":21},{"$f":"COUNTIF(O66:BB66,1)","v":7},{"$f":"COUNTIF(O66:BB66,2)","v":0},{"$f":"COUNTIF(O66:BB66,3)","v":11},{"$f":"COUNTIF(O66:BB66,5)","v":1},{"$f":"COUNTIF(O66:BB66,10)","v":0},null,{"$f":"$D$9*$D$8","v":40},{"$f":"SUM(BF66:BK66)","v":40},{"$f":"BN66/BM66","v":1},{"$f":"BK66/BN66","v":0}]
[null,"PAY PAL",30,null,null,103208,92,"Ryan Martin","Gas","N",2,"St Johns Chapel","10:47:00",{"$f":"M67+TIME(7,0,0)","v":"17:47:00"},2,0,1,2,3,0,2,0,5,2,3,1,0,1,5,0,1,0,0,3,0,1,1,0,0,0,0,0,0,0,0,1,0,0,0,1,0,3,2,5,null,null,{"$f":"SUM(O67:BD67)","v":45},{"$f":"COUNTIF(O67:BB67,0)","v":20},{"$f":"COUNTIF(O67:BB67,1)","v":8},{"$f":"COUNTIF(O67:BB67,2)","v":5},{"$f":"COUNTIF(O67:BB67,3)","v":4},{"$f":"COUNTIF(O67:BB67,5)","v":3},{"$f":"COUNTIF(O67:BB67,10)","v":0},null,{"$f":"$D$9*$D$8","v":40},{"$f":"SUM(BF67:BK67)","v":40},{"$f":"BN67/BM67","v":1},{"$f":"BK67/BN67","v":0}]
["…",null,null,null,29,8866,71,"Geoff Fielding","Gas","N",2,"Hunwick","10:36:30",{"$f":"M68+TIME(7,0,0)","v":"17:36:30"},1,0,0,3,3,3,3,1,0,1,0,1,0,3,3,1,0,3,0,2,0,1,1,0,0,0,0,2,0,0,0,2,1,1,0,0,1,3,3,3,null,null,{"$f":"SUM(O68:BD68)","v":46},{"$f":"COUNTIF(O68:BB68,0)","v":17},{"$f":"COUNTIF(O68:BB68,1)","v":10},{"$f":"COUNTIF(O68:BB68,2)","v":3},{"$f":"COUNTIF(O68:BB68,3)","v":10},{"$f":"COUNTIF(O68:BB68,5)","v":0},{"$f":"COUNTIF(O68:BB68,10)","v":0},null,{"$f":"$D$9*$D$8","v":40},{"$f":"SUM(BF68:BK68)","v":40},{"$f":"BN68/BM68","v":1},{"$f":"BK68/BN68","v":0}]
[100448,"AR Beane",30,null,18,95195,21,"Andrew Beane","Gas","N",2,"Yarm","10:11:00",{"$f":"M69+TIME(7,0,0)","v":"17:11:00"},1,1,2,1,3,3,3,3,0,0,3,3,3,0,3,1,0,1,0,3,0,2,1,0,0,1,0,0,0,0,0,0,0,0,0,1,0,2,1,5,null,null,{"$f":"SUM(O69:BD69)","v":47},{"$f":"COUNTIF(O69:BB69,0)","v":18},{"$f":"COUNTIF(O69:BB69,1)","v":9},{"$f":"COUNTIF(O69:BB69,2)","v":3},{"$f":"COUNTIF(O69:BB69,3)","v":9},{"$f":"COUNTIF(O69:BB69,5)","v":1},{"$f":"COUNTIF(O69:BB69,10)","v":0},null,{"$f":"$D$9*$D$8","v":40},{"$f":"SUM(BF69:BK69)","v":40},{"$f":"BN69/BM69","v":1},{"$f":"BK69/BN69","v":0}]
[".",null,null,null,41,20852,69,"Mick Flanagan","Oss","I",2,"Bridgenorth","10:35:00",{"$f":"M70+TIME(7,0,0)","v":"17:35:00"},1,0,1,1,2,2,3,0,1,1,2,3,1,2,0,1,0,0,0,3,0,1,2,0,0,0,0,1,0,1,0,3,1,0,0,2,1,5,3,5,null,null,{"$f":"SUM(O70:BD70)","v":49},{"$f":"COUNTIF(O70:BB70,0)","v":15},{"$f":"COUNTIF(O70:BB70,1)","v":12},{"$f":"COUNTIF(O70:BB70,2)","v":6},{"$f":"COUNTIF(O70:BB70,3)","v":5},{"$f":"COUNTIF(O70:BB70,5)","v":2},{"$f":"COUNTIF(O70:BB70,10)","v":0},null,{"$f":"$D$9*$D$8","v":40},{"$f":"SUM(BF70:BK70)","v":40},{"$f":"BN70/BM70","v":1},{"$f":"BK70/BN70","v":0}]
[".",null,null,null,23,106361,15,"Jimmy McCanna","Hon","I",2,"Leigh","10:08:00",{"$f":"M71+TIME(7,0,0)","v":"17:08:00"},1,0,1,2,3,1,5,0,1,3,1,2,0,0,3,2,1,0,1,2,0,2,0,0,0,5,0,0,0,0,0,1,3,3,0,1,0,1,0,5,null,null,{"$f":"SUM(O71:BD71)","v":50},{"$f":"COUNTIF(O71:BB71,0)","v":17},{"$f":"COUNTIF(O71:BB71,1)","v":10},{"$f":"COUNTIF(O71:BB71,2)","v":5},{"$f":"COUNTIF(O71:BB71,3)","v":5},{"$f":"COUNTIF(O71:BB71,5)","v":3},{"$f":"COUNTIF(O71:BB71,10)","v":0},null,{"$f":"$D$9*$D$8","v":40},{"$f":"SUM(BF71:BK71)","v":40},{"$f":"BN71/BM71","v":1},{"$f":"BK71/BN71","v":0}]
[3272,"Mr W Wood",60,null,25,6258,17,"William Wood","Bet","N",2,"Rotherham","10:09:00",{"$f":"M72+TIME(7,0,0)","v":"17:09:00"},2,1,1,3,3,2,3,0,1,1,1,3,0,2,0,1,2,1,0,3,0,0,2,0,0,0,1,0,0,1,0,2,0,2,0,1,0,3,3,5,null,null,{"$f":"SUM(O72:BD72)","v":50},{"$f":"COUNTIF(O72:BB72,0)","v":15},{"$f":"COUNTIF(O72:BB72,1)","v":10},{"$f":"COUNTIF(O72:BB72,2)","v":7},{"$f":"COUNTIF(O72:BB72,3)","v":7},{"$f":"COUNTIF(O72:BB72,5)","v":1},{"$f":"COUNTIF(O72:BB72,10)","v":0},null,{"$f":"$D$9*$D$8","v":40},{"$f":"SUM(BF72:BK72)","v":40},{"$f":"BN72/BM72","v":1},{"$f":"BK72/BN72","v":0}]
[null,"PAY PAL",30,null,4,19975,84,"Chris Tolson","Bet","N",2,"Huddersfield","10:43:00",{"$f":"M73+TIME(7,0,0)","v":"17:43:00"},1,0,0,3,2,1,3,0,1,2,1,3,0,1,2,1,1,0,2,2,0,3,1,0,0,2,5,2,1,0,0,1,0,0,0,3,0,3,1,3,null,null,{"$f":"SUM(O73:BD73)","v":51},{"$f":"COUNTIF(O73:BB73,0)","v":14},{"$f":"COUNTIF(O73:BB73,1)","v":11},{"$f":"COUNTIF(O73:BB73,2)","v":7},{"$f":"COUNTIF(O73:BB73,3)","v":7},{"$f":"COUNTIF(O73:BB73,5)","v":1},{"$f":"COUNTIF(O73:BB73,10)","v":0},null,{"$f":"$D$9*$D$8","v":40},{"$f":"SUM(BF73:BK73)","v":40},{"$f":"BN73/BM73","v":1},{"$f":"BK73/BN73","v":0}]
[100066,"AD Holmes",30,null,27,77934,31,"Tony Holmes","Bet","N",2,"Skipton","10:16:00",{"$f":"M74+TIME(7,0,0)","v":"17:16:00"},3,0,0,1,2,2,3,0,0,1,2,3,0,2,3,2,2,0,5,3,0,1,2,2,0,1,0,0,2,0,0,2,2,1,0,0,2,1,0,2,null,null,{"$f":"SUM(O74:BD74)","v":52},{"$f":"COUNTIF(O74:BB74,0)","v":15},{"$f":"COUNTIF(O74:BB74,1)","v":6},{"$f":"COUNTIF(O74:BB74,2)","v":13},{"$f":"COUNTIF(O74:BB74,3)","v":5},{"$f":"COUNTIF(O74:BB74,5)","v":1},{"$f":"COUNTIF(O74:BB74,10)","v":0},null,{"$f":"$D$9*$D$8","v":40},{"$f":"SUM(BF74:BK74)","v":40},{"$f":"BN74/BM74","v":1},{"$f":"BK74/BN74","v":0}]
[300599,"A Dennis",30,null,19,108572,22,"Andrew Dennis","Bet","N",2,"Stockton on Tees","10:11:30",{"$f":"M75+TIME(7,0,0)","v":"17:11:30"},0,1,0,1,0,1,3,0,1,0,1,3,5,2,1,1,0,0,2,3,0,5,2,1,0,0,0,3,3,1,0,3,0,0,0,1,1,3,1,5,null,null,{"$f":"SUM(O75:BD75)","v":54},{"$f":"COUNTIF(O75:BB75,0)","v":15},{"$f":"COUNTIF(O75:BB75,1)","v":12},{"$f":"COUNTIF(O75:BB75,2)","v":3},{"$f":"COUNTIF(O75:BB75,3)","v":7},{"$f":"COUNTIF(O75:BB75,5)","v":3},{"$f":"COUNTIF(O75:BB75,10)","v":0},null,{"$f":"$D$9*$D$8","v":40},{"$f":"SUM(BF75:BK75)","v":40},{"$f":"BN75/BM75","v":1},{"$f":"BK75/BN75","v":0}]
[100063,"I Rutter",60,null,28,15597,72,"Ian Rutter","Gas","N",2,"Hunwick","10:37:00",{"$f":"M76+TIME(7,0,0)","v":"17:37:00"},0,0,0,5,2,1,3,0,1,0,0,3,1,1,0,1,2,0,0,3,5,5,3,0,0,0,0,5,0,0,0,3,1,2,0,2,0,5,1,3,null,null,{"$f":"SUM(O76:BD76)","v":58},{"$f":"COUNTIF(O76:BB76,0)","v":18},{"$f":"COUNTIF(O76:BB76,1)","v":7},{"$f":"COUNTIF(O76:BB76,2)","v":4},{"$f":"COUNTIF(O76:BB76,3)","v":6},{"$f":"COUNTIF(O76:BB76,5)","v":5},{"$f":"COUNTIF(O76:BB76,10)","v":0},null,{"$f":"$D$9*$D$8","v":40},{"$f":"SUM(BF76:BK76)","v":40},{"$f":"BN76/BM76","v":1},{"$f":"BK76/BN76","v":0}]
[".","PAY PAL",29.75,null,80,81073,90,"Martin Jackson","She","I",2,"Rochdale","10:46:00",{"$f":"M77+TIME(7,0,0)","v":"17:46:00"},0,5,0,3,3,3,3,0,0,0,0,3,1,2,1,2,1,0,0,3,0,1,2,0,0,5,3,2,5,0,0,1,0,0,0,2,2,3,0,3,null,null,{"$f":"SUM(O77:BD77)","v":59},{"$f":"COUNTIF(O77:BB77,0)","v":17},{"$f":"COUNTIF(O77:BB77,1)","v":5},{"$f":"COUNTIF(O77:BB77,2)","v":6},{"$f":"COUNTIF(O77:BB77,3)","v":9},{"$f":"COUNTIF(O77:BB77,5)","v":3},{"$f":"COUNTIF(O77:BB77,10)","v":0},null,{"$f":"$D$9*$D$8","v":40},{"$f":"SUM(BF77:BK77)","v":40},{"$f":"BN77/BM77","v":1},{"$f":"BK77/BN77","v":0}]
[".",null,null,null,71,134345,4,"Ernie Byrne","Bet","N",2,"Spennymoor","10:02:30",{"$f":"M78+TIME(7,0,0)","v":"17:02:30"},1,1,0,3,2,3,3,0,0,1,1,0,1,1,1,3,3,1,3,5,0,5,5,1,1,1,0,1,0,0,0,2,0,0,0,1,0,3,1,5,null,null,{"$f":"SUM(O78:BD78)","v":59},{"$f":"COUNTIF(O78:BB78,0)","v":13},{"$f":"COUNTIF(O78:BB78,1)","v":14},{"$f":"COUNTIF(O78:BB78,2)","v":2},{"$f":"COUNTIF(O78:BB78,3)","v":7},{"$f":"COUNTIF(O78:BB78,5)","v":4},{"$f":"COUNTIF(O78:BB78,10)","v":0},null,{"$f":"$D$9*$D$8","v":40},{"$f":"SUM(BF78:BK78)","v":40},{"$f":"BN78/BM78","v":1},{"$f":"BK78/BN78","v":0}]
[46,"D Byrne",90,null,70,118824,3,"John Bennett","Gas","N",2,"Spennymoor","10:02:00",{"$f":"M79+TIME(7,0,0)","v":"17:02:00"},0,0,1,2,1,3,3,3,0,0,3,3,0,3,3,2,2,0,0,3,1,3,1,5,0,2,0,0,2,0,0,3,1,3,0,1,0,1,0,5,null,null,{"$f":"SUM(O79:BD79)","v":60},{"$f":"COUNTIF(O79:BB79,0)","v":15},{"$f":"COUNTIF(O79:BB79,1)","v":7},{"$f":"COUNTIF(O79:BB79,2)","v":5},{"$f":"COUNTIF(O79:BB79,3)","v":11},{"$f":"COUNTIF(O79:BB79,5)","v":2},{"$f":"COUNTIF(O79:BB79,10)","v":0},null,{"$f":"$D$9*$D$8","v":40},{"$f":"SUM(BF79:BK79)","v":40},{"$f":"BN79/BM79","v":1},{"$f":"BK79/BN79","v":0}]
[485,"JTL Chatto",30,null,62,153963,76,"John Chatto","Gas","N",2,"Chesham","10:39:00",{"$f":"M80+TIME(7,0,0)","v":"17:39:00"},0,0,0,0,2,3,3,0,0,3,3,3,0,1,1,0,0,3,1,3,0,3,3,0,0,1,5,3,0,0,0,3,1,2,0,5,3,3,0,3,null,null,{"$f":"SUM(O80:BD80)","v":61},{"$f":"COUNTIF(O80:BB80,0)","v":17},{"$f":"COUNTIF(O80:BB80,1)","v":5},{"$f":"COUNTIF(O80:BB80,2)","v":2},{"$f":"COUNTIF(O80:BB80,3)","v":14},{"$f":"COUNTIF(O80:BB80,5)","v":2},{"$f":"COUNTIF(O80:BB80,10)","v":0},null,{"$f":"$D$9*$D$8","v":40},{"$f":"SUM(BF80:BK80)","v":40},{"$f":"BN80/BM80","v":1},{"$f":"BK80/BN80","v":0}]
[52,"L Armstrong",30,null,69,124986,89,"Richard Armstrong","Bet","N",2,"Silsden","10:45:30",{"$f":"M81+TIME(7,0,0)","v":"17:45:30"},1,0,0,2,3,5,3,1,3,1,3,1,2,1,3,1,5,0,0,3,0,0,3,0,0,0,0,5,0,1,0,3,1,0,0,3,2,3,0,5,null,null,{"$f":"SUM(O81:BD81)","v":64},{"$f":"COUNTIF(O81:BB81,0)","v":15},{"$f":"COUNTIF(O81:BB81,1)","v":8},{"$f":"COUNTIF(O81:BB81,2)","v":3},{"$f":"COUNTIF(O81:BB81,3)","v":10},{"$f":"COUNTIF(O81:BB81,5)","v":4},{"$f":"COUNTIF(O81:BB81,10)","v":0},null,{"$f":"$D$9*$D$8","v":40},{"$f":"SUM(BF81:BK81)","v":40},{"$f":"BN81/BM81","v":1},{"$f":"BK81/BN81","v":0}]
[16,"N Farrow",30,null,20,25543,12,"Anthony Farrow","Mon","N",2,"Brierfield","10:06:30",{"$f":"M82+TIME(7,0,0)","v":"17:06:30"},3,0,1,3,1,3,3,1,1,2,3,3,1,0,3,2,0,1,5,3,1,0,2,0,0,2,0,0,1,0,0,3,0,2,0,5,1,0,3,5,null,null,{"$f":"SUM(O82:BD82)","v":64},{"$f":"COUNTIF(O82:BB82,0)","v":13},{"$f":"COUNTIF(O82:BB82,1)","v":9},{"$f":"COUNTIF(O82:BB82,2)","v":5},{"$f":"COUNTIF(O82:BB82,3)","v":10},{"$f":"COUNTIF(O82:BB82,5)","v":3},{"$f":"COUNTIF(O82:BB82,10)","v":0},null,{"$f":"$D$9*$D$8","v":40},{"$f":"SUM(BF82:BK82)","v":40},{"$f":"BN82/BM82","v":1},{"$f":"BK82/BN82","v":0}]
[".",null,null,null,72,146405,5,"Zack Hubery","She","N",2,"Spennymoor","10:03:00",{"$f":"M83+TIME(7,0,0)","v":"17:03:00"},2,0,1,3,3,3,3,3,2,3,3,1,1,1,3,0,5,1,3,3,1,1,2,5,0,0,5,3,1,0,0,3,3,0,0,0,0,1,1,3,null,null,{"$f":"SUM(O83:BD83)","v":73},{"$f":"COUNTIF(O83:BB83,0)","v":10},{"$f":"COUNTIF(O83:BB83,1)","v":10},{"$f":"COUNTIF(O83:BB83,2)","v":3},{"$f":"COUNTIF(O83:BB83,3)","v":14},{"$f":"COUNTIF(O83:BB83,5)","v":3},{"$f":"COUNTIF(O83:BB83,10)","v":0},null,{"$f":"$D$9*$D$8","v":40},{"$f":"SUM(BF83:BK83)","v":40},{"$f":"BN83/BM83","v":1},{"$f":"BK83/BN83","v":0}]
[179,"Mr SJ Smith",60,null,56,122283,1,"Stephen Smith","Gas","N",2,"Barnoldswick","10:01:00",{"$f":"M84+TIME(7,0,0)","v":"17:01:00"},1,0,1,3,2,2,3,0,3,2,1,3,5,0,3,0,1,1,3,3,3,1,3,0,0,5,5,0,0,0,0,3,2,5,0,2,1,2,0,5,null,null,{"$f":"SUM(O84:BD84)","v":74},{"$f":"COUNTIF(O84:BB84,0)","v":12},{"$f":"COUNTIF(O84:BB84,1)","v":7},{"$f":"COUNTIF(O84:BB84,2)","v":6},{"$f":"COUNTIF(O84:BB84,3)","v":10},{"$f":"COUNTIF(O84:BB84,5)","v":5},{"$f":"COUNTIF(O84:BB84,10)","v":0},null,{"$f":"$D$9*$D$8","v":40},{"$f":"SUM(BF84:BK84)","v":40},{"$f":"BN84/BM84","v":1},{"$f":"BK84/BN84","v":0}]
[100047,"AG Frith",30,null,16,103690,7,"Adam Frith","Gas","N",2,"Horncastle","10:04:00",{"$f":"M85+TIME(7,0,0)","v":"17:04:00"},3,0,3,5,3,5,3,1,3,1,1,3,3,0,3,1,5,1,1,5,0,3,0,0,0,0,0,3,5,0,0,1,3,0,0,2,0,5,0,5,null,null,{"$f":"SUM(O85:BD85)","v":77},{"$f":"COUNTIF(O85:BB85,0)","v":14},{"$f":"COUNTIF(O85:BB85,1)","v":7},{"$f":"COUNTIF(O85:BB85,2)","v":1},{"$f":"COUNTIF(O85:BB85,3)","v":11},{"$f":"COUNTIF(O85:BB85,5)","v":7},{"$f":"COUNTIF(O85:BB85,10)","v":0},null,{"$f":"$D$9*$D$8","v":40},{"$f":"SUM(BF85:BK85)","v":40},{"$f":"BN85/BM85","v":1},{"$f":"BK85/BN85","v":0}]
[100136,"Mr N cockerham",30,null,3,99444,73,"Nigel Cockerham","She","N",2,"Castleford","10:37:30",{"$f":"M86+TIME(7,0,0)","v":"17:37:30"},0,0,2,2,3,5,5,5,0,3,0,3,0,1,2,1,3,3,1,3,0,3,3,0,0,0,2,3,1,0,0,3,1,0,5,3,0,3,2,3,3,null,{"$f":"SUM(O86:BD86)","v":77},{"$f":"COUNTIF(O86:BB86,0)","v":13},{"$f":"COUNTIF(O86:BB86,1)","v":5},{"$f":"COUNTIF(O86:BB86,2)","v":5},{"$f":"COUNTIF(O86:BB86,3)","v":13},{"$f":"COUNTIF(O86:BB86,5)","v":4},{"$f":"COUNTIF(O86:BB86,10)","v":0},null,{"$f":"$D$9*$D$8","v":40},{"$f":"SUM(BF86:BK86)","v":40},{"$f":"BN86/BM86","v":1},{"$f":"BK86/BN86","v":0}]
[100198,"JR Spensley",30,null,50,154960,86,"John Spensley","Gas","N",2,"Skipton","10:44:00",{"$f":"M87+TIME(7,0,0)","v":"17:44:00"},1,0,0,2,3,3,3,1,3,3,1,0,3,1,5,2,3,0,1,5,1,2,3,0,0,2,5,2,1,0,0,3,1,0,0,0,3,5,5,5,null,null,{"$f":"SUM(O87:BD87)","v":78},{"$f":"COUNTIF(O87:BB87,0)","v":11},{"$f":"COUNTIF(O87:BB87,1)","v":8},{"$f":"COUNTIF(O87:BB87,2)","v":5},{"$f":"COUNTIF(O87:BB87,3)","v":10},{"$f":"COUNTIF(O87:BB87,5)","v":6},{"$f":"COUNTIF(O87:BB87,10)","v":0},null,{"$f":"$D$9*$D$8","v":40},{"$f":"SUM(BF87:BK87)","v":40},{"$f":"BN87/BM87","v":1},{"$f":"BK87/BN87","v":0}]
[100036,"AJ West",30,null,10,86944,10,"Adam West","Bet","N",2,"Messingham","10:05:30",{"$f":"M88+TIME(7,0,0)","v":"17:05:30"},1,0,2,3,3,5,5,1,0,3,3,3,1,1,5,1,2,1,0,3,0,2,5,0,0,2,1,5,0,2,0,5,2,0,2,3,2,2,1,5,null,null,{"$f":"SUM(O88:BD88)","v":82},{"$f":"COUNTIF(O88:BB88,0)","v":9},{"$f":"COUNTIF(O88:BB88,1)","v":8},{"$f":"COUNTIF(O88:BB88,2)","v":9},{"$f":"COUNTIF(O88:BB88,3)","v":7},{"$f":"COUNTIF(O88:BB88,5)","v":7},{"$f":"COUNTIF(O88:BB88,10)","v":0},null,{"$f":"$D$9*$D$8","v":40},{"$f":"SUM(BF88:BK88)","v":40},{"$f":"BN88/BM88","v":1},{"$f":"BK88/BN88","v":0}]
[null,"PAY PAL",30,null,89,96188,27,"Andrew Washington","Bet","N",2,"Huddersfield","10:14:00",{"$f":"M89+TIME(7,0,0)","v":"17:14:00"},3,0,2,5,5,2,3,3,1,5,0,2,3,2,3,3,1,5,3,5,0,1,3,1,0,0,5,1,0,0,0,0,1,0,0,5,1,3,2,5,null,null,{"$f":"SUM(O89:BD89)","v":84},{"$f":"COUNTIF(O89:BB89,0)","v":11},{"$f":"COUNTIF(O89:BB89,1)","v":7},{"$f":"COUNTIF(O89:BB89,2)","v":5},{"$f":"COUNTIF(O89:BB89,3)","v":9},{"$f":"COUNTIF(O89:BB89,5)","v":8},{"$f":"COUNTIF(O89:BB89,10)","v":0},null,{"$f":"$D$9*$D$8","v":40},{"$f":"SUM(BF89:BK89)","v":40},{"$f":"BN89/BM89","v":1},{"$f":"BK89/BN89","v":0}]
[100127,"RE Thornton",30,null,59,79834,75,"Richard Thornton","Gas","N",2,"Leeds","10:38:30",{"$f":"M90+TIME(7,0,0)","v":"17:38:30"},0,0,3,3,1,3,5,3,0,3,3,3,3,2,3,2,3,3,2,5,1,2,3,1,1,5,1,3,2,5,0,3,0,0,0,3,3,3,3,5,null,null,{"$f":"SUM(O90:BD90)","v":94},{"$f":"COUNTIF(O90:BB90,0)","v":7},{"$f":"COUNTIF(O90:BB90,1)","v":5},{"$f":"COUNTIF(O90:BB90,2)","v":5},{"$f":"COUNTIF(O90:BB90,3)","v":18},{"$f":"COUNTIF(O90:BB90,5)","v":5},{"$f":"COUNTIF(O90:BB90,10)","v":0},null,{"$f":"$D$9*$D$8","v":40},{"$f":"SUM(BF90:BK90)","v":40},{"$f":"BN90/BM90","v":1},{"$f":"BK90/BN90","v":0}]
[100770,"MR Whelan",30,null,51,77960,6,"Mark Whelan","Gas","N",2,"Aberford","10:03:30",{"$f":"M91+TIME(7,0,0)","v":"17:03:30"},1,0,1,3,3,3,5,1,3,3,5,3,5,2,3,3,5,2,3,5,3,3,5,3,0,0,2,3,3,3,0,3,2,2,0,1,1,3,3,5,null,null,{"$f":"SUM(O91:BD91)","v":104},{"$f":"COUNTIF(O91:BB91,0)","v":5},{"$f":"COUNTIF(O91:BB91,1)","v":5},{"$f":"COUNTIF(O91:BB91,2)","v":5},{"$f":"COUNTIF(O91:BB91,3)","v":18},{"$f":"COUNTIF(O91:BB91,5)","v":7},{"$f":"COUNTIF(O91:BB91,10)","v":0},null,{"$f":"$D$9*$D$8","v":40},{"$f":"SUM(BF91:BK91)","v":40},{"$f":"BN91/BM91","v":1},{"$f":"BK91/BN91","v":0}]
[100209,"S Hodson",30,null,54,103378,65,"Simon Hodson","She","N",2,"Waddington","10:33:00",{"$f":"M92+TIME(7,0,0)","v":"17:33:00"},3,0,3,5,3,5,5,3,2,3,3,3,5,3,3,3,3,3,3,5,2,3,3,3,0,0,3,5,0,3,0,3,2,0,0,3,2,5,3,5,null,null,{"$f":"SUM(O92:BD92)","v":111},{"$f":"COUNTIF(O92:BB92,0)","v":7},{"$f":"COUNTIF(O92:BB92,1)","v":0},{"$f":"COUNTIF(O92:BB92,2)","v":4},{"$f":"COUNTIF(O92:BB92,3)","v":21},{"$f":"COUNTIF(O92:BB92,5)","v":8},{"$f":"COUNTIF(O92:BB92,10)","v":0},null,{"$f":"$D$9*$D$8","v":40},{"$f":"SUM(BF92:BK92)","v":40},{"$f":"BN92/BM92","v":1},{"$f":"BK92/BN92","v":0}]
[".",null,null,null,64,64911,78,"Richard Sanderson","Gas","N",2,"Sutton on Forest","10:40:00",{"$f":"M93+TIME(7,0,0)","v":"17:40:00"},1,0,3,3,1,3,5,5,3,5,3,3,5,3,3,3,3,5,5,3,0,3,2,3,1,5,2,3,2,3,0,3,3,3,5,3,3,5,3,5,null,null,{"$f":"SUM(O93:BD93)","v":122},{"$f":"COUNTIF(O93:BB93,0)","v":3},{"$f":"COUNTIF(O93:BB93,1)","v":3},{"$f":"COUNTIF(O93:BB93,2)","v":3},{"$f":"COUNTIF(O93:BB93,3)","v":21},{"$f":"COUNTIF(O93:BB93,5)","v":10},{"$f":"COUNTIF(O93:BB93,10)","v":0},null,{"$f":"$D$9*$D$8","v":40},{"$f":"SUM(BF93:BK93)","v":40},{"$f":"BN93/BM93","v":1},{"$f":"BK93/BN93","v":0}]
[".",null,null,null,57,166345,2,"Lee Marsden","She","N",2,"Barnoldswick","10:01:30",{"$f":"M94+TIME(7,0,0)","v":"17:01:30"},null,null,null,null,null,null,null,null,null,null,null,null,null,null,null,null,null,null,null,null,null,null,null,null,null,null,null,null,null,null,null,null,null,null,null,null,null,null,null,null,null,null,"NS",{"$f":"COUNTIF(O94:BB94,0)","v":0},{"$f":"COUNTIF(O94:BB94,1)","v":0},{"$f":"COUNTIF(O94:BB94,2)","v":0},{"$f":"COUNTIF(O94:BB94,3)","v":0},{"$f":"COUNTIF(O94:BB94,5)","v":0},{"$f":"COUNTIF(O94:BB94,10)","v":0},null,{"$f":"$D$9*$D$8","v":40},{"$f":"SUM(BF94:BK94)","v":0},{"$f":"BN94/BM94","v":0},{"$f":"BK94/BN94","v":{"$error":"#DIV/0!"}}]
[".",null,null,null,24,1947,16,"Peter McCanna","Hon","N",2,"Leigh","10:08:30",{"$f":"M95+TIME(7,0,0)","v":"17:08:30"},null,null,null,null,null,null,null,null,null,null,null,null,null,null,null,null,null,null,null,null,null,null,null,null,null,null,null,null,null,null,null,null,null,null,null,null,null,null,null,null,null,null,"NS",{"$f":"COUNTIF(O95:BB95,0)","v":0},{"$f":"COUNTIF(O95:BB95,1)","v":0},{"$f":"COUNTIF(O95:BB95,2)","v":0},{"$f":"COUNTIF(O95:BB95,3)","v":0},{"$f":"COUNTIF(O95:BB95,5)","v":0},{"$f":"COUNTIF(O95:BB95,10)","v":0},null,{"$f":"$D$9*$D$8","v":40},{"$f":"SUM(BF95:BK95)","v":0},{"$f":"BN95/BM95","v":0},{"$f":"BK95/BN95","v":{"$error":"#DIV/0!"}}]
[4,"B Quinlan",30,null,48,157076,33,"Brendon Quinlan","Bet","N",2,"Guiseley","10:17:00",{"$f":"M96+TIME(7,0,0)","v":"17:17:00"},null,null,null,null,null,null,null,null,null,null,null,null,null,null,null,null,null,null,null,null,null,null,null,null,null,null,null,null,null,null,null,null,null,null,null,null,null,null,null,null,null,null,"NS",{"$f":"COUNTIF(O96:BB96,0)","v":0},{"$f":"COUNTIF(O96:BB96,1)","v":0},{"$f":"COUNTIF(O96:BB96,2)","v":0},{"$f":"COUNTIF(O96:BB96,3)","v":0},{"$f":"COUNTIF(O96:BB96,5)","v":0},{"$f":"COUNTIF(O96:BB96,10)","v":0},null,{"$f":"$D$9*$D$8","v":40},{"$f":"SUM(BF96:BK96)","v":0},{"$f":"BN96/BM96","v":0},{"$f":"BK96/BN96","v":{"$error":"#DIV/0!"}}]
[100134,"E Payne",30,null,45,140012,36,"Ian payne","Gas","N",2,"Clitheroe","10:18:30",{"$f":"M97+TIME(7,0,0)","v":"17:18:30"},null,null,null,null,null,null,null,null,null,null,null,null,null,null,null,null,null,null,null,null,null,null,null,null,null,null,null,null,null,null,null,null,null,null,null,null,null,null,null,null,null,null,"NS",{"$f":"COUNTIF(O97:BB97,0)","v":0},{"$f":"COUNTIF(O97:BB97,1)","v":0},{"$f":"COUNTIF(O97:BB97,2)","v":0},{"$f":"COUNTIF(O97:BB97,3)","v":0},{"$f":"COUNTIF(O97:BB97,5)","v":0},{"$f":"COUNTIF(O97:BB97,10)","v":0},null,{"$f":"$D$9*$D$8","v":40},{"$f":"SUM(BF97:BK97)","v":0},{"$f":"BN97/BM97","v":0},{"$f":"BK97/BN97","v":{"$error":"#DIV/0!"}}]
[".",null,null,null,40,20610,68,"Patrick Plant","Gas","N",2,"Mow Cop","10:34:30",{"$f":"M98+TIME(7,0,0)","v":"17:34:30"},null,null,null,null,null,null,null,null,null,null,null,null,null,null,null,null,null,null,null,null,null,null,null,null,null,null,null,null,null,null,null,null,null,null,null,null,null,null,null,null,null,null,"NS",{"$f":"COUNTIF(O98:BB98,0)","v":0},{"$f":"COUNTIF(O98:BB98,1)","v":0},{"$f":"COUNTIF(O98:BB98,2)","v":0},{"$f":"COUNTIF(O98:BB98,3)","v":0},{"$f":"COUNTIF(O98:BB98,5)","v":0},{"$f":"COUNTIF(O98:BB98,10)","v":0},null,{"$f":"$D$9*$D$8","v":40},{"$f":"SUM(BF98:BK98)","v":0},{"$f":"BN98/BM98","v":0},{"$f":"BK98/BN98","v":{"$error":"#DIV/0!"}}]
[922,"DM Holmes",30,null,49,106011,85,"Darren Holmes","4RT","N",2,"Oakworth","10:43:30",{"$f":"M99+TIME(7,0,0)","v":"17:43:30"},null,null,null,null,null,null,null,null,null,null,null,null,null,null,null,null,null,null,null,null,null,null,null,null,null,null,null,null,null,null,null,null,null,null,null,null,null,null,null,null,null,null,"ns",{"$f":"COUNTIF(O99:BB99,0)","v":0},{"$f":"COUNTIF(O99:BB99,1)","v":0},{"$f":"COUNTIF(O99:BB99,2)","v":0},{"$f":"COUNTIF(O99:BB99,3)","v":0},{"$f":"COUNTIF(O99:BB99,5)","v":0},{"$f":"COUNTIF(O99:BB99,10)","v":0},null,{"$f":"$D$9*$D$8","v":40},{"$f":"SUM(BF99:BK99)","v":0},{"$f":"BN99/BM99","v":0},{"$f":"BK99/BN99","v":{"$error":"#DIV/0!"}}]
[22003,"G tales",30,null,58,20600,87,"Graham Tales","Mon","I",2,"Ilkley","10:44:30",{"$f":"M100+TIME(7,0,0)","v":"17:44:30"},null,null,null,null,null,null,null,null,null,null,null,null,null,null,null,null,null,null,null,null,null,null,null,null,null,null,null,null,null,null,null,null,null,null,null,null,null,null,null,null,null,null,"ns",{"$f":"COUNTIF(O100:BB100,0)","v":0},{"$f":"COUNTIF(O100:BB100,1)","v":0},{"$f":"COUNTIF(O100:BB100,2)","v":0},{"$f":"COUNTIF(O100:BB100,3)","v":0},{"$f":"COUNTIF(O100:BB100,5)","v":0},{"$f":"COUNTIF(O100:BB100,10)","v":0},null,{"$f":"$D$9*$D$8","v":40},{"$f":"SUM(BF100:BK100)","v":0},{"$f":"BN100/BM100","v":0},{"$f":"BK100/BN100","v":{"$error":"#DIV/0!"}}]
[100921,"David Fallows",30,null,87,94526,91,"David Fallows","Gas","N",2,"Bolton","10:46:30",{"$f":"M101+TIME(7,0,0)","v":"17:46:30"},null,null,null,null,null,null,null,null,null,null,null,null,null,null,null,null,null,null,null,null,null,null,null,null,null,null,null,null,null,null,null,null,null,null,null,null,null,null,null,null,null,null,"ns",{"$f":"COUNTIF(O101:BB101,0)","v":0},{"$f":"COUNTIF(O101:BB101,1)","v":0},{"$f":"COUNTIF(O101:BB101,2)","v":0},{"$f":"COUNTIF(O101:BB101,3)","v":0},{"$f":"COUNTIF(O101:BB101,5)","v":0},{"$f":"COUNTIF(O101:BB101,10)","v":0},null,{"$f":"$D$9*$D$8","v":40},{"$f":"SUM(BF101:BK101)","v":0},{"$f":"BN101/BM101","v":0},{"$f":"BK101/BN101","v":{"$error":"#DIV/0!"}}]
[100173,"DM Coulson",30,null,9,77921,82,"Mark Coulson","Gas","E",2,"York","10:42:00",{"$f":"M102+TIME(7,0,0)","v":"17:42:00"},0,0,0,0,0,3,3,0,0,0,0,2,1,3,null,null,null,null,null,null,null,null,null,null,null,null,null,null,null,null,null,null,null,null,null,null,null,null,null,null,null,null,"RET",{"$f":"COUNTIF(O102:BB102,0)","v":9},{"$f":"COUNTIF(O102:BB102,1)","v":1},{"$f":"COUNTIF(O102:BB102,2)","v":1},{"$f":"COUNTIF(O102:BB102,3)","v":3},{"$f":"COUNTIF(O102:BB102,5)","v":0},{"$f":"COUNTIF(O102:BB102,10)","v":0},null,{"$f":"$D$9*$D$8","v":40},{"$f":"SUM(BF102:BK102)","v":14},{"$f":"BN102/BM102","v":0.35},{"$f":"BK102/BN102","v":0}]
[422456,"Mayne |Gas heatin",30,null,11,141824,11,"Darren Mayne","Gas","N",2,"Grimsby","10:06:00",{"$f":"M103+TIME(7,0,0)","v":"17:06:00"},3,0,3,5,3,5,5,3,1,5,1,3,0,3,5,3,5,5,3,5,0,3,3,1,1,5,2,5,3,0,0,3,5,5,0,null,null,null,null,null,1,null,"rET",{"$f":"COUNTIF(O103:BB103,0)","v":6},{"$f":"COUNTIF(O103:BB103,1)","v":4},{"$f":"COUNTIF(O103:BB103,2)","v":1},{"$f":"COUNTIF(O103:BB103,3)","v":12},{"$f":"COUNTIF(O103:BB103,5)","v":12},{"$f":"COUNTIF(O103:BB103,10)","v":0},null,{"$f":"$D$9*$D$8","v":40},{"$f":"SUM(BF103:BK103)","v":35},{"$f":"BN103/BM103","v":0.875},{"$f":"BK103/BN103","v":0}]
[100175,"DM Coulson",30,null,8,108669,81,"David Coulson","Gas","N",2,"York","10:41:30",{"$f":"M104+TIME(7,0,0)","v":"17:41:30"},0,0,1,3,3,2,5,0,0,3,3,3,0,3,null,null,null,null,null,null,null,null,null,null,null,null,null,null,null,null,null,null,null,null,null,null,null,null,null,null,null,null,"RET",{"$f":"COUNTIF(O104:BB104,0)","v":5},{"$f":"COUNTIF(O104:BB104,1)","v":1},{"$f":"COUNTIF(O104:BB104,2)","v":1},{"$f":"COUNTIF(O104:BB104,3)","v":6},{"$f":"COUNTIF(O104:BB104,5)","v":1},{"$f":"COUNTIF(O104:BB104,10)","v":0},null,{"$f":"$D$9*$D$8","v":40},{"$f":"SUM(BF104:BK104)","v":14},{"$f":"BN104/BM104","v":0.35},{"$f":"BK104/BN104","v":0}]
[".","PAY PAL 28.88",57.76,null,74,55969,25,"Colin Chapman","She","N",2,"Maltby","10:13:00",{"$f":"M105+TIME(7,0,0)","v":"17:13:00"},2,0,0,3,2,3,3,0,0,2,1,1,2,3,null,null,null,null,null,null,null,null,null,null,null,null,null,null,null,null,null,null,null,null,null,null,null,null,null,null,2,null,"RET",{"$f":"COUNTIF(O105:BB105,0)","v":4},{"$f":"COUNTIF(O105:BB105,1)","v":2},{"$f":"COUNTIF(O105:BB105,2)","v":4},{"$f":"COUNTIF(O105:BB105,3)","v":4},{"$f":"COUNTIF(O105:BB105,5)","v":0},{"$f":"COUNTIF(O105:BB105,10)","v":0},null,{"$f":"$D$9*$D$8","v":40},{"$f":"SUM(BF105:BK105)","v":14},{"$f":"BN105/BM105","v":0.35},{"$f":"BK105/BN105","v":0}]
[".",null,null,null,43,105434,70,"Richard Whalley","Gas","N",2,"Bignall End","10:36:00",{"$f":"M106+TIME(7,0,0)","v":"17:36:00"},0,1,1,3,3,2,3,3,1,1,3,3,0,2,null,null,null,null,null,null,null,null,null,null,null,null,null,null,null,null,null,null,null,null,null,null,null,null,null,null,null,null,"RET",{"$f":"COUNTIF(O106:BB106,0)","v":2},{"$f":"COUNTIF(O106:BB106,1)","v":4},{"$f":"COUNTIF(O106:BB106,2)","v":2},{"$f":"COUNTIF(O106:BB106,3)","v":6},{"$f":"COUNTIF(O106:BB106,5)","v":0},{"$f":"COUNTIF(O106:BB106,10)","v":0},null,{"$f":"$D$9*$D$8","v":40},{"$f":"SUM(BF106:BK106)","v":14},{"$f":"BN106/BM106","v":0.35},{"$f":"BK106/BN106","v":0}]
[null,null,null,null,null,null,null,null,null,null,null,null,null,null,null,null,null,null,null,null,null,null,null,null,null,null,null,null,null,null,null,null,null,null,null,null,null,null,null,null,null,null,null,null,null,null,null,null,null,null,null,null,null,null,null,null,{"$f":"SUM(O107:BD107)","v":0},{"$f":"COUNTIF(O107:BB107,0)","v":0},{"$f":"COUNTIF(O107:BB107,1)","v":0},{"$f":"COUNTIF(O107:BB107,2)","v":0},{"$f":"COUNTIF(O107:BB107,3)","v":0},{"$f":"COUNTIF(O107:BB107,5)","v":0},{"$f":"COUNTIF(O107:BB107,10)","v":0},null,{"$f":"$D$9*$D$8","v":40},{"$f":"SUM(BF107:BK107)","v":0},{"$f":"BN107/BM107","v":0},{"$f":"BK107/BN107","v":{"$error":"#DIV/0!"}}]
[100079,"C Stelling",30,null,47,65440,23,"Chris Stelling","Hon","N",2,"Gilstead","10:12:00",{"$f":"M108+TIME(7,0,0)","v":"17:12:00"},null,null,null,null,null,null,null,null,null,null,null,null,null,null,null,null,null,null,null,null,null,null,null,null,null,null,null,null,null,null,null,null,null,null,null,null,null,null,null,null,null,null,{"$f":"SUM(O108:BD108)","v":0},{"$f":"COUNTIF(O108:BB108,0)","v":0},{"$f":"COUNTIF(O108:BB108,1)","v":0},{"$f":"COUNTIF(O108:BB108,2)","v":0},{"$f":"COUNTIF(O108:BB108,3)","v":0},{"$f":"COUNTIF(O108:BB108,5)","v":0},{"$f":"COUNTIF(O108:BB108,10)","v":0},null,{"$f":"$D$9*$D$8","v":40},{"$f":"SUM(BF108:BK108)","v":0},{"$f":"BN108/BM108","v":0},{"$f":"BK108/BN108","v":{"$error":"#DIV/0!"}}]
[]
[]
[]
[]
[]
[null,null,null,null,null,null,null,null,null,null,null,null,null,null,null,null,null,null,null,null,null,null,null,null,null,null,null,null,null,null,null,null,null,null,null,null,null,null,null,null,null,null,null,null,null,null,null,null,null,null,null,null,null,null,null,null,0,0,0,0,0,0,0,null,40,0,0,{"$error":"#DIV/0!"}]
[null,null,null,null,null,null,null,null,null,null,null,null,null,0,{"$f":"COUNTIF(O15:O114,0)","v":43},65,39,22,13,15,10,42,35,26,30,26,41,20,25,32,38,37,36,1,49,18,24,56,61,55,50,41,42,58,72,14,42,50,68,26,36,11,35,12]
[null,null,null,null,null,null,null,null,null,null,null,null,null,1,{"$f":"COUNTIF(O15:O114,1)","v":28},9,24,12,17,17,11,17,25,16,22,17,10,25,9,21,14,17,12,11,12,18,19,7,9,6,8,8,10,6,0,21,15,7,1,25,13,11,19,4]
[null,null,null,null,null,null,null,null,null,null,null,null,null,2,{"$f":"COUNTIF(O15:O114,2)","v":5},2,6,12,16,13,6,5,6,15,7,7,7,12,6,11,7,6,10,10,1,12,12,2,1,5,4,6,6,1,0,7,7,6,1,8,9,10,7,2]
[null,null,null,null,null,null,null,null,null,null,null,null,null,3,{"$f":"COUNTIF(O15:O114,3)","v":7},2,13,29,32,28,40,14,12,16,18,29,12,18,26,7,7,7,11,36,6,14,12,4,0,0,3,9,9,5,0,24,7,7,0,7,6,27,9,20]
[null,null,null,null,null,null,null,null,null,null,null,null,null,5,{"$f":"COUNTIF(O15:O114,5)","v":0},5,1,7,5,9,15,4,4,6,2,0,6,1,7,2,7,6,4,14,3,9,5,3,1,6,7,8,5,2,0,5,1,2,2,5,7,12,1,33]
[null,null,null,null,null,null,null,null,null,null,null,null,null,10,{"$f":"COUNTIF(O15:O114,10)","v":0},0,0,0,0,0,0,0,0,1,0,0,0,0,0,0,0,0,0,0,0,0,0,0,0,0,0,0,0,0,0,0,0,0,0,0,0,0,0,0]